| Back to Multiple platform build/check report for BioC 3.8 |
|
This page was generated on 2019-04-13 11:26:21 -0400 (Sat, 13 Apr 2019).
| Package 217/1649 | Hostname | OS / Arch | INSTALL | BUILD | CHECK | BUILD BIN | ||||||
| cellity 1.10.1 Tomislav Ilicic
| malbec1 | Linux (Ubuntu 16.04.6 LTS) / x86_64 | OK | OK | OK | |||||||
| tokay1 | Windows Server 2012 R2 Standard / x64 | [ OK ] | OK | OK | OK | |||||||
| merida1 | OS X 10.11.6 El Capitan / x86_64 | OK | OK | OK | OK |
| Package: cellity |
| Version: 1.10.1 |
| Command: C:\cygwin\bin\curl.exe -O https://malbec1.bioconductor.org/BBS/3.8/bioc/src/contrib/cellity_1.10.1.tar.gz && rm -rf cellity.buildbin-libdir && mkdir cellity.buildbin-libdir && C:\Users\biocbuild\bbs-3.8-bioc\R\bin\R.exe CMD INSTALL --merge-multiarch --build --library=cellity.buildbin-libdir cellity_1.10.1.tar.gz && C:\Users\biocbuild\bbs-3.8-bioc\R\bin\R.exe CMD INSTALL cellity_1.10.1.zip && rm cellity_1.10.1.tar.gz cellity_1.10.1.zip |
| StartedAt: 2019-04-12 20:31:13 -0400 (Fri, 12 Apr 2019) |
| EndedAt: 2019-04-12 20:31:58 -0400 (Fri, 12 Apr 2019) |
| EllapsedTime: 45.7 seconds |
| RetCode: 0 |
| Status: OK |
##############################################################################
##############################################################################
###
### Running command:
###
### C:\cygwin\bin\curl.exe -O https://malbec1.bioconductor.org/BBS/3.8/bioc/src/contrib/cellity_1.10.1.tar.gz && rm -rf cellity.buildbin-libdir && mkdir cellity.buildbin-libdir && C:\Users\biocbuild\bbs-3.8-bioc\R\bin\R.exe CMD INSTALL --merge-multiarch --build --library=cellity.buildbin-libdir cellity_1.10.1.tar.gz && C:\Users\biocbuild\bbs-3.8-bioc\R\bin\R.exe CMD INSTALL cellity_1.10.1.zip && rm cellity_1.10.1.tar.gz cellity_1.10.1.zip
###
##############################################################################
##############################################################################
% Total % Received % Xferd Average Speed Time Time Time Current
Dload Upload Total Spent Left Speed
0 0 0 0 0 0 0 0 --:--:-- --:--:-- --:--:-- 0
100 824k 100 824k 0 0 16.9M 0 --:--:-- --:--:-- --:--:-- 18.7M
install for i386
* installing *source* package 'cellity' ...
** R
** data
*** moving datasets to lazyload DB
** inst
** byte-compile and prepare package for lazy loading
** help
*** installing help indices
converting help for package 'cellity'
finding HTML links ... done
assess_cell_quality_PCA html
assess_cell_quality_SVM html
cellity-package html
extra_human_genes html
extra_mouse_genes html
extract_features html
feature_generation html
feature_info html
mES1_features html
mES1_labels html
multiplot html
normalise_by_factor html
param_mES_all html
param_mES_common html
plot_pca html
sample_counts html
sample_stats html
simple_cap html
sum_prop html
training_mES_features html
training_mES_labels html
uni.plot html
** building package indices
** installing vignettes
** testing if installed package can be loaded
In R CMD INSTALL
install for x64
* installing *source* package 'cellity' ...
** testing if installed package can be loaded
* MD5 sums
packaged installation of 'cellity' as cellity_1.10.1.zip
* DONE (cellity)
In R CMD INSTALL
In R CMD INSTALL
* installing to library 'C:/Users/biocbuild/bbs-3.8-bioc/R/library'
package 'cellity' successfully unpacked and MD5 sums checked
In R CMD INSTALL