| Back to Multiple platform build/check report for BioC 3.8 |
|
This page was generated on 2019-04-16 12:00:38 -0400 (Tue, 16 Apr 2019).
| Package 214/1649 | Hostname | OS / Arch | INSTALL | BUILD | CHECK | BUILD BIN | ||||||
| cellbaseR 1.6.1 Mohammed OE Abdallah
| malbec1 | Linux (Ubuntu 16.04.6 LTS) / x86_64 | OK | OK | ERROR | |||||||
| merida1 | OS X 10.11.6 El Capitan / x86_64 | OK | OK | [ OK ] | OK |
| Package: cellbaseR |
| Version: 1.6.1 |
| Command: /Library/Frameworks/R.framework/Versions/Current/Resources/bin/R CMD check --install=check:cellbaseR.install-out.txt --library=/Library/Frameworks/R.framework/Versions/Current/Resources/library --no-vignettes --timings cellbaseR_1.6.1.tar.gz |
| StartedAt: 2019-04-15 22:49:30 -0400 (Mon, 15 Apr 2019) |
| EndedAt: 2019-04-15 22:52:58 -0400 (Mon, 15 Apr 2019) |
| EllapsedTime: 208.0 seconds |
| RetCode: 0 |
| Status: OK |
| CheckDir: cellbaseR.Rcheck |
| Warnings: 0 |
##############################################################################
##############################################################################
###
### Running command:
###
### /Library/Frameworks/R.framework/Versions/Current/Resources/bin/R CMD check --install=check:cellbaseR.install-out.txt --library=/Library/Frameworks/R.framework/Versions/Current/Resources/library --no-vignettes --timings cellbaseR_1.6.1.tar.gz
###
##############################################################################
##############################################################################
* using log directory ‘/Users/biocbuild/bbs-3.8-bioc/meat/cellbaseR.Rcheck’
* using R version 3.5.3 (2019-03-11)
* using platform: x86_64-apple-darwin15.6.0 (64-bit)
* using session charset: UTF-8
* using option ‘--no-vignettes’
* checking for file ‘cellbaseR/DESCRIPTION’ ... OK
* checking extension type ... Package
* this is package ‘cellbaseR’ version ‘1.6.1’
* checking package namespace information ... OK
* checking package dependencies ... OK
* checking if this is a source package ... OK
* checking if there is a namespace ... OK
* checking for hidden files and directories ... OK
* checking for portable file names ... OK
* checking for sufficient/correct file permissions ... OK
* checking whether package ‘cellbaseR’ can be installed ... OK
* checking installed package size ... OK
* checking package directory ... OK
* checking ‘build’ directory ... OK
* checking DESCRIPTION meta-information ... OK
* checking top-level files ... OK
* checking for left-over files ... OK
* checking index information ... OK
* checking package subdirectories ... OK
* checking R files for non-ASCII characters ... OK
* checking R files for syntax errors ... OK
* checking whether the package can be loaded ... OK
* checking whether the package can be loaded with stated dependencies ... OK
* checking whether the package can be unloaded cleanly ... OK
* checking whether the namespace can be loaded with stated dependencies ... OK
* checking whether the namespace can be unloaded cleanly ... OK
* checking dependencies in R code ... OK
* checking S3 generic/method consistency ... OK
* checking replacement functions ... OK
* checking foreign function calls ... OK
* checking R code for possible problems ... OK
* checking Rd files ... OK
* checking Rd metadata ... OK
* checking Rd cross-references ... OK
* checking for missing documentation entries ... OK
* checking for code/documentation mismatches ... OK
* checking Rd \usage sections ... OK
* checking Rd contents ... OK
* checking for unstated dependencies in examples ... OK
* checking files in ‘vignettes’ ... OK
* checking examples ... OK
Examples with CPU or elapsed time > 5s
user system elapsed
AnnotateVcf-CellBaseR-method 10.814 3.994 13.441
* checking for unstated dependencies in vignettes ... OK
* checking package vignettes in ‘inst/doc’ ... OK
* checking running R code from vignettes ... SKIPPED
* checking re-building of vignette outputs ... SKIPPED
* checking PDF version of manual ... OK
* DONE
Status: OK
cellbaseR.Rcheck/00install.out
############################################################################## ############################################################################## ### ### Running command: ### ### /Library/Frameworks/R.framework/Versions/Current/Resources/bin/R CMD INSTALL cellbaseR ### ############################################################################## ############################################################################## * installing to library ‘/Library/Frameworks/R.framework/Versions/3.5/Resources/library’ * installing *source* package ‘cellbaseR’ ... ** R ** inst ** byte-compile and prepare package for lazy loading ** help *** installing help indices ** building package indices ** installing vignettes ** testing if installed package can be loaded * DONE (cellbaseR)
cellbaseR.Rcheck/cellbaseR-Ex.timings
| name | user | system | elapsed | |
| AnnotateVcf-CellBaseR-method | 10.814 | 3.994 | 13.441 | |
| CellBaseParam | 0.003 | 0.001 | 0.005 | |
| CellBaseR | 0.039 | 0.006 | 0.373 | |
| createGeneModel | 0.342 | 0.040 | 1.050 | |
| getCaddScores | 0.056 | 0.006 | 0.596 | |
| getCellBase-CellBaseR-method | 0.066 | 0.007 | 0.605 | |
| getCellBaseResourceHelp | 0.266 | 0.030 | 0.916 | |
| getChromosomeInfo-CellBaseR-method | 0.055 | 0.003 | 0.574 | |
| getClinical-CellBaseR-method | 0.762 | 0.034 | 1.674 | |
| getClinicalByRegion | 1.800 | 0.108 | 3.084 | |
| getConservationByRegion | 0.081 | 0.005 | 0.770 | |
| getGene-CellBaseR-method | 0.141 | 0.005 | 0.850 | |
| getGeneInfo | 0.052 | 0.002 | 0.586 | |
| getMeta-CellBaseR-method | 0.064 | 0.002 | 0.572 | |
| getProtein-CellBaseR-method | 0.138 | 0.002 | 0.773 | |
| getProteinInfo | 0.141 | 0.005 | 0.780 | |
| getRegion-CellBaseR-method | 0.122 | 0.004 | 0.875 | |
| getRegulatoryByRegion | 0.154 | 0.005 | 1.064 | |
| getSnp-CellBaseR-method | 0.075 | 0.002 | 0.608 | |
| getSnpByGene | 0.084 | 0.002 | 0.636 | |
| getTf-CellBaseR-method | 0.058 | 0.002 | 3.431 | |
| getTfbsByRegion | 0.077 | 0.003 | 0.633 | |
| getTranscript-CellBaseR-method | 0.068 | 0.003 | 0.621 | |
| getTranscriptByGene | 0.062 | 0.002 | 0.652 | |
| getVariant-CellBaseR-method | 0.138 | 0.007 | 0.831 | |
| getVariantAnnotation | 0.127 | 0.004 | 0.874 | |
| getXref-CellBaseR-method | 0.051 | 0.002 | 0.559 | |