| Back to Multiple platform build/check report for BioC 3.8 | 
 | 
This page was generated on 2019-04-16 11:53:42 -0400 (Tue, 16 Apr 2019).
| Package 213/1649 | Hostname | OS / Arch | INSTALL | BUILD | CHECK | BUILD BIN | ||||||
| celaref 1.0.1 Sarah Williams 
 | malbec1 | Linux (Ubuntu 16.04.6 LTS) / x86_64 | OK | OK | [ OK ] | |||||||
| merida1 | OS X 10.11.6 El Capitan / x86_64 | OK | OK | OK | OK | 
| Package: celaref | 
| Version: 1.0.1 | 
| Command: /home/biocbuild/bbs-3.8-bioc/R/bin/R CMD check --install=check:celaref.install-out.txt --library=/home/biocbuild/bbs-3.8-bioc/R/library --no-vignettes --timings celaref_1.0.1.tar.gz | 
| StartedAt: 2019-04-15 22:43:07 -0400 (Mon, 15 Apr 2019) | 
| EndedAt: 2019-04-15 22:45:51 -0400 (Mon, 15 Apr 2019) | 
| EllapsedTime: 164.5 seconds | 
| RetCode: 0 | 
| Status: OK | 
| CheckDir: celaref.Rcheck | 
| Warnings: 0 | 
##############################################################################
##############################################################################
###
### Running command:
###
###   /home/biocbuild/bbs-3.8-bioc/R/bin/R CMD check --install=check:celaref.install-out.txt --library=/home/biocbuild/bbs-3.8-bioc/R/library --no-vignettes --timings celaref_1.0.1.tar.gz
###
##############################################################################
##############################################################################
* using log directory ‘/home/biocbuild/bbs-3.8-bioc/meat/celaref.Rcheck’
* using R version 3.5.3 (2019-03-11)
* using platform: x86_64-pc-linux-gnu (64-bit)
* using session charset: UTF-8
* using option ‘--no-vignettes’
* checking for file ‘celaref/DESCRIPTION’ ... OK
* this is package ‘celaref’ version ‘1.0.1’
* package encoding: UTF-8
* checking package namespace information ... OK
* checking package dependencies ... OK
* checking if this is a source package ... OK
* checking if there is a namespace ... OK
* checking for hidden files and directories ... NOTE
Found the following hidden files and directories:
  .github
These were most likely included in error. See section ‘Package
structure’ in the ‘Writing R Extensions’ manual.
* checking for portable file names ... OK
* checking for sufficient/correct file permissions ... OK
* checking whether package ‘celaref’ can be installed ... OK
* checking installed package size ... OK
* checking package directory ... OK
* checking ‘build’ directory ... OK
* checking DESCRIPTION meta-information ... OK
* checking top-level files ... OK
* checking for left-over files ... OK
* checking index information ... OK
* checking package subdirectories ... OK
* checking R files for non-ASCII characters ... OK
* checking R files for syntax errors ... OK
* checking whether the package can be loaded ... OK
* checking whether the package can be loaded with stated dependencies ... OK
* checking whether the package can be unloaded cleanly ... OK
* checking whether the namespace can be loaded with stated dependencies ... OK
* checking whether the namespace can be unloaded cleanly ... OK
* checking dependencies in R code ... OK
* checking S3 generic/method consistency ... OK
* checking replacement functions ... OK
* checking foreign function calls ... OK
* checking R code for possible problems ... OK
* checking Rd files ... OK
* checking Rd metadata ... OK
* checking Rd cross-references ... OK
* checking for missing documentation entries ... OK
* checking for code/documentation mismatches ... OK
* checking Rd \usage sections ... OK
* checking Rd contents ... OK
* checking for unstated dependencies in examples ... OK
* checking contents of ‘data’ directory ... OK
* checking data for non-ASCII characters ... OK
* checking data for ASCII and uncompressed saves ... OK
* checking files in ‘vignettes’ ... OK
* checking examples ... OK
Examples with CPU or elapsed time > 5s
                                                         user system elapsed
contrast_each_group_to_the_rest_for_norm_ma_with_limma 27.164  0.548   0.687
contrast_each_group_to_the_rest                        24.984  0.544  17.765
* checking for unstated dependencies in vignettes ... OK
* checking package vignettes in ‘inst/doc’ ... OK
* checking running R code from vignettes ... SKIPPED
* checking re-building of vignette outputs ... SKIPPED
* checking PDF version of manual ... OK
* DONE
Status: 1 NOTE
See
  ‘/home/biocbuild/bbs-3.8-bioc/meat/celaref.Rcheck/00check.log’
for details.
celaref.Rcheck/00install.out
############################################################################## ############################################################################## ### ### Running command: ### ### /home/biocbuild/bbs-3.8-bioc/R/bin/R CMD INSTALL celaref ### ############################################################################## ############################################################################## * installing to library ‘/home/biocbuild/bbs-3.8-bioc/R/library’ * installing *source* package ‘celaref’ ... ** R ** data *** moving datasets to lazyload DB ** inst ** byte-compile and prepare package for lazy loading ** help *** installing help indices ** building package indices ** installing vignettes ** testing if installed package can be loaded * DONE (celaref)
celaref.Rcheck/celaref-Ex.timings
| name | user | system | elapsed | |
| contrast_each_group_to_the_rest | 24.984 | 0.544 | 17.765 | |
| contrast_each_group_to_the_rest_for_norm_ma_with_limma | 27.164 | 0.548 | 0.687 | |
| convert_se_gene_ids | 0.136 | 0.000 | 0.137 | |
| get_rankstat_table | 0.068 | 0.004 | 0.071 | |
| get_the_up_genes_for_all_possible_groups | 0.004 | 0.000 | 0.003 | |
| get_the_up_genes_for_group | 0.000 | 0.000 | 0.001 | |
| load_dataset_10Xdata | 0.260 | 0.012 | 0.288 | |
| load_se_from_tables | 0.304 | 0.000 | 0.306 | |
| make_ranking_violin_plot | 3.280 | 0.048 | 3.332 | |
| make_ref_similarity_names | 2.624 | 0.008 | 2.633 | |
| trim_small_groups_and_low_expression_genes | 0.076 | 0.008 | 0.081 | |