| Back to Multiple platform build/check report for BioC 3.8 |
|
This page was generated on 2019-04-13 11:28:22 -0400 (Sat, 13 Apr 2019).
| Package 208/1649 | Hostname | OS / Arch | INSTALL | BUILD | CHECK | BUILD BIN | ||||||
| cbaf 1.4.1 Arman Shahrisa
| malbec1 | Linux (Ubuntu 16.04.6 LTS) / x86_64 | OK | OK | OK | |||||||
| tokay1 | Windows Server 2012 R2 Standard / x64 | OK | OK | OK | [ OK ] | |||||||
| merida1 | OS X 10.11.6 El Capitan / x86_64 | OK | OK | OK | OK |
| Package: cbaf |
| Version: 1.4.1 |
| Command: rm -rf cbaf.buildbin-libdir && mkdir cbaf.buildbin-libdir && C:\Users\biocbuild\bbs-3.8-bioc\R\bin\R.exe CMD INSTALL --merge-multiarch --build --library=cbaf.buildbin-libdir cbaf_1.4.1.tar.gz |
| StartedAt: 2019-04-13 07:00:38 -0400 (Sat, 13 Apr 2019) |
| EndedAt: 2019-04-13 07:01:19 -0400 (Sat, 13 Apr 2019) |
| EllapsedTime: 40.6 seconds |
| RetCode: 0 |
| Status: OK |
| PackageFile: cbaf_1.4.1.zip |
| PackageFileSize: 896.8 KiB |
##############################################################################
##############################################################################
###
### Running command:
###
### rm -rf cbaf.buildbin-libdir && mkdir cbaf.buildbin-libdir && C:\Users\biocbuild\bbs-3.8-bioc\R\bin\R.exe CMD INSTALL --merge-multiarch --build --library=cbaf.buildbin-libdir cbaf_1.4.1.tar.gz
###
##############################################################################
##############################################################################
install for i386
* installing *source* package 'cbaf' ...
** R
** inst
** byte-compile and prepare package for lazy loading
** help
*** installing help indices
converting help for package 'cbaf'
finding HTML links ... done
automatedStatistics html
availableData html
cleanDatabase html
heatmapOutput html
obtainMultipleStudies html
obtainOneStudy html
processMultipleStudies html
processOneStudy html
xlsxOutput html
** building package indices
** installing vignettes
** testing if installed package can be loaded
In R CMD INSTALL
install for x64
* installing *source* package 'cbaf' ...
** testing if installed package can be loaded
* MD5 sums
packaged installation of 'cbaf' as cbaf_1.4.1.zip
* DONE (cbaf)
In R CMD INSTALL
In R CMD INSTALL