| Back to Multiple platform build/check report for BioC 3.8 |
|
This page was generated on 2019-04-16 11:53:53 -0400 (Tue, 16 Apr 2019).
| Package 354/1649 | Hostname | OS / Arch | INSTALL | BUILD | CHECK | BUILD BIN | ||||||
| cTRAP 1.0.3 Nuno Saraiva-Agostinho
| malbec1 | Linux (Ubuntu 16.04.6 LTS) / x86_64 | OK | OK | [ OK ] | |||||||
| merida1 | OS X 10.11.6 El Capitan / x86_64 | OK | OK | OK | OK |
| Package: cTRAP |
| Version: 1.0.3 |
| Command: /home/biocbuild/bbs-3.8-bioc/R/bin/R CMD check --install=check:cTRAP.install-out.txt --library=/home/biocbuild/bbs-3.8-bioc/R/library --no-vignettes --timings cTRAP_1.0.3.tar.gz |
| StartedAt: 2019-04-15 23:15:53 -0400 (Mon, 15 Apr 2019) |
| EndedAt: 2019-04-15 23:18:05 -0400 (Mon, 15 Apr 2019) |
| EllapsedTime: 132.0 seconds |
| RetCode: 0 |
| Status: OK |
| CheckDir: cTRAP.Rcheck |
| Warnings: 0 |
##############################################################################
##############################################################################
###
### Running command:
###
### /home/biocbuild/bbs-3.8-bioc/R/bin/R CMD check --install=check:cTRAP.install-out.txt --library=/home/biocbuild/bbs-3.8-bioc/R/library --no-vignettes --timings cTRAP_1.0.3.tar.gz
###
##############################################################################
##############################################################################
* using log directory ‘/home/biocbuild/bbs-3.8-bioc/meat/cTRAP.Rcheck’
* using R version 3.5.3 (2019-03-11)
* using platform: x86_64-pc-linux-gnu (64-bit)
* using session charset: UTF-8
* using option ‘--no-vignettes’
* checking for file ‘cTRAP/DESCRIPTION’ ... OK
* this is package ‘cTRAP’ version ‘1.0.3’
* package encoding: UTF-8
* checking package namespace information ... OK
* checking package dependencies ... OK
* checking if this is a source package ... OK
* checking if there is a namespace ... OK
* checking for hidden files and directories ... OK
* checking for portable file names ... OK
* checking for sufficient/correct file permissions ... OK
* checking whether package ‘cTRAP’ can be installed ... OK
* checking installed package size ... OK
* checking package directory ... OK
* checking ‘build’ directory ... OK
* checking DESCRIPTION meta-information ... OK
* checking top-level files ... OK
* checking for left-over files ... OK
* checking index information ... OK
* checking package subdirectories ... OK
* checking R files for non-ASCII characters ... OK
* checking R files for syntax errors ... OK
* checking whether the package can be loaded ... OK
* checking whether the package can be loaded with stated dependencies ... OK
* checking whether the package can be unloaded cleanly ... OK
* checking whether the namespace can be loaded with stated dependencies ... OK
* checking whether the namespace can be unloaded cleanly ... OK
* checking dependencies in R code ... OK
* checking S3 generic/method consistency ... OK
* checking replacement functions ... OK
* checking foreign function calls ... OK
* checking R code for possible problems ... OK
* checking Rd files ... OK
* checking Rd metadata ... OK
* checking Rd cross-references ... OK
* checking for missing documentation entries ... OK
* checking for code/documentation mismatches ... OK
* checking Rd \usage sections ... OK
* checking Rd contents ... OK
* checking for unstated dependencies in examples ... OK
* checking contents of ‘data’ directory ... OK
* checking data for non-ASCII characters ... OK
* checking data for ASCII and uncompressed saves ... OK
* checking files in ‘vignettes’ ... OK
* checking examples ... OK
Examples with CPU or elapsed time > 5s
user system elapsed
plotL1000comparison 19.244 0.060 9.655
downloadL1000data 7.812 0.360 7.778
compareAgainstL1000 7.180 0.120 2.002
downloadENCODEknockdownMetadata 2.580 0.128 11.044
* checking for unstated dependencies in ‘tests’ ... OK
* checking tests ...
Running ‘testthat.R’
OK
* checking for unstated dependencies in vignettes ... OK
* checking package vignettes in ‘inst/doc’ ... OK
* checking running R code from vignettes ... SKIPPED
* checking re-building of vignette outputs ... SKIPPED
* checking PDF version of manual ... OK
* DONE
Status: OK
cTRAP.Rcheck/00install.out
############################################################################## ############################################################################## ### ### Running command: ### ### /home/biocbuild/bbs-3.8-bioc/R/bin/R CMD INSTALL cTRAP ### ############################################################################## ############################################################################## * installing to library ‘/home/biocbuild/bbs-3.8-bioc/R/library’ * installing *source* package ‘cTRAP’ ... ** R ** data *** moving datasets to lazyload DB ** byte-compile and prepare package for lazy loading ** help *** installing help indices ** building package indices ** installing vignettes ** testing if installed package can be loaded * DONE (cTRAP)
cTRAP.Rcheck/tests/testthat.Rout
R version 3.5.3 (2019-03-11) -- "Great Truth"
Copyright (C) 2019 The R Foundation for Statistical Computing
Platform: x86_64-pc-linux-gnu (64-bit)
R is free software and comes with ABSOLUTELY NO WARRANTY.
You are welcome to redistribute it under certain conditions.
Type 'license()' or 'licence()' for distribution details.
R is a collaborative project with many contributors.
Type 'contributors()' for more information and
'citation()' on how to cite R or R packages in publications.
Type 'demo()' for some demos, 'help()' for on-line help, or
'help.start()' for an HTML browser interface to help.
Type 'q()' to quit R.
> library(testthat)
> library(cTRAP)
>
> test_check("cTRAP")
Comparing with cell line HepG2
Comparing with cell line HepG2
Performing GSA using perturbation signatures...
Comparing with cell line HEPG2
Comparing with cell line HEPG2
Performing GSA using perturbation signatures...
══ testthat results ═══════════════════════════════════════════════════════════
OK: 23 SKIPPED: 0 FAILED: 0
>
> proc.time()
user system elapsed
32.32 0.30 21.68
cTRAP.Rcheck/cTRAP-Ex.timings
| name | user | system | elapsed | |
| compareAgainstL1000 | 7.180 | 0.120 | 2.002 | |
| downloadENCODEknockdownMetadata | 2.580 | 0.128 | 11.044 | |
| downloadENCODEsamples | 0 | 0 | 0 | |
| downloadL1000data | 7.812 | 0.360 | 7.778 | |
| filterL1000metadata | 0.108 | 0.000 | 0.028 | |
| getL1000Conditions | 0.004 | 0.000 | 0.003 | |
| getL1000PerturbationTypes | 0.004 | 0.000 | 0.000 | |
| loadL1000perturbations | 0.000 | 0.000 | 0.001 | |
| performDifferentialExpression | 0.12 | 0.00 | 0.03 | |
| plotL1000comparison | 19.244 | 0.060 | 9.655 | |
| prepareENCODEgeneExpression | 0.000 | 0.004 | 0.004 | |