| Back to Multiple platform build/check report for BioC 3.8 |
|
This page was generated on 2019-04-16 11:49:37 -0400 (Tue, 16 Apr 2019).
| Package 181/1649 | Hostname | OS / Arch | INSTALL | BUILD | CHECK | BUILD BIN | ||||||
| bsseq 1.18.0 Kasper Daniel Hansen
| malbec1 | Linux (Ubuntu 16.04.6 LTS) / x86_64 | OK | OK | [ OK ] | |||||||
| merida1 | OS X 10.11.6 El Capitan / x86_64 | OK | OK | OK | OK |
| Package: bsseq |
| Version: 1.18.0 |
| Command: /home/biocbuild/bbs-3.8-bioc/R/bin/R CMD check --install=check:bsseq.install-out.txt --library=/home/biocbuild/bbs-3.8-bioc/R/library --no-vignettes --timings bsseq_1.18.0.tar.gz |
| StartedAt: 2019-04-15 22:35:47 -0400 (Mon, 15 Apr 2019) |
| EndedAt: 2019-04-15 22:42:13 -0400 (Mon, 15 Apr 2019) |
| EllapsedTime: 386.5 seconds |
| RetCode: 0 |
| Status: OK |
| CheckDir: bsseq.Rcheck |
| Warnings: 0 |
##############################################################################
##############################################################################
###
### Running command:
###
### /home/biocbuild/bbs-3.8-bioc/R/bin/R CMD check --install=check:bsseq.install-out.txt --library=/home/biocbuild/bbs-3.8-bioc/R/library --no-vignettes --timings bsseq_1.18.0.tar.gz
###
##############################################################################
##############################################################################
* using log directory ‘/home/biocbuild/bbs-3.8-bioc/meat/bsseq.Rcheck’
* using R version 3.5.3 (2019-03-11)
* using platform: x86_64-pc-linux-gnu (64-bit)
* using session charset: UTF-8
* using option ‘--no-vignettes’
* checking for file ‘bsseq/DESCRIPTION’ ... OK
* this is package ‘bsseq’ version ‘1.18.0’
* package encoding: UTF-8
* checking package namespace information ... OK
* checking package dependencies ... OK
* checking if this is a source package ... OK
* checking if there is a namespace ... OK
* checking for hidden files and directories ... OK
* checking for portable file names ... OK
* checking for sufficient/correct file permissions ... OK
* checking whether package ‘bsseq’ can be installed ... OK
* checking installed package size ... NOTE
installed size is 8.6Mb
sub-directories of 1Mb or more:
data 6.5Mb
libs 1.0Mb
* checking package directory ... OK
* checking ‘build’ directory ... OK
* checking DESCRIPTION meta-information ... OK
* checking top-level files ... OK
* checking for left-over files ... OK
* checking index information ... OK
* checking package subdirectories ... OK
* checking R files for non-ASCII characters ... OK
* checking R files for syntax errors ... OK
* checking whether the package can be loaded ... OK
* checking whether the package can be loaded with stated dependencies ... OK
* checking whether the package can be unloaded cleanly ... OK
* checking whether the namespace can be loaded with stated dependencies ... OK
* checking whether the namespace can be unloaded cleanly ... OK
* checking dependencies in R code ... NOTE
Unexported objects imported by ':::' calls:
‘BiocGenerics:::replaceSlots’ ‘DelayedArray:::.normarg_grid’
‘DelayedArray:::get_verbose_block_processing’
‘GenomicRanges:::.extract_groups_from_GenomicRanges’
‘GenomicRanges:::.get_circle_length’
‘GenomicRanges:::extraColumnSlotNames’ ‘HDF5Array:::.create_dir’
‘HDF5Array:::.shorten_h5_paths’
‘IRanges:::.shift_ranges_in_groups_to_first_circle’
‘S4Vectors:::make_zero_col_DataFrame’ ‘S4Vectors:::new_DataFrame’
‘S4Vectors:::normalize_names_replacement_value’
‘S4Vectors:::numeric2integer’ ‘S4Vectors:::sapply_isNULL’
‘data.table:::funique’
See the note in ?`:::` about the use of this operator.
* checking S3 generic/method consistency ... OK
* checking replacement functions ... OK
* checking foreign function calls ... OK
* checking R code for possible problems ... OK
* checking Rd files ... OK
* checking Rd metadata ... OK
* checking Rd cross-references ... OK
* checking for missing documentation entries ... OK
* checking for code/documentation mismatches ... OK
* checking Rd \usage sections ... OK
* checking Rd contents ... OK
* checking for unstated dependencies in examples ... OK
* checking contents of ‘data’ directory ... OK
* checking data for non-ASCII characters ... OK
* checking data for ASCII and uncompressed saves ... OK
* checking line endings in C/C++/Fortran sources/headers ... OK
* checking line endings in Makefiles ... OK
* checking compilation flags in Makevars ... OK
* checking for GNU extensions in Makefiles ... OK
* checking for portable use of $(BLAS_LIBS) and $(LAPACK_LIBS) ... OK
* checking compiled code ... NOTE
Note: information on .o files is not available
* checking files in ‘vignettes’ ... OK
* checking examples ... OK
Examples with CPU or elapsed time > 5s
user system elapsed
getMeth 11.108 0.968 12.084
getCoverage 10.864 0.044 10.916
BSmooth.tstat 7.992 0.428 9.276
* checking for unstated dependencies in ‘tests’ ... OK
* checking tests ...
Running ‘testthat.R’
OK
* checking for unstated dependencies in vignettes ... OK
* checking package vignettes in ‘inst/doc’ ... OK
* checking running R code from vignettes ... SKIPPED
* checking re-building of vignette outputs ... SKIPPED
* checking PDF version of manual ... OK
* DONE
Status: 3 NOTEs
See
‘/home/biocbuild/bbs-3.8-bioc/meat/bsseq.Rcheck/00check.log’
for details.
bsseq.Rcheck/00install.out
##############################################################################
##############################################################################
###
### Running command:
###
### /home/biocbuild/bbs-3.8-bioc/R/bin/R CMD INSTALL bsseq
###
##############################################################################
##############################################################################
* installing to library ‘/home/biocbuild/bbs-3.8-bioc/R/library’
* installing *source* package ‘bsseq’ ...
** libs
g++ -std=gnu++11 -I"/home/biocbuild/bbs-3.8-bioc/R/include" -DNDEBUG -I"/home/biocbuild/bbs-3.8-bioc/R/library/Rcpp/include" -I"/home/biocbuild/bbs-3.8-bioc/R/library/Rhdf5lib/include" -I"/home/biocbuild/bbs-3.8-bioc/R/library/beachmat/include" -I/usr/local/include -fpic -g -O2 -Wall -c check_M_and_Cov.cpp -o check_M_and_Cov.o
In file included from /home/biocbuild/bbs-3.8-bioc/R/library/beachmat/include/beachmat/LIN_matrix.h:238:0,
from /home/biocbuild/bbs-3.8-bioc/R/library/beachmat/include/beachmat/integer_matrix.h:4,
from BSseq.h:5,
from check_M_and_Cov.cpp:1:
/home/biocbuild/bbs-3.8-bioc/R/library/beachmat/include/beachmat/LIN_methods_read.h: In instantiation of ‘beachmat::const_col_indexed_info<V> beachmat::lin_matrix<T, V>::get_const_col_indexed(size_t, typename V::iterator, size_t, size_t) [with T = double; V = Rcpp::Vector<14, Rcpp::PreserveStorage>; beachmat::const_col_indexed_info<V> = std::tuple<long unsigned int, int*, double*>; typename V::iterator = double*; size_t = long unsigned int; typename V::iterator = double*]’:
check_M_and_Cov.cpp:99:1: required from here
/home/biocbuild/bbs-3.8-bioc/R/library/beachmat/include/beachmat/LIN_methods_read.h:82:23: warning: comparison between signed and unsigned integer expressions [-Wsign-compare]
if (indices.size()!=this->get_nrow()) {
^
/home/biocbuild/bbs-3.8-bioc/R/library/beachmat/include/beachmat/LIN_methods_read.h: In instantiation of ‘beachmat::const_col_indexed_info<V> beachmat::lin_matrix<T, V>::get_const_col_indexed(size_t, typename V::iterator, size_t, size_t) [with T = int; V = Rcpp::Vector<13>; beachmat::const_col_indexed_info<V> = std::tuple<long unsigned int, int*, int*>; typename V::iterator = int*; size_t = long unsigned int; typename V::iterator = int*]’:
check_M_and_Cov.cpp:99:1: required from here
/home/biocbuild/bbs-3.8-bioc/R/library/beachmat/include/beachmat/LIN_methods_read.h:82:23: warning: comparison between signed and unsigned integer expressions [-Wsign-compare]
g++ -std=gnu++11 -I"/home/biocbuild/bbs-3.8-bioc/R/include" -DNDEBUG -I"/home/biocbuild/bbs-3.8-bioc/R/library/Rcpp/include" -I"/home/biocbuild/bbs-3.8-bioc/R/library/Rhdf5lib/include" -I"/home/biocbuild/bbs-3.8-bioc/R/library/beachmat/include" -I/usr/local/include -fpic -g -O2 -Wall -c init.cpp -o init.o
g++ -std=gnu++11 -I"/home/biocbuild/bbs-3.8-bioc/R/include" -DNDEBUG -I"/home/biocbuild/bbs-3.8-bioc/R/library/Rcpp/include" -I"/home/biocbuild/bbs-3.8-bioc/R/library/Rhdf5lib/include" -I"/home/biocbuild/bbs-3.8-bioc/R/library/beachmat/include" -I/usr/local/include -fpic -g -O2 -Wall -c utils.cpp -o utils.o
g++ -std=gnu++11 -shared -L/home/biocbuild/bbs-3.8-bioc/R/lib -L/usr/local/lib -o bsseq.so check_M_and_Cov.o init.o utils.o -L/home/biocbuild/bbs-3.8-bioc/R/library/beachmat/lib -Wl,-rpath,/home/biocbuild/bbs-3.8-bioc/R/library/beachmat/lib -lbeachmat -pthread -L/home/biocbuild/bbs-3.8-bioc/R/lib -lR
installing to /home/biocbuild/bbs-3.8-bioc/R/library/bsseq/libs
** R
** data
*** moving datasets to lazyload DB
** inst
** byte-compile and prepare package for lazy loading
** help
*** installing help indices
** building package indices
** installing vignettes
** testing if installed package can be loaded
* DONE (bsseq)
bsseq.Rcheck/tests/testthat.Rout
R version 3.5.3 (2019-03-11) -- "Great Truth"
Copyright (C) 2019 The R Foundation for Statistical Computing
Platform: x86_64-pc-linux-gnu (64-bit)
R is free software and comes with ABSOLUTELY NO WARRANTY.
You are welcome to redistribute it under certain conditions.
Type 'license()' or 'licence()' for distribution details.
R is a collaborative project with many contributors.
Type 'contributors()' for more information and
'citation()' on how to cite R or R packages in publications.
Type 'demo()' for some demos, 'help()' for on-line help, or
'help.start()' for an HTML browser interface to help.
Type 'q()' to quit R.
> library(testthat)
> library(bsseq)
Loading required package: BiocGenerics
Loading required package: parallel
Attaching package: 'BiocGenerics'
The following objects are masked from 'package:parallel':
clusterApply, clusterApplyLB, clusterCall, clusterEvalQ,
clusterExport, clusterMap, parApply, parCapply, parLapply,
parLapplyLB, parRapply, parSapply, parSapplyLB
The following objects are masked from 'package:stats':
IQR, mad, sd, var, xtabs
The following objects are masked from 'package:base':
Filter, Find, Map, Position, Reduce, anyDuplicated, append,
as.data.frame, basename, cbind, colMeans, colSums, colnames,
dirname, do.call, duplicated, eval, evalq, get, grep, grepl,
intersect, is.unsorted, lapply, lengths, mapply, match, mget,
order, paste, pmax, pmax.int, pmin, pmin.int, rank, rbind,
rowMeans, rowSums, rownames, sapply, setdiff, sort, table, tapply,
union, unique, unsplit, which, which.max, which.min
Loading required package: GenomicRanges
Loading required package: stats4
Loading required package: S4Vectors
Attaching package: 'S4Vectors'
The following object is masked from 'package:base':
expand.grid
Loading required package: IRanges
Loading required package: GenomeInfoDb
Loading required package: SummarizedExperiment
Loading required package: Biobase
Welcome to Bioconductor
Vignettes contain introductory material; view with
'browseVignettes()'. To cite Bioconductor, see
'citation("Biobase")', and for packages 'citation("pkgname")'.
Loading required package: DelayedArray
Loading required package: matrixStats
Attaching package: 'matrixStats'
The following objects are masked from 'package:Biobase':
anyMissing, rowMedians
Loading required package: BiocParallel
Attaching package: 'DelayedArray'
The following objects are masked from 'package:matrixStats':
colMaxs, colMins, colRanges, rowMaxs, rowMins, rowRanges
The following objects are masked from 'package:base':
aperm, apply
> test_check("bsseq")
══ testthat results ═══════════════════════════════════════════════════════════
OK: 162 SKIPPED: 7 FAILED: 0
>
> proc.time()
user system elapsed
61.044 6.144 85.095
bsseq.Rcheck/bsseq-Ex.timings
| name | user | system | elapsed | |
| BS.chr22 | 3.284 | 0.124 | 3.436 | |
| BSmooth | 0 | 0 | 0 | |
| BSmooth.fstat | 0.000 | 0.000 | 0.001 | |
| BSmooth.tstat | 7.992 | 0.428 | 9.276 | |
| BSseq-class | 1.160 | 0.632 | 1.594 | |
| BSseq | 0.368 | 0.072 | 0.465 | |
| FWGRanges-class | 0.004 | 0.000 | 0.002 | |
| computeStat | 0 | 0 | 0 | |
| data.frame2GRanges | 0.024 | 0.000 | 0.022 | |
| dmrFinder | 2.792 | 0.284 | 3.950 | |
| findLoci | 4.668 | 0.164 | 4.996 | |
| fisherTests | 0.492 | 0.000 | 0.494 | |
| getCoverage | 10.864 | 0.044 | 10.916 | |
| getMeth | 11.108 | 0.968 | 12.084 | |
| getStats | 0.384 | 0.012 | 0.394 | |
| goodnessOfFit | 2.864 | 0.128 | 3.130 | |
| hasGRanges-class | 0 | 0 | 0 | |
| read.bismark | 0.908 | 0.000 | 0.414 | |
| read.umtab | 0 | 0 | 0 | |
| smoothSds | 0 | 0 | 0 | |