| Back to Multiple platform build/check report for BioC 3.8 |
|
This page was generated on 2019-04-16 11:48:00 -0400 (Tue, 16 Apr 2019).
| Package 150/1649 | Hostname | OS / Arch | INSTALL | BUILD | CHECK | BUILD BIN | ||||||
| biomaRt 2.38.0 Mike Smith
| malbec1 | Linux (Ubuntu 16.04.6 LTS) / x86_64 | OK | OK | [ OK ] | |||||||
| merida1 | OS X 10.11.6 El Capitan / x86_64 | OK | OK | OK | OK |
| Package: biomaRt |
| Version: 2.38.0 |
| Command: /home/biocbuild/bbs-3.8-bioc/R/bin/R CMD check --install=check:biomaRt.install-out.txt --library=/home/biocbuild/bbs-3.8-bioc/R/library --no-vignettes --timings biomaRt_2.38.0.tar.gz |
| StartedAt: 2019-04-15 22:31:07 -0400 (Mon, 15 Apr 2019) |
| EndedAt: 2019-04-15 22:33:36 -0400 (Mon, 15 Apr 2019) |
| EllapsedTime: 149.1 seconds |
| RetCode: 0 |
| Status: OK |
| CheckDir: biomaRt.Rcheck |
| Warnings: 0 |
##############################################################################
##############################################################################
###
### Running command:
###
### /home/biocbuild/bbs-3.8-bioc/R/bin/R CMD check --install=check:biomaRt.install-out.txt --library=/home/biocbuild/bbs-3.8-bioc/R/library --no-vignettes --timings biomaRt_2.38.0.tar.gz
###
##############################################################################
##############################################################################
* using log directory ‘/home/biocbuild/bbs-3.8-bioc/meat/biomaRt.Rcheck’
* using R version 3.5.3 (2019-03-11)
* using platform: x86_64-pc-linux-gnu (64-bit)
* using session charset: UTF-8
* using option ‘--no-vignettes’
* checking for file ‘biomaRt/DESCRIPTION’ ... OK
* this is package ‘biomaRt’ version ‘2.38.0’
* package encoding: UTF-8
* checking package namespace information ... OK
* checking package dependencies ... OK
* checking if this is a source package ... OK
* checking if there is a namespace ... OK
* checking for hidden files and directories ... OK
* checking for portable file names ... OK
* checking for sufficient/correct file permissions ... OK
* checking whether package ‘biomaRt’ can be installed ... OK
* checking installed package size ... OK
* checking package directory ... OK
* checking ‘build’ directory ... OK
* checking DESCRIPTION meta-information ... OK
* checking top-level files ... OK
* checking for left-over files ... OK
* checking index information ... OK
* checking package subdirectories ... OK
* checking R files for non-ASCII characters ... OK
* checking R files for syntax errors ... OK
* checking whether the package can be loaded ... OK
* checking whether the package can be loaded with stated dependencies ... OK
* checking whether the package can be unloaded cleanly ... OK
* checking whether the namespace can be loaded with stated dependencies ... OK
* checking whether the namespace can be unloaded cleanly ... OK
* checking dependencies in R code ... NOTE
Unexported object imported by a ':::' call: ‘AnnotationDbi:::smartKeys’
See the note in ?`:::` about the use of this operator.
* checking S3 generic/method consistency ... OK
* checking replacement functions ... OK
* checking foreign function calls ... OK
* checking R code for possible problems ... OK
* checking Rd files ... OK
* checking Rd metadata ... OK
* checking Rd cross-references ... OK
* checking for missing documentation entries ... OK
* checking for code/documentation mismatches ... OK
* checking Rd \usage sections ... OK
* checking Rd contents ... OK
* checking for unstated dependencies in examples ... OK
* checking files in ‘vignettes’ ... OK
* checking examples ... OK
Examples with CPU or elapsed time > 5s
user system elapsed
select 0.348 0.056 16.624
getBM 0.312 0.012 6.366
* checking for unstated dependencies in ‘tests’ ... OK
* checking tests ...
Running ‘testthat.R’
OK
* checking for unstated dependencies in vignettes ... OK
* checking package vignettes in ‘inst/doc’ ... OK
* checking running R code from vignettes ... SKIPPED
* checking re-building of vignette outputs ... SKIPPED
* checking PDF version of manual ... OK
* DONE
Status: 1 NOTE
See
‘/home/biocbuild/bbs-3.8-bioc/meat/biomaRt.Rcheck/00check.log’
for details.
biomaRt.Rcheck/00install.out
############################################################################## ############################################################################## ### ### Running command: ### ### /home/biocbuild/bbs-3.8-bioc/R/bin/R CMD INSTALL biomaRt ### ############################################################################## ############################################################################## * installing to library ‘/home/biocbuild/bbs-3.8-bioc/R/library’ * installing *source* package ‘biomaRt’ ... ** R ** inst ** byte-compile and prepare package for lazy loading ** help *** installing help indices ** building package indices ** installing vignettes ** testing if installed package can be loaded * DONE (biomaRt)
biomaRt.Rcheck/tests/testthat.Rout
R version 3.5.3 (2019-03-11) -- "Great Truth"
Copyright (C) 2019 The R Foundation for Statistical Computing
Platform: x86_64-pc-linux-gnu (64-bit)
R is free software and comes with ABSOLUTELY NO WARRANTY.
You are welcome to redistribute it under certain conditions.
Type 'license()' or 'licence()' for distribution details.
R is a collaborative project with many contributors.
Type 'contributors()' for more information and
'citation()' on how to cite R or R packages in publications.
Type 'demo()' for some demos, 'help()' for on-line help, or
'help.start()' for an HTML browser interface to help.
Type 'q()' to quit R.
> library(testthat)
> library(biomaRt)
>
> test_check("biomaRt", encoding = "UTF-8")
══ testthat results ═══════════════════════════════════════════════════════════
OK: 57 SKIPPED: 0 FAILED: 0
>
> proc.time()
user system elapsed
6.872 0.248 57.710
biomaRt.Rcheck/biomaRt-Ex.timings
| name | user | system | elapsed | |
| NP2009code | 0.004 | 0.000 | 0.000 | |
| attributePages | 0 | 0 | 0 | |
| exportFASTA | 0 | 0 | 0 | |
| filterOptions | 0 | 0 | 0 | |
| filterType | 0 | 0 | 0 | |
| getBM | 0.312 | 0.012 | 6.366 | |
| getBMlist | 0.000 | 0.000 | 0.001 | |
| getGene | 0 | 0 | 0 | |
| getLDS | 0 | 0 | 0 | |
| getSequence | 0 | 0 | 0 | |
| getXML | 0.000 | 0.000 | 0.001 | |
| listAttributes | 0.000 | 0.000 | 0.001 | |
| listDatasets | 0.004 | 0.000 | 0.001 | |
| listEnsembl | 0 | 0 | 0 | |
| listEnsemblArchives | 0.016 | 0.008 | 0.315 | |
| listFilters | 0.000 | 0.000 | 0.001 | |
| listMarts | 0 | 0 | 0 | |
| select | 0.348 | 0.056 | 16.624 | |
| useDataset | 0 | 0 | 0 | |
| useEnsembl | 0 | 0 | 0 | |
| useMart | 0 | 0 | 0 | |