| Back to Multiple platform build/check report for BioC 3.8 |
|
This page was generated on 2019-04-13 11:20:30 -0400 (Sat, 13 Apr 2019).
| Package 137/1649 | Hostname | OS / Arch | INSTALL | BUILD | CHECK | BUILD BIN | ||||||
| biocGraph 1.44.0 Florian Hahne
| malbec1 | Linux (Ubuntu 16.04.6 LTS) / x86_64 | OK | OK | OK | |||||||
| tokay1 | Windows Server 2012 R2 Standard / x64 | [ OK ] | OK | OK | OK | |||||||
| merida1 | OS X 10.11.6 El Capitan / x86_64 | OK | OK | OK | OK |
| Package: biocGraph |
| Version: 1.44.0 |
| Command: C:\cygwin\bin\curl.exe -O https://malbec1.bioconductor.org/BBS/3.8/bioc/src/contrib/biocGraph_1.44.0.tar.gz && rm -rf biocGraph.buildbin-libdir && mkdir biocGraph.buildbin-libdir && C:\Users\biocbuild\bbs-3.8-bioc\R\bin\R.exe CMD INSTALL --merge-multiarch --build --library=biocGraph.buildbin-libdir biocGraph_1.44.0.tar.gz && C:\Users\biocbuild\bbs-3.8-bioc\R\bin\R.exe CMD INSTALL biocGraph_1.44.0.zip && rm biocGraph_1.44.0.tar.gz biocGraph_1.44.0.zip |
| StartedAt: 2019-04-12 19:29:01 -0400 (Fri, 12 Apr 2019) |
| EndedAt: 2019-04-12 19:29:21 -0400 (Fri, 12 Apr 2019) |
| EllapsedTime: 19.9 seconds |
| RetCode: 0 |
| Status: OK |
##############################################################################
##############################################################################
###
### Running command:
###
### C:\cygwin\bin\curl.exe -O https://malbec1.bioconductor.org/BBS/3.8/bioc/src/contrib/biocGraph_1.44.0.tar.gz && rm -rf biocGraph.buildbin-libdir && mkdir biocGraph.buildbin-libdir && C:\Users\biocbuild\bbs-3.8-bioc\R\bin\R.exe CMD INSTALL --merge-multiarch --build --library=biocGraph.buildbin-libdir biocGraph_1.44.0.tar.gz && C:\Users\biocbuild\bbs-3.8-bioc\R\bin\R.exe CMD INSTALL biocGraph_1.44.0.zip && rm biocGraph_1.44.0.tar.gz biocGraph_1.44.0.zip
###
##############################################################################
##############################################################################
% Total % Received % Xferd Average Speed Time Time Time Current
Dload Upload Total Spent Left Speed
0 0 0 0 0 0 0 0 --:--:-- --:--:-- --:--:-- 0
100 31455 100 31455 0 0 774k 0 --:--:-- --:--:-- --:--:-- 853k
install for i386
* installing *source* package 'biocGraph' ...
** R
** byte-compile and prepare package for lazy loading
** help
*** installing help indices
converting help for package 'biocGraph'
finding HTML links ... done
imageMap html
** building package indices
** installing vignettes
** testing if installed package can be loaded
In R CMD INSTALL
install for x64
* installing *source* package 'biocGraph' ...
** testing if installed package can be loaded
* MD5 sums
packaged installation of 'biocGraph' as biocGraph_1.44.0.zip
* DONE (biocGraph)
In R CMD INSTALL
In R CMD INSTALL
* installing to library 'C:/Users/biocbuild/bbs-3.8-bioc/R/library'
package 'biocGraph' successfully unpacked and MD5 sums checked
In R CMD INSTALL