| Back to Multiple platform build/check report for BioC 3.8 |
|
This page was generated on 2019-04-13 11:23:16 -0400 (Sat, 13 Apr 2019).
| Package 129/1649 | Hostname | OS / Arch | INSTALL | BUILD | CHECK | BUILD BIN | ||||||
| bioassayR 1.20.1 Tyler Backman
| malbec1 | Linux (Ubuntu 16.04.6 LTS) / x86_64 | OK | OK | OK | |||||||
| tokay1 | Windows Server 2012 R2 Standard / x64 | OK | OK | OK | [ OK ] | |||||||
| merida1 | OS X 10.11.6 El Capitan / x86_64 | OK | OK | OK | OK |
| Package: bioassayR |
| Version: 1.20.1 |
| Command: rm -rf bioassayR.buildbin-libdir && mkdir bioassayR.buildbin-libdir && C:\Users\biocbuild\bbs-3.8-bioc\R\bin\R.exe CMD INSTALL --merge-multiarch --build --library=bioassayR.buildbin-libdir bioassayR_1.20.1.tar.gz |
| StartedAt: 2019-04-13 06:57:04 -0400 (Sat, 13 Apr 2019) |
| EndedAt: 2019-04-13 06:57:32 -0400 (Sat, 13 Apr 2019) |
| EllapsedTime: 27.9 seconds |
| RetCode: 0 |
| Status: OK |
| PackageFile: bioassayR_1.20.1.zip |
| PackageFileSize: 800.7 KiB |
##############################################################################
##############################################################################
###
### Running command:
###
### rm -rf bioassayR.buildbin-libdir && mkdir bioassayR.buildbin-libdir && C:\Users\biocbuild\bbs-3.8-bioc\R\bin\R.exe CMD INSTALL --merge-multiarch --build --library=bioassayR.buildbin-libdir bioassayR_1.20.1.tar.gz
###
##############################################################################
##############################################################################
install for i386
* installing *source* package 'bioassayR' ...
** R
** data
** inst
** byte-compile and prepare package for lazy loading
Creating a new generic function for 'organism' in package 'bioassayR'
Creating a new generic function for 'organism<-' in package 'bioassayR'
** help
*** installing help indices
converting help for package 'bioassayR'
finding HTML links ... done
BioAssayDB-class html
activeAgainst html
activeTargets html
addBioassayIndex html
addDataSource html
allCids html
allTargets html
assaySetTargets html
bioactivityFingerprint html
bioassay-class html
bioassaySet-class html
connectBioassayDB html
crossReactivityProbability html
disconnectBioassayDB html
dropBioassay html
dropBioassayIndex html
getAssay html
getAssays html
getBioassaySetByCids html
inactiveTargets html
loadBioassay html
loadIdMapping html
newBioassayDB html
parsePubChemBioassay html
perTargetMatrix html
queryBioassayDB html
samplebioassay html
scaleBioassaySet html
screenedAtLeast html
selectiveAgainst html
targetSelectivity html
translateTargetId html
trinarySimilarity html
** building package indices
** installing vignettes
** testing if installed package can be loaded
In R CMD INSTALL
install for x64
* installing *source* package 'bioassayR' ...
** testing if installed package can be loaded
* MD5 sums
packaged installation of 'bioassayR' as bioassayR_1.20.1.zip
* DONE (bioassayR)
In R CMD INSTALL
In R CMD INSTALL