| Back to Multiple platform build/check report for BioC 3.8 |
|
This page was generated on 2019-04-13 11:19:33 -0400 (Sat, 13 Apr 2019).
| Package 149/1649 | Hostname | OS / Arch | INSTALL | BUILD | CHECK | BUILD BIN | ||||||
| bioDist 1.54.0 Bioconductor Package Maintainer
| malbec1 | Linux (Ubuntu 16.04.6 LTS) / x86_64 | OK | OK | OK | |||||||
| tokay1 | Windows Server 2012 R2 Standard / x64 | [ OK ] | OK | OK | OK | |||||||
| merida1 | OS X 10.11.6 El Capitan / x86_64 | OK | OK | OK | OK |
| Package: bioDist |
| Version: 1.54.0 |
| Command: C:\cygwin\bin\curl.exe -O https://malbec1.bioconductor.org/BBS/3.8/bioc/src/contrib/bioDist_1.54.0.tar.gz && rm -rf bioDist.buildbin-libdir && mkdir bioDist.buildbin-libdir && C:\Users\biocbuild\bbs-3.8-bioc\R\bin\R.exe CMD INSTALL --merge-multiarch --build --library=bioDist.buildbin-libdir bioDist_1.54.0.tar.gz && C:\Users\biocbuild\bbs-3.8-bioc\R\bin\R.exe CMD INSTALL bioDist_1.54.0.zip && rm bioDist_1.54.0.tar.gz bioDist_1.54.0.zip |
| StartedAt: 2019-04-12 18:58:16 -0400 (Fri, 12 Apr 2019) |
| EndedAt: 2019-04-12 18:58:37 -0400 (Fri, 12 Apr 2019) |
| EllapsedTime: 21.0 seconds |
| RetCode: 0 |
| Status: OK |
##############################################################################
##############################################################################
###
### Running command:
###
### C:\cygwin\bin\curl.exe -O https://malbec1.bioconductor.org/BBS/3.8/bioc/src/contrib/bioDist_1.54.0.tar.gz && rm -rf bioDist.buildbin-libdir && mkdir bioDist.buildbin-libdir && C:\Users\biocbuild\bbs-3.8-bioc\R\bin\R.exe CMD INSTALL --merge-multiarch --build --library=bioDist.buildbin-libdir bioDist_1.54.0.tar.gz && C:\Users\biocbuild\bbs-3.8-bioc\R\bin\R.exe CMD INSTALL bioDist_1.54.0.zip && rm bioDist_1.54.0.tar.gz bioDist_1.54.0.zip
###
##############################################################################
##############################################################################
% Total % Received % Xferd Average Speed Time Time Time Current
Dload Upload Total Spent Left Speed
0 0 0 0 0 0 0 0 --:--:-- --:--:-- --:--:-- 0
100 9672 100 9672 0 0 271k 0 --:--:-- --:--:-- --:--:-- 304k
install for i386
* installing *source* package 'bioDist' ...
** R
** byte-compile and prepare package for lazy loading
** help
*** installing help indices
converting help for package 'bioDist'
finding HTML links ... done
KLD.matrix html
KLdist.matrix html
closest.top html
cor.dist html
euc html
man html
mutualInfo html
spearman.dist html
tau.dist html
** building package indices
** installing vignettes
** testing if installed package can be loaded
In R CMD INSTALL
install for x64
* installing *source* package 'bioDist' ...
** testing if installed package can be loaded
* MD5 sums
packaged installation of 'bioDist' as bioDist_1.54.0.zip
* DONE (bioDist)
In R CMD INSTALL
In R CMD INSTALL
* installing to library 'C:/Users/biocbuild/bbs-3.8-bioc/R/library'
package 'bioDist' successfully unpacked and MD5 sums checked
In R CMD INSTALL