| Back to Multiple platform build/check report for BioC 3.8 |
|
This page was generated on 2019-04-16 11:59:57 -0400 (Tue, 16 Apr 2019).
| Package 127/1649 | Hostname | OS / Arch | INSTALL | BUILD | CHECK | BUILD BIN | ||||||
| bigmelon 1.8.0 Tyler J. Gorrie-Stone
| malbec1 | Linux (Ubuntu 16.04.6 LTS) / x86_64 | OK | OK | OK | |||||||
| merida1 | OS X 10.11.6 El Capitan / x86_64 | OK | OK | OK | [ OK ] |
| Package: bigmelon |
| Version: 1.8.0 |
| Command: rm -rf bigmelon.buildbin-libdir && mkdir bigmelon.buildbin-libdir && /Users/biocbuild/BBS/utils/build-universal.sh bigmelon_1.8.0.tar.gz /Library/Frameworks/R.framework/Versions/Current/Resources/bin/R bigmelon.buildbin-libdir |
| StartedAt: 2019-04-16 03:44:06 -0400 (Tue, 16 Apr 2019) |
| EndedAt: 2019-04-16 03:44:50 -0400 (Tue, 16 Apr 2019) |
| EllapsedTime: 43.9 seconds |
| RetCode: 0 |
| Status: OK |
| PackageFile: bigmelon_1.8.0.tgz |
| PackageFileSize: 1.163 MiB |
############################################################################## ############################################################################## ### ### Running command: ### ### rm -rf bigmelon.buildbin-libdir && mkdir bigmelon.buildbin-libdir && /Users/biocbuild/BBS/utils/build-universal.sh bigmelon_1.8.0.tar.gz /Library/Frameworks/R.framework/Versions/Current/Resources/bin/R bigmelon.buildbin-libdir ### ############################################################################## ############################################################################## >>>>>>> >>>>>>> INSTALLATION WITH 'R CMD INSTALL --preclean --no-multiarch --library=bigmelon.buildbin-libdir bigmelon_1.8.0.tar.gz' >>>>>>> * installing *source* package ‘bigmelon’ ... ** R ** data ** inst ** byte-compile and prepare package for lazy loading Creating a new generic function for ‘fot’ in package ‘bigmelon’ Creating a new generic function for ‘predictSex’ in package ‘bigmelon’ ** help *** installing help indices ** building package indices ** installing vignettes ** testing if installed package can be loaded * DONE (bigmelon)