| Back to Multiple platform build/check report for BioC 3.8 |
|
This page was generated on 2019-04-16 11:53:51 -0400 (Tue, 16 Apr 2019).
| Package 106/1649 | Hostname | OS / Arch | INSTALL | BUILD | CHECK | BUILD BIN | ||||||
| bayNorm 1.0.9 Wenhao Tang
| malbec1 | Linux (Ubuntu 16.04.6 LTS) / x86_64 | OK | OK | [ OK ] | |||||||
| merida1 | OS X 10.11.6 El Capitan / x86_64 | OK | OK | OK | OK |
| Package: bayNorm |
| Version: 1.0.9 |
| Command: /home/biocbuild/bbs-3.8-bioc/R/bin/R CMD check --install=check:bayNorm.install-out.txt --library=/home/biocbuild/bbs-3.8-bioc/R/library --no-vignettes --timings bayNorm_1.0.9.tar.gz |
| StartedAt: 2019-04-15 22:21:43 -0400 (Mon, 15 Apr 2019) |
| EndedAt: 2019-04-15 22:25:20 -0400 (Mon, 15 Apr 2019) |
| EllapsedTime: 217.3 seconds |
| RetCode: 0 |
| Status: OK |
| CheckDir: bayNorm.Rcheck |
| Warnings: 0 |
##############################################################################
##############################################################################
###
### Running command:
###
### /home/biocbuild/bbs-3.8-bioc/R/bin/R CMD check --install=check:bayNorm.install-out.txt --library=/home/biocbuild/bbs-3.8-bioc/R/library --no-vignettes --timings bayNorm_1.0.9.tar.gz
###
##############################################################################
##############################################################################
* using log directory ‘/home/biocbuild/bbs-3.8-bioc/meat/bayNorm.Rcheck’
* using R version 3.5.3 (2019-03-11)
* using platform: x86_64-pc-linux-gnu (64-bit)
* using session charset: UTF-8
* using option ‘--no-vignettes’
* checking for file ‘bayNorm/DESCRIPTION’ ... OK
* checking extension type ... Package
* this is package ‘bayNorm’ version ‘1.0.9’
* package encoding: UTF-8
* checking package namespace information ... OK
* checking package dependencies ... OK
* checking if this is a source package ... OK
* checking if there is a namespace ... OK
* checking for hidden files and directories ... OK
* checking for portable file names ... OK
* checking for sufficient/correct file permissions ... OK
* checking whether package ‘bayNorm’ can be installed ... OK
* checking installed package size ... OK
* checking package directory ... OK
* checking ‘build’ directory ... OK
* checking DESCRIPTION meta-information ... OK
* checking top-level files ... OK
* checking for left-over files ... OK
* checking index information ... OK
* checking package subdirectories ... OK
* checking R files for non-ASCII characters ... OK
* checking R files for syntax errors ... OK
* checking whether the package can be loaded ... OK
* checking whether the package can be loaded with stated dependencies ... OK
* checking whether the package can be unloaded cleanly ... OK
* checking whether the namespace can be loaded with stated dependencies ... OK
* checking whether the namespace can be unloaded cleanly ... OK
* checking dependencies in R code ... OK
* checking S3 generic/method consistency ... OK
* checking replacement functions ... OK
* checking foreign function calls ... OK
* checking R code for possible problems ... OK
* checking Rd files ... OK
* checking Rd metadata ... OK
* checking Rd cross-references ... OK
* checking for missing documentation entries ... OK
* checking for code/documentation mismatches ... OK
* checking Rd \usage sections ... OK
* checking Rd contents ... OK
* checking for unstated dependencies in examples ... OK
* checking contents of ‘data’ directory ... OK
* checking data for non-ASCII characters ... OK
* checking data for ASCII and uncompressed saves ... OK
* checking line endings in C/C++/Fortran sources/headers ... OK
* checking compiled code ... NOTE
Note: information on .o files is not available
* checking files in ‘vignettes’ ... OK
* checking examples ... OK
Examples with CPU or elapsed time > 5s
user system elapsed
bayNorm_sup 9.740 0.000 9.765
bayNorm 9.612 0.000 9.652
noisy_gene_detection 9.576 0.004 9.622
Prior_fun 9.400 0.028 9.587
BB_Fun 9.020 0.000 9.092
* checking for unstated dependencies in ‘tests’ ... OK
* checking tests ...
Running ‘testthat.R’
OK
* checking for unstated dependencies in vignettes ... OK
* checking package vignettes in ‘inst/doc’ ... OK
* checking running R code from vignettes ... SKIPPED
* checking re-building of vignette outputs ... SKIPPED
* checking PDF version of manual ... OK
* DONE
Status: 1 NOTE
See
‘/home/biocbuild/bbs-3.8-bioc/meat/bayNorm.Rcheck/00check.log’
for details.
bayNorm.Rcheck/00install.out
##############################################################################
##############################################################################
###
### Running command:
###
### /home/biocbuild/bbs-3.8-bioc/R/bin/R CMD INSTALL bayNorm
###
##############################################################################
##############################################################################
* installing to library ‘/home/biocbuild/bbs-3.8-bioc/R/library’
* installing *source* package ‘bayNorm’ ...
** libs
g++ -I"/home/biocbuild/bbs-3.8-bioc/R/include" -DNDEBUG -I"/home/biocbuild/bbs-3.8-bioc/R/library/Rcpp/include" -I"/home/biocbuild/bbs-3.8-bioc/R/library/RcppArmadillo/include" -I"/home/biocbuild/bbs-3.8-bioc/R/library/RcppProgress/include" -I/usr/local/include -fpic -g -O2 -Wall -c RcppExports.cpp -o RcppExports.o
In file included from /home/biocbuild/bbs-3.8-bioc/R/library/RcppArmadillo/include/armadillo:54:0,
from /home/biocbuild/bbs-3.8-bioc/R/library/RcppArmadillo/include/RcppArmadilloForward.h:46,
from /home/biocbuild/bbs-3.8-bioc/R/library/RcppArmadillo/include/RcppArmadillo.h:31,
from RcppExports.cpp:4:
/home/biocbuild/bbs-3.8-bioc/R/library/RcppArmadillo/include/armadillo_bits/compiler_setup.hpp:514:108: note: #pragma message: NOTE: suggest to enable C++14 mode for faster code; add -std=c++14 to compiler flags
#pragma message ("NOTE: suggest to enable C++14 mode for faster code; add -std=c++14 to compiler flags")
^
g++ -I"/home/biocbuild/bbs-3.8-bioc/R/include" -DNDEBUG -I"/home/biocbuild/bbs-3.8-bioc/R/library/Rcpp/include" -I"/home/biocbuild/bbs-3.8-bioc/R/library/RcppArmadillo/include" -I"/home/biocbuild/bbs-3.8-bioc/R/library/RcppProgress/include" -I/usr/local/include -fpic -g -O2 -Wall -c bayNorm_main.cpp -o bayNorm_main.o
In file included from /home/biocbuild/bbs-3.8-bioc/R/library/RcppArmadillo/include/armadillo:54:0,
from /home/biocbuild/bbs-3.8-bioc/R/library/RcppArmadillo/include/RcppArmadilloForward.h:46,
from /home/biocbuild/bbs-3.8-bioc/R/library/RcppArmadillo/include/RcppArmadillo.h:31,
from bayNorm_main.cpp:1:
/home/biocbuild/bbs-3.8-bioc/R/library/RcppArmadillo/include/armadillo_bits/compiler_setup.hpp:514:108: note: #pragma message: NOTE: suggest to enable C++14 mode for faster code; add -std=c++14 to compiler flags
#pragma message ("NOTE: suggest to enable C++14 mode for faster code; add -std=c++14 to compiler flags")
^
g++ -shared -L/home/biocbuild/bbs-3.8-bioc/R/lib -L/usr/local/lib -o bayNorm.so RcppExports.o bayNorm_main.o -L/home/biocbuild/bbs-3.8-bioc/R/lib -lR
installing to /home/biocbuild/bbs-3.8-bioc/R/library/bayNorm/libs
** R
** data
** inst
** byte-compile and prepare package for lazy loading
** help
*** installing help indices
** building package indices
** installing vignettes
** testing if installed package can be loaded
* DONE (bayNorm)
bayNorm.Rcheck/tests/testthat.Rout
R version 3.5.3 (2019-03-11) -- "Great Truth"
Copyright (C) 2019 The R Foundation for Statistical Computing
Platform: x86_64-pc-linux-gnu (64-bit)
R is free software and comes with ABSOLUTELY NO WARRANTY.
You are welcome to redistribute it under certain conditions.
Type 'license()' or 'licence()' for distribution details.
R is a collaborative project with many contributors.
Type 'contributors()' for more information and
'citation()' on how to cite R or R packages in publications.
Type 'demo()' for some demos, 'help()' for on-line help, or
'help.start()' for an HTML browser interface to help.
Type 'q()' to quit R.
> library(testthat)
> library(bayNorm)
>
> test_check("bayNorm")
|
| | 0%
|
|======= | 10%
|
|============== | 20%
|
|===================== | 30%
|
|============================ | 40%
|
|=================================== | 50%
|
|========================================== | 60%
|
|================================================= | 70%
|
|======================================================== | 80%
|
|=============================================================== | 90%
|
|======================================================================| 100%
|
| | 0%
|
|======= | 10%
|
|============== | 20%
|
|===================== | 30%
|
|============================ | 40%
|
|=================================== | 50%
|
|========================================== | 60%
|
|================================================= | 70%
|
|======================================================== | 80%
|
|=============================================================== | 90%
|
|======================================================================| 100%
0% 10 20 30 40 50 60 70 80 90 100%
[----|----|----|----|----|----|----|----|----|----|
**************************************************|
|
| | 0%
|
|======= | 10%
|
|============== | 20%
|
|===================== | 30%
|
|============================ | 40%
|
|=================================== | 50%
|
|========================================== | 60%
|
|================================================= | 70%
|
|======================================================== | 80%
|
|=============================================================== | 90%
|
|======================================================================| 100%
|
| | 0%
|
|======= | 10%
|
|============== | 20%
|
|===================== | 30%
|
|============================ | 40%
|
|=================================== | 50%
|
|========================================== | 60%
|
|================================================= | 70%
|
|======================================================== | 80%
|
|=============================================================== | 90%
|
|======================================================================| 100%
0% 10 20 30 40 50 60 70 80 90 100%
[----|----|----|----|----|----|----|----|----|----|
**************************************************|
|
| | 0%
|
|======= | 10%
|
|============== | 20%
|
|===================== | 30%
|
|============================ | 40%
|
|=================================== | 50%
|
|========================================== | 60%
|
|================================================= | 70%
|
|======================================================== | 80%
|
|=============================================================== | 90%
|
|======================================================================| 100%
|
| | 0%
|
|======= | 10%
|
|============== | 20%
|
|===================== | 30%
|
|============================ | 40%
|
|=================================== | 50%
|
|========================================== | 60%
|
|================================================= | 70%
|
|======================================================== | 80%
|
|=============================================================== | 90%
|
|======================================================================| 100%
0% 10 20 30 40 50 60 70 80 90 100%
[----|----|----|----|----|----|----|----|----|----|
**************************************************|
0% 10 20 30 40 50 60 70 80 90 100%
[----|----|----|----|----|----|----|----|----|----|
**************************************************|
══ testthat results ═══════════════════════════════════════════════════════════
OK: 2 SKIPPED: 0 FAILED: 0
>
> proc.time()
user system elapsed
21.984 0.284 22.380
bayNorm.Rcheck/bayNorm-Ex.timings
| name | user | system | elapsed | |
| AdjustSIZE_fun | 0.012 | 0.000 | 0.012 | |
| BB_Fun | 9.020 | 0.000 | 9.092 | |
| BetaFun | 0.008 | 0.000 | 0.009 | |
| DownSampling | 0.004 | 0.000 | 0.003 | |
| EXAMPLE_DATA_list | 0.004 | 0.000 | 0.002 | |
| EstPrior | 0.124 | 0.004 | 0.129 | |
| NOISY_FUN | 0.372 | 0.048 | 0.423 | |
| Prior_fun | 9.400 | 0.028 | 9.587 | |
| SyntheticControl | 0.000 | 0.004 | 0.004 | |
| bayNorm | 9.612 | 0.000 | 9.652 | |
| bayNorm_sup | 9.740 | 0.000 | 9.765 | |
| noisy_gene_detection | 9.576 | 0.004 | 9.622 | |