| Back to Multiple platform build/check report for BioC 3.8 | 
 | 
This page was generated on 2019-04-16 11:55:33 -0400 (Tue, 16 Apr 2019).
| Package 62/1649 | Hostname | OS / Arch | INSTALL | BUILD | CHECK | BUILD BIN | ||||||
| anota 1.30.0 Ola Larsson 
 | malbec1 | Linux (Ubuntu 16.04.6 LTS) / x86_64 | OK | OK | OK | |||||||
| merida1 | OS X 10.11.6 El Capitan / x86_64 | OK | OK | OK | [ OK ] | 
| Package: anota | 
| Version: 1.30.0 | 
| Command: rm -rf anota.buildbin-libdir && mkdir anota.buildbin-libdir && /Users/biocbuild/BBS/utils/build-universal.sh anota_1.30.0.tar.gz /Library/Frameworks/R.framework/Versions/Current/Resources/bin/R anota.buildbin-libdir | 
| StartedAt: 2019-04-16 03:40:56 -0400 (Tue, 16 Apr 2019) | 
| EndedAt: 2019-04-16 03:41:47 -0400 (Tue, 16 Apr 2019) | 
| EllapsedTime: 51.2 seconds | 
| RetCode: 0 | 
| Status: OK | 
| PackageFile: anota_1.30.0.tgz | 
| PackageFileSize: 609.6 KiB | 
############################################################################## ############################################################################## ### ### Running command: ### ### rm -rf anota.buildbin-libdir && mkdir anota.buildbin-libdir && /Users/biocbuild/BBS/utils/build-universal.sh anota_1.30.0.tar.gz /Library/Frameworks/R.framework/Versions/Current/Resources/bin/R anota.buildbin-libdir ### ############################################################################## ############################################################################## >>>>>>> >>>>>>> INSTALLATION WITH 'R CMD INSTALL --preclean --no-multiarch --library=anota.buildbin-libdir anota_1.30.0.tar.gz' >>>>>>> * installing *source* package ‘anota’ ... ** R ** data *** moving datasets to lazyload DB ** inst ** byte-compile and prepare package for lazy loading ** help *** installing help indices ** building package indices ** installing vignettes ** testing if installed package can be loaded * DONE (anota)