| Back to Multiple platform build/check report for BioC 3.8 |
|
This page was generated on 2019-04-16 11:52:17 -0400 (Tue, 16 Apr 2019).
| Package 40/1649 | Hostname | OS / Arch | INSTALL | BUILD | CHECK | BUILD BIN | ||||||
| alpine 1.8.0 Michael Love
| malbec1 | Linux (Ubuntu 16.04.6 LTS) / x86_64 | OK | OK | [ OK ] | |||||||
| merida1 | OS X 10.11.6 El Capitan / x86_64 | OK | OK | OK | OK |
| Package: alpine |
| Version: 1.8.0 |
| Command: /home/biocbuild/bbs-3.8-bioc/R/bin/R CMD check --install=check:alpine.install-out.txt --library=/home/biocbuild/bbs-3.8-bioc/R/library --no-vignettes --timings alpine_1.8.0.tar.gz |
| StartedAt: 2019-04-15 22:09:03 -0400 (Mon, 15 Apr 2019) |
| EndedAt: 2019-04-15 22:14:10 -0400 (Mon, 15 Apr 2019) |
| EllapsedTime: 307.2 seconds |
| RetCode: 0 |
| Status: OK |
| CheckDir: alpine.Rcheck |
| Warnings: 0 |
##############################################################################
##############################################################################
###
### Running command:
###
### /home/biocbuild/bbs-3.8-bioc/R/bin/R CMD check --install=check:alpine.install-out.txt --library=/home/biocbuild/bbs-3.8-bioc/R/library --no-vignettes --timings alpine_1.8.0.tar.gz
###
##############################################################################
##############################################################################
* using log directory ‘/home/biocbuild/bbs-3.8-bioc/meat/alpine.Rcheck’
* using R version 3.5.3 (2019-03-11)
* using platform: x86_64-pc-linux-gnu (64-bit)
* using session charset: UTF-8
* using option ‘--no-vignettes’
* checking for file ‘alpine/DESCRIPTION’ ... OK
* this is package ‘alpine’ version ‘1.8.0’
* checking package namespace information ... OK
* checking package dependencies ... OK
* checking if this is a source package ... OK
* checking if there is a namespace ... OK
* checking for hidden files and directories ... OK
* checking for portable file names ... OK
* checking for sufficient/correct file permissions ... OK
* checking whether package ‘alpine’ can be installed ... OK
* checking installed package size ... OK
* checking package directory ... OK
* checking ‘build’ directory ... OK
* checking DESCRIPTION meta-information ... OK
* checking top-level files ... OK
* checking for left-over files ... OK
* checking index information ... OK
* checking package subdirectories ... OK
* checking R files for non-ASCII characters ... OK
* checking R files for syntax errors ... OK
* checking whether the package can be loaded ... OK
* checking whether the package can be loaded with stated dependencies ... OK
* checking whether the package can be unloaded cleanly ... OK
* checking whether the namespace can be loaded with stated dependencies ... OK
* checking whether the namespace can be unloaded cleanly ... OK
* checking dependencies in R code ... NOTE
Unexported object imported by a ':::' call: ‘S4Vectors:::fancy_mseq’
See the note in ?`:::` about the use of this operator.
* checking S3 generic/method consistency ... OK
* checking replacement functions ... OK
* checking foreign function calls ... OK
* checking R code for possible problems ... OK
* checking Rd files ... OK
* checking Rd metadata ... OK
* checking Rd cross-references ... OK
* checking for missing documentation entries ... OK
* checking for code/documentation mismatches ... OK
* checking Rd \usage sections ... OK
* checking Rd contents ... OK
* checking for unstated dependencies in examples ... OK
* checking contents of ‘data’ directory ... OK
* checking data for non-ASCII characters ... OK
* checking data for ASCII and uncompressed saves ... OK
* checking files in ‘vignettes’ ... OK
* checking examples ... OK
Examples with CPU or elapsed time > 5s
user system elapsed
fitBiasModels 14.852 0.700 15.877
estimateAbundance 12.176 0.424 13.236
predictCoverage 6.068 0.220 6.372
* checking for unstated dependencies in ‘tests’ ... OK
* checking tests ...
Running ‘testthat.R’
OK
* checking for unstated dependencies in vignettes ... OK
* checking package vignettes in ‘inst/doc’ ... OK
* checking running R code from vignettes ... SKIPPED
* checking re-building of vignette outputs ... SKIPPED
* checking PDF version of manual ... OK
* DONE
Status: 1 NOTE
See
‘/home/biocbuild/bbs-3.8-bioc/meat/alpine.Rcheck/00check.log’
for details.
alpine.Rcheck/00install.out
############################################################################## ############################################################################## ### ### Running command: ### ### /home/biocbuild/bbs-3.8-bioc/R/bin/R CMD INSTALL alpine ### ############################################################################## ############################################################################## * installing to library ‘/home/biocbuild/bbs-3.8-bioc/R/library’ * installing *source* package ‘alpine’ ... ** R ** data ** inst ** byte-compile and prepare package for lazy loading ** help *** installing help indices ** building package indices ** installing vignettes ** testing if installed package can be loaded * DONE (alpine)
alpine.Rcheck/tests/testthat.Rout
R version 3.5.3 (2019-03-11) -- "Great Truth"
Copyright (C) 2019 The R Foundation for Statistical Computing
Platform: x86_64-pc-linux-gnu (64-bit)
R is free software and comes with ABSOLUTELY NO WARRANTY.
You are welcome to redistribute it under certain conditions.
Type 'license()' or 'licence()' for distribution details.
R is a collaborative project with many contributors.
Type 'contributors()' for more information and
'citation()' on how to cite R or R packages in publications.
Type 'demo()' for some demos, 'help()' for on-line help, or
'help.start()' for an HTML browser interface to help.
Type 'q()' to quit R.
> library(testthat)
> library(alpine)
> test_check("alpine")
══ testthat results ═══════════════════════════════════════════════════════════
OK: 1 SKIPPED: 0 FAILED: 0
>
> proc.time()
user system elapsed
51.824 2.040 54.398
alpine.Rcheck/alpine-Ex.timings
| name | user | system | elapsed | |
| buildFragtypes | 2.684 | 0.092 | 2.804 | |
| estimateAbundance | 12.176 | 0.424 | 13.236 | |
| extractAlpine | 0.036 | 0.000 | 0.037 | |
| fitBiasModels | 14.852 | 0.700 | 15.877 | |
| getFragmentWidths | 2.848 | 0.020 | 3.080 | |
| getReadLength | 1.644 | 0.004 | 1.759 | |
| mergeGenes | 0.332 | 0.000 | 0.332 | |
| normalizeDESeq | 0.000 | 0.000 | 0.002 | |
| plotFragLen | 0.036 | 0.000 | 0.035 | |
| plotGC | 0.056 | 0.000 | 0.056 | |
| plotGRL | 0.248 | 0.000 | 0.247 | |
| plotOrder0 | 0.064 | 0.004 | 0.070 | |
| plotRelPos | 0.032 | 0.004 | 0.036 | |
| predictCoverage | 6.068 | 0.220 | 6.372 | |
| splitGenesAcrossChroms | 0.260 | 0.000 | 0.261 | |
| splitLongGenes | 0.368 | 0.000 | 0.365 | |