| Back to Multiple platform build/check report for BioC 3.8 |
|
This page was generated on 2019-04-13 11:20:39 -0400 (Sat, 13 Apr 2019).
| Package 29/1649 | Hostname | OS / Arch | INSTALL | BUILD | CHECK | BUILD BIN | ||||||
| affyPara 1.42.0 Markus Schmidberger
| malbec1 | Linux (Ubuntu 16.04.6 LTS) / x86_64 | OK | OK | OK | |||||||
| tokay1 | Windows Server 2012 R2 Standard / x64 | OK | OK | OK | [ OK ] | |||||||
| merida1 | OS X 10.11.6 El Capitan / x86_64 | OK | OK | OK | OK |
| Package: affyPara |
| Version: 1.42.0 |
| Command: rm -rf affyPara.buildbin-libdir && mkdir affyPara.buildbin-libdir && C:\Users\biocbuild\bbs-3.8-bioc\R\bin\R.exe CMD INSTALL --merge-multiarch --build --library=affyPara.buildbin-libdir affyPara_1.42.0.tar.gz |
| StartedAt: 2019-04-13 06:53:08 -0400 (Sat, 13 Apr 2019) |
| EndedAt: 2019-04-13 06:53:34 -0400 (Sat, 13 Apr 2019) |
| EllapsedTime: 26.1 seconds |
| RetCode: 0 |
| Status: OK |
| PackageFile: affyPara_1.42.0.zip |
| PackageFileSize: 877.7 KiB |
##############################################################################
##############################################################################
###
### Running command:
###
### rm -rf affyPara.buildbin-libdir && mkdir affyPara.buildbin-libdir && C:\Users\biocbuild\bbs-3.8-bioc\R\bin\R.exe CMD INSTALL --merge-multiarch --build --library=affyPara.buildbin-libdir affyPara_1.42.0.tar.gz
###
##############################################################################
##############################################################################
install for i386
* installing *source* package 'affyPara' ...
** R
** inst
** byte-compile and prepare package for lazy loading
** help
*** installing help indices
converting help for package 'affyPara'
finding HTML links ... done
MAplotPara html
bgcPara html
boxplotPara html
class.vsnInputPara html
computeExprSetPara html
distributeFiles html
mergeSplitObjects html
normalizeAffyBatchConstantPara html
normalizeAffyBatchInvariantsetPara html
normalizeAffyBatchLoessPara html
normalizeAffyBatchLoessParaIter html
normalizeAffyBatchQuantilesPara html
preproPara html
qa html
readAffybatchPara html
removeDistributedFiles html
rmaPara html
snowReplace html
split html
vsnPara html
finding level-2 HTML links ... done
** building package indices
** installing vignettes
** testing if installed package can be loaded
In R CMD INSTALL
install for x64
* installing *source* package 'affyPara' ...
** testing if installed package can be loaded
* MD5 sums
packaged installation of 'affyPara' as affyPara_1.42.0.zip
* DONE (affyPara)
In R CMD INSTALL
In R CMD INSTALL