| Back to Multiple platform build/check report for BioC 3.8 |
|
This page was generated on 2019-04-13 11:21:18 -0400 (Sat, 13 Apr 2019).
| Package 26/1649 | Hostname | OS / Arch | INSTALL | BUILD | CHECK | BUILD BIN | ||||||
| affyILM 1.34.0 Myriam Kroll and Fabrice Berger
| malbec1 | Linux (Ubuntu 16.04.6 LTS) / x86_64 | OK | OK | OK | |||||||
| tokay1 | Windows Server 2012 R2 Standard / x64 | OK | OK | OK | [ OK ] | |||||||
| merida1 | OS X 10.11.6 El Capitan / x86_64 | OK | OK | OK | OK |
| Package: affyILM |
| Version: 1.34.0 |
| Command: rm -rf affyILM.buildbin-libdir && mkdir affyILM.buildbin-libdir && C:\Users\biocbuild\bbs-3.8-bioc\R\bin\R.exe CMD INSTALL --merge-multiarch --build --library=affyILM.buildbin-libdir affyILM_1.34.0.tar.gz |
| StartedAt: 2019-04-13 06:53:03 -0400 (Sat, 13 Apr 2019) |
| EndedAt: 2019-04-13 06:53:17 -0400 (Sat, 13 Apr 2019) |
| EllapsedTime: 14.6 seconds |
| RetCode: 0 |
| Status: OK |
| PackageFile: affyILM_1.34.0.zip |
| PackageFileSize: 331.9 KiB |
##############################################################################
##############################################################################
###
### Running command:
###
### rm -rf affyILM.buildbin-libdir && mkdir affyILM.buildbin-libdir && C:\Users\biocbuild\bbs-3.8-bioc\R\bin\R.exe CMD INSTALL --merge-multiarch --build --library=affyILM.buildbin-libdir affyILM_1.34.0.tar.gz
###
##############################################################################
##############################################################################
install for i386
* installing *source* package 'affyILM' ...
** R
** inst
** byte-compile and prepare package for lazy loading
** help
*** installing help indices
converting help for package 'affyILM'
finding HTML links ... done
ILM-class html
ilm-methods html
ilm html
plotILM html
plotIntens html
** building package indices
** installing vignettes
** testing if installed package can be loaded
In R CMD INSTALL
install for x64
* installing *source* package 'affyILM' ...
** testing if installed package can be loaded
* MD5 sums
packaged installation of 'affyILM' as affyILM_1.34.0.zip
* DONE (affyILM)
In R CMD INSTALL
In R CMD INSTALL