| Back to Multiple platform build/check report for BioC 3.8 |
|
This page was generated on 2019-04-16 12:12:21 -0400 (Tue, 16 Apr 2019).
| Package 1639/1649 | Hostname | OS / Arch | INSTALL | BUILD | CHECK | BUILD BIN | ||||||
| XINA 1.0.1 Lang Ho Lee
| malbec1 | Linux (Ubuntu 16.04.6 LTS) / x86_64 | OK | OK | OK | |||||||
| merida1 | OS X 10.11.6 El Capitan / x86_64 | OK | OK | [ OK ] | OK |
| Package: XINA |
| Version: 1.0.1 |
| Command: /Library/Frameworks/R.framework/Versions/Current/Resources/bin/R CMD check --install=check:XINA.install-out.txt --library=/Library/Frameworks/R.framework/Versions/Current/Resources/library --no-vignettes --timings XINA_1.0.1.tar.gz |
| StartedAt: 2019-04-16 03:24:26 -0400 (Tue, 16 Apr 2019) |
| EndedAt: 2019-04-16 03:27:13 -0400 (Tue, 16 Apr 2019) |
| EllapsedTime: 166.8 seconds |
| RetCode: 0 |
| Status: OK |
| CheckDir: XINA.Rcheck |
| Warnings: 0 |
##############################################################################
##############################################################################
###
### Running command:
###
### /Library/Frameworks/R.framework/Versions/Current/Resources/bin/R CMD check --install=check:XINA.install-out.txt --library=/Library/Frameworks/R.framework/Versions/Current/Resources/library --no-vignettes --timings XINA_1.0.1.tar.gz
###
##############################################################################
##############################################################################
* using log directory ‘/Users/biocbuild/bbs-3.8-bioc/meat/XINA.Rcheck’
* using R version 3.5.3 (2019-03-11)
* using platform: x86_64-apple-darwin15.6.0 (64-bit)
* using session charset: UTF-8
* using option ‘--no-vignettes’
* checking for file ‘XINA/DESCRIPTION’ ... OK
* checking extension type ... Package
* this is package ‘XINA’ version ‘1.0.1’
* package encoding: UTF-8
* checking package namespace information ... OK
* checking package dependencies ... OK
* checking if this is a source package ... OK
* checking if there is a namespace ... OK
* checking for hidden files and directories ... OK
* checking for portable file names ... OK
* checking for sufficient/correct file permissions ... OK
* checking whether package ‘XINA’ can be installed ... OK
* checking installed package size ... OK
* checking package directory ... OK
* checking ‘build’ directory ... OK
* checking DESCRIPTION meta-information ... OK
* checking top-level files ... OK
* checking for left-over files ... OK
* checking index information ... OK
* checking package subdirectories ... OK
* checking R files for non-ASCII characters ... OK
* checking R files for syntax errors ... OK
* checking whether the package can be loaded ... OK
* checking whether the package can be loaded with stated dependencies ... OK
* checking whether the package can be unloaded cleanly ... OK
* checking whether the namespace can be loaded with stated dependencies ... OK
* checking whether the namespace can be unloaded cleanly ... OK
* checking dependencies in R code ... NOTE
Package in Depends field not imported from: ‘Biobase’
These packages need to be imported from (in the NAMESPACE file)
for when this namespace is loaded but not attached.
* checking S3 generic/method consistency ... OK
* checking replacement functions ... OK
* checking foreign function calls ... OK
* checking R code for possible problems ... OK
* checking Rd files ... OK
* checking Rd metadata ... OK
* checking Rd cross-references ... OK
* checking for missing documentation entries ... OK
* checking for code/documentation mismatches ... OK
* checking Rd \usage sections ... OK
* checking Rd contents ... OK
* checking for unstated dependencies in examples ... OK
* checking contents of ‘data’ directory ... OK
* checking data for non-ASCII characters ... OK
* checking data for ASCII and uncompressed saves ... OK
* checking files in ‘vignettes’ ... OK
* checking examples ... OK
Examples with CPU or elapsed time > 5s
user system elapsed
xina_clustering 32.590 0.336 33.066
plot_condition_compositions 22.266 0.072 22.536
plot_clusters 13.399 0.039 13.559
mutate_colors 13.381 0.038 13.546
get_condition_biased_comigrations 8.027 0.049 8.149
xina_plot_all 5.182 0.617 5.294
* checking for unstated dependencies in vignettes ... OK
* checking package vignettes in ‘inst/doc’ ... OK
* checking running R code from vignettes ... SKIPPED
* checking re-building of vignette outputs ... SKIPPED
* checking PDF version of manual ... OK
* DONE
Status: 1 NOTE
See
‘/Users/biocbuild/bbs-3.8-bioc/meat/XINA.Rcheck/00check.log’
for details.
XINA.Rcheck/00install.out
############################################################################## ############################################################################## ### ### Running command: ### ### /Library/Frameworks/R.framework/Versions/Current/Resources/bin/R CMD INSTALL XINA ### ############################################################################## ############################################################################## * installing to library ‘/Library/Frameworks/R.framework/Versions/3.5/Resources/library’ * installing *source* package ‘XINA’ ... ** R ** data ** byte-compile and prepare package for lazy loading ** help *** installing help indices ** building package indices ** installing vignettes ** testing if installed package can be loaded * DONE (XINA)
XINA.Rcheck/XINA-Ex.timings
| name | user | system | elapsed | |
| alluvial_enriched | 3.664 | 0.077 | 3.778 | |
| draw_alluvial_plot | 0.087 | 0.007 | 0.095 | |
| get_comigrations_by_name | 0.043 | 0.003 | 0.048 | |
| get_condition_biased_comigrations | 8.027 | 0.049 | 8.149 | |
| get_unknown_ppi_nodes | 0.085 | 0.010 | 0.097 | |
| load_previous_results | 1.515 | 0.027 | 1.553 | |
| make_random_xina_data | 0.262 | 0.042 | 0.310 | |
| mutate_colors | 13.381 | 0.038 | 13.546 | |
| plot_clusters | 13.399 | 0.039 | 13.559 | |
| plot_clusters_all | 1.531 | 0.025 | 1.571 | |
| plot_condition_compositions | 22.266 | 0.072 | 22.536 | |
| plot_enrichment_results | 0 | 0 | 0 | |
| xina_analysis | 0 | 0 | 0 | |
| xina_clustering | 32.590 | 0.336 | 33.066 | |
| xina_enrichment | 0.000 | 0.000 | 0.001 | |
| xina_plot_all | 5.182 | 0.617 | 5.294 | |
| xina_plot_bycluster | 0.205 | 0.067 | 0.274 | |
| xina_plot_single | 0.135 | 0.063 | 0.199 | |