| Back to Multiple platform build/check report for BioC 3.8 |
|
This page was generated on 2019-04-16 11:49:03 -0400 (Tue, 16 Apr 2019).
| Package 1621/1649 | Hostname | OS / Arch | INSTALL | BUILD | CHECK | BUILD BIN | ||||||
| Vega 1.30.0 Sandro Morganella
| malbec1 | Linux (Ubuntu 16.04.6 LTS) / x86_64 | [ OK ] | OK | OK | |||||||
| merida1 | OS X 10.11.6 El Capitan / x86_64 | OK | OK | WARNINGS | OK |
| Package: Vega |
| Version: 1.30.0 |
| Command: /home/biocbuild/bbs-3.8-bioc/R/bin/R CMD INSTALL Vega |
| StartedAt: 2019-04-15 17:57:11 -0400 (Mon, 15 Apr 2019) |
| EndedAt: 2019-04-15 17:57:15 -0400 (Mon, 15 Apr 2019) |
| EllapsedTime: 4.3 seconds |
| RetCode: 0 |
| Status: OK |
##############################################################################
##############################################################################
###
### Running command:
###
### /home/biocbuild/bbs-3.8-bioc/R/bin/R CMD INSTALL Vega
###
##############################################################################
##############################################################################
* installing to library ‘/home/biocbuild/bbs-3.8-bioc/R/library’
* installing *source* package ‘Vega’ ...
** libs
gcc -I"/home/biocbuild/bbs-3.8-bioc/R/include" -DNDEBUG -I/usr/local/include -fpic -g -O2 -Wall -c vega.c -o vega.o
vega.c: In function ‘heap_delete’:
vega.c:201:8: warning: variable ‘deleted’ set but not used [-Wunused-but-set-variable]
node deleted;
^
vega.c: In function ‘vega’:
vega.c:355:13: warning: unused variable ‘maxptr’ [-Wunused-variable]
node max, *maxptr, tmp_node;
^
vega.c:348:68: warning: unused variable ‘tmp_lambda2’ [-Wunused-variable]
double lambda, lambda_gradient, stop_lambda_gradient, tmp_lambda, tmp_lambda2;
^
vega.c:347:6: warning: unused variable ‘index’ [-Wunused-variable]
int index;
^
vega.c: In function ‘update_priority’:
vega.c:560:64: warning: unused variable ‘next_mean’ [-Wunused-variable]
double lambda, first_term, second_term, prev_mean, curr_mean, next_mean;
^
gcc -shared -L/home/biocbuild/bbs-3.8-bioc/R/lib -L/usr/local/lib -o Vega.so vega.o -L/home/biocbuild/bbs-3.8-bioc/R/lib -lR
installing to /home/biocbuild/bbs-3.8-bioc/R/library/Vega/libs
** R
** data
** byte-compile and prepare package for lazy loading
** help
*** installing help indices
** building package indices
** installing vignettes
** testing if installed package can be loaded
* DONE (Vega)