| Back to Multiple platform build/check report for BioC 3.8 |
|
This page was generated on 2019-04-13 11:29:18 -0400 (Sat, 13 Apr 2019).
| Package 1606/1649 | Hostname | OS / Arch | INSTALL | BUILD | CHECK | BUILD BIN | ||||||
| TxRegInfra 1.2.1 VJ Carey
| malbec1 | Linux (Ubuntu 16.04.6 LTS) / x86_64 | OK | OK | NA | |||||||
| tokay1 | Windows Server 2012 R2 Standard / x64 | OK | OK | OK | [ OK ] | |||||||
| merida1 | OS X 10.11.6 El Capitan / x86_64 | OK | OK | OK | OK |
| Package: TxRegInfra |
| Version: 1.2.1 |
| Command: rm -rf TxRegInfra.buildbin-libdir && mkdir TxRegInfra.buildbin-libdir && C:\Users\biocbuild\bbs-3.8-bioc\R\bin\R.exe CMD INSTALL --merge-multiarch --build --library=TxRegInfra.buildbin-libdir TxRegInfra_1.2.1.tar.gz |
| StartedAt: 2019-04-13 08:03:08 -0400 (Sat, 13 Apr 2019) |
| EndedAt: 2019-04-13 08:03:28 -0400 (Sat, 13 Apr 2019) |
| EllapsedTime: 19.8 seconds |
| RetCode: 0 |
| Status: OK |
| PackageFile: TxRegInfra_1.2.1.zip |
| PackageFileSize: 380.9 KiB |
##############################################################################
##############################################################################
###
### Running command:
###
### rm -rf TxRegInfra.buildbin-libdir && mkdir TxRegInfra.buildbin-libdir && C:\Users\biocbuild\bbs-3.8-bioc\R\bin\R.exe CMD INSTALL --merge-multiarch --build --library=TxRegInfra.buildbin-libdir TxRegInfra_1.2.1.tar.gz
###
##############################################################################
##############################################################################
install for i386
* installing *source* package 'TxRegInfra' ...
** R
** data
*** moving datasets to lazyload DB
** inst
** byte-compile and prepare package for lazy loading
** help
*** installing help indices
converting help for package 'TxRegInfra'
finding HTML links ... done
RaggedMongoExpt html
URL_txregInAWS html
URL_txregLocal html
basicColData html
basicFormatter html
dgf_meta html
getDocumentFields html
getFieldNames html
grConverter html
importBedToMongo html
listAllCollections html
makeAggregator html
makeColData html
makeGRConverterList html
ragged41FP html
sbov html
txmodels html
txregCollections html
verifyHasMongoCmd html
verifyRunningMongodb html
** building package indices
** installing vignettes
** testing if installed package can be loaded
In R CMD INSTALL
install for x64
* installing *source* package 'TxRegInfra' ...
** testing if installed package can be loaded
* MD5 sums
packaged installation of 'TxRegInfra' as TxRegInfra_1.2.1.zip
* DONE (TxRegInfra)
In R CMD INSTALL
In R CMD INSTALL