| Back to Multiple platform build/check report for BioC 3.8 |
|
This page was generated on 2019-04-13 11:28:28 -0400 (Sat, 13 Apr 2019).
| Package 1569/1649 | Hostname | OS / Arch | INSTALL | BUILD | CHECK | BUILD BIN | ||||||
| TnT 1.4.0 Jialin Ma
| malbec1 | Linux (Ubuntu 16.04.6 LTS) / x86_64 | OK | OK | NA | |||||||
| tokay1 | Windows Server 2012 R2 Standard / x64 | OK | OK | WARNINGS | [ OK ] | |||||||
| merida1 | OS X 10.11.6 El Capitan / x86_64 | OK | OK | OK | OK |
| Package: TnT |
| Version: 1.4.0 |
| Command: rm -rf TnT.buildbin-libdir && mkdir TnT.buildbin-libdir && C:\Users\biocbuild\bbs-3.8-bioc\R\bin\R.exe CMD INSTALL --merge-multiarch --build --library=TnT.buildbin-libdir TnT_1.4.0.tar.gz |
| StartedAt: 2019-04-13 08:01:51 -0400 (Sat, 13 Apr 2019) |
| EndedAt: 2019-04-13 08:02:12 -0400 (Sat, 13 Apr 2019) |
| EllapsedTime: 21.3 seconds |
| RetCode: 0 |
| Status: OK |
| PackageFile: TnT_1.4.0.zip |
| PackageFileSize: 512.7 KiB |
##############################################################################
##############################################################################
###
### Running command:
###
### rm -rf TnT.buildbin-libdir && mkdir TnT.buildbin-libdir && C:\Users\biocbuild\bbs-3.8-bioc\R\bin\R.exe CMD INSTALL --merge-multiarch --build --library=TnT.buildbin-libdir TnT_1.4.0.tar.gz
###
##############################################################################
##############################################################################
install for i386
* installing *source* package 'TnT' ...
** R
** inst
** byte-compile and prepare package for lazy loading
** help
*** installing help indices
converting help for package 'TnT'
finding HTML links ... done
TnT-shiny html
composite-track html
knit_print.TnTBoard html
mapcol html
Rd warning: C:/Users/biocbuild/bbs-3.8-bioc/tmpdir/Rtmp4kcNWU/R.INSTALL1a34317ac93/TnT/man/mapcol.Rd:13: file link 'terrain.colors' in package 'grDevices' does not exist and so has been treated as a topic
range-TnTBoard-method html
Rd warning: C:/Users/biocbuild/bbs-3.8-bioc/tmpdir/Rtmp4kcNWU/R.INSTALL1a34317ac93/TnT/man/range-TnTBoard-method.Rd:14: file link 'range,GenomicRanges-method' in package 'GenomicRanges' does not exist and so has been treated as a topic
range-TnTTrack html
Rd warning: C:/Users/biocbuild/bbs-3.8-bioc/tmpdir/Rtmp4kcNWU/R.INSTALL1a34317ac93/TnT/man/range-TnTTrack.Rd:19: file link 'range,GenomicRanges-method' in package 'GenomicRanges' does not exist and so has been treated as a topic
saveTnT html
seqinfo html
strandlabel html
tntboard html
tooltip html
track-constructors html
trackSpec html
trackWidget html
trackdata html
tracklist html
** building package indices
** installing vignettes
** testing if installed package can be loaded
In R CMD INSTALL
install for x64
* installing *source* package 'TnT' ...
** testing if installed package can be loaded
* MD5 sums
packaged installation of 'TnT' as TnT_1.4.0.zip
* DONE (TnT)
In R CMD INSTALL
In R CMD INSTALL