| Back to Multiple platform build/check report for BioC 3.8 |
|
This page was generated on 2019-04-13 11:23:01 -0400 (Sat, 13 Apr 2019).
| Package 1542/1649 | Hostname | OS / Arch | INSTALL | BUILD | CHECK | BUILD BIN | ||||||
| TargetScore 1.20.0 Yue Li
| malbec1 | Linux (Ubuntu 16.04.6 LTS) / x86_64 | OK | OK | NA | |||||||
| tokay1 | Windows Server 2012 R2 Standard / x64 | OK | OK | WARNINGS | [ OK ] | |||||||
| merida1 | OS X 10.11.6 El Capitan / x86_64 | OK | OK | OK | OK |
| Package: TargetScore |
| Version: 1.20.0 |
| Command: rm -rf TargetScore.buildbin-libdir && mkdir TargetScore.buildbin-libdir && C:\Users\biocbuild\bbs-3.8-bioc\R\bin\R.exe CMD INSTALL --merge-multiarch --build --library=TargetScore.buildbin-libdir TargetScore_1.20.0.tar.gz |
| StartedAt: 2019-04-13 08:00:51 -0400 (Sat, 13 Apr 2019) |
| EndedAt: 2019-04-13 08:01:09 -0400 (Sat, 13 Apr 2019) |
| EllapsedTime: 18.1 seconds |
| RetCode: 0 |
| Status: OK |
| PackageFile: TargetScore_1.20.0.zip |
| PackageFileSize: 644.7 KiB |
##############################################################################
##############################################################################
###
### Running command:
###
### rm -rf TargetScore.buildbin-libdir && mkdir TargetScore.buildbin-libdir && C:\Users\biocbuild\bbs-3.8-bioc\R\bin\R.exe CMD INSTALL --merge-multiarch --build --library=TargetScore.buildbin-libdir TargetScore_1.20.0.tar.gz
###
##############################################################################
##############################################################################
install for i386
* installing *source* package 'TargetScore' ...
** R
** inst
** byte-compile and prepare package for lazy loading
** help
*** installing help indices
converting help for package 'TargetScore'
finding HTML links ... done
TargetScore-package html
bsxfun.se html
dot.ext html
getTargetScores html
initialization html
logmvgamma html
Rd warning: C:/Users/biocbuild/bbs-3.8-bioc/tmpdir/RtmpSCvgdY/R.INSTALL1b481fb343a4/TargetScore/man/logmvgamma.Rd:44: file link 'lgamma' in package 'base' does not exist and so has been treated as a topic
logsumexp html
sort_components html
targetScore html
vbgmm html
vbound html
vexp html
vmax html
** building package indices
** installing vignettes
** testing if installed package can be loaded
In R CMD INSTALL
install for x64
* installing *source* package 'TargetScore' ...
** testing if installed package can be loaded
* MD5 sums
packaged installation of 'TargetScore' as TargetScore_1.20.0.zip
* DONE (TargetScore)
In R CMD INSTALL
In R CMD INSTALL