| Back to Multiple platform build/check report for BioC 3.8 |
|
This page was generated on 2019-04-13 11:24:18 -0400 (Sat, 13 Apr 2019).
| Package 1594/1649 | Hostname | OS / Arch | INSTALL | BUILD | CHECK | BUILD BIN | ||||||
| TSCAN 1.20.0 Zhicheng Ji
| malbec1 | Linux (Ubuntu 16.04.6 LTS) / x86_64 | OK | OK | NA | |||||||
| tokay1 | Windows Server 2012 R2 Standard / x64 | OK | OK | OK | [ OK ] | |||||||
| merida1 | OS X 10.11.6 El Capitan / x86_64 | OK | OK | OK | OK |
| Package: TSCAN |
| Version: 1.20.0 |
| Command: rm -rf TSCAN.buildbin-libdir && mkdir TSCAN.buildbin-libdir && C:\Users\biocbuild\bbs-3.8-bioc\R\bin\R.exe CMD INSTALL --merge-multiarch --build --library=TSCAN.buildbin-libdir TSCAN_1.20.0.tar.gz |
| StartedAt: 2019-04-13 08:02:48 -0400 (Sat, 13 Apr 2019) |
| EndedAt: 2019-04-13 08:03:06 -0400 (Sat, 13 Apr 2019) |
| EllapsedTime: 18.2 seconds |
| RetCode: 0 |
| Status: OK |
| PackageFile: TSCAN_1.20.0.zip |
| PackageFileSize: 2.684 MiB |
##############################################################################
##############################################################################
###
### Running command:
###
### rm -rf TSCAN.buildbin-libdir && mkdir TSCAN.buildbin-libdir && C:\Users\biocbuild\bbs-3.8-bioc\R\bin\R.exe CMD INSTALL --merge-multiarch --build --library=TSCAN.buildbin-libdir TSCAN_1.20.0.tar.gz
###
##############################################################################
##############################################################################
install for i386
* installing *source* package 'TSCAN' ...
** R
** data
** inst
** byte-compile and prepare package for lazy loading
** help
*** installing help indices
converting help for package 'TSCAN'
finding HTML links ... done
TSCAN html
TSCANorder html
TSCANui html
difftest html
exprmclust html
lpsdata html
orderscore html
plotmclust html
preprocess html
singlegeneplot html
** building package indices
** installing vignettes
** testing if installed package can be loaded
In R CMD INSTALL
install for x64
* installing *source* package 'TSCAN' ...
** testing if installed package can be loaded
* MD5 sums
packaged installation of 'TSCAN' as TSCAN_1.20.0.zip
* DONE (TSCAN)
In R CMD INSTALL
In R CMD INSTALL