| Back to Multiple platform build/check report for BioC 3.8 |
|
This page was generated on 2019-04-13 11:28:11 -0400 (Sat, 13 Apr 2019).
| Package 1568/1649 | Hostname | OS / Arch | INSTALL | BUILD | CHECK | BUILD BIN | ||||||
| TMixClust 1.4.0 Monica Golumbeanu
| malbec1 | Linux (Ubuntu 16.04.6 LTS) / x86_64 | OK | OK | NA | |||||||
| tokay1 | Windows Server 2012 R2 Standard / x64 | OK | OK | OK | [ OK ] | |||||||
| merida1 | OS X 10.11.6 El Capitan / x86_64 | OK | OK | OK | OK |
| Package: TMixClust |
| Version: 1.4.0 |
| Command: rm -rf TMixClust.buildbin-libdir && mkdir TMixClust.buildbin-libdir && C:\Users\biocbuild\bbs-3.8-bioc\R\bin\R.exe CMD INSTALL --merge-multiarch --build --library=TMixClust.buildbin-libdir TMixClust_1.4.0.tar.gz |
| StartedAt: 2019-04-13 08:01:49 -0400 (Sat, 13 Apr 2019) |
| EndedAt: 2019-04-13 08:01:59 -0400 (Sat, 13 Apr 2019) |
| EllapsedTime: 9.4 seconds |
| RetCode: 0 |
| Status: OK |
| PackageFile: TMixClust_1.4.0.zip |
| PackageFileSize: 744.3 KiB |
##############################################################################
##############################################################################
###
### Running command:
###
### rm -rf TMixClust.buildbin-libdir && mkdir TMixClust.buildbin-libdir && C:\Users\biocbuild\bbs-3.8-bioc\R\bin\R.exe CMD INSTALL --merge-multiarch --build --library=TMixClust.buildbin-libdir TMixClust_1.4.0.tar.gz
###
##############################################################################
##############################################################################
install for i386
* installing *source* package 'TMixClust' ...
** R
** data
*** moving datasets to lazyload DB
** inst
** byte-compile and prepare package for lazy loading
** help
*** installing help indices
converting help for package 'TMixClust'
finding HTML links ... done
TMixClust-package html
TMixClust html
analyse_stability html
best_clust_toy_obj html
best_clust_yeast_obj html
generate_TMixClust_report html
get_time_series_df html
get_time_series_df_bio html
plot_silhouette html
plot_time_series_df html
toy_data_df html
** building package indices
** installing vignettes
** testing if installed package can be loaded
In R CMD INSTALL
install for x64
* installing *source* package 'TMixClust' ...
** testing if installed package can be loaded
* MD5 sums
packaged installation of 'TMixClust' as TMixClust_1.4.0.zip
* DONE (TMixClust)
In R CMD INSTALL
In R CMD INSTALL