| Back to Multiple platform build/check report for BioC 3.8 |
|
This page was generated on 2019-04-16 11:58:28 -0400 (Tue, 16 Apr 2019).
| Package 1564/1649 | Hostname | OS / Arch | INSTALL | BUILD | CHECK | BUILD BIN | ||||||
| TIN 1.14.0 Bjarne Johannessen
| malbec1 | Linux (Ubuntu 16.04.6 LTS) / x86_64 | OK | OK | OK | |||||||
| merida1 | OS X 10.11.6 El Capitan / x86_64 | OK | OK | OK | [ OK ] |
| Package: TIN |
| Version: 1.14.0 |
| Command: rm -rf TIN.buildbin-libdir && mkdir TIN.buildbin-libdir && /Users/biocbuild/BBS/utils/build-universal.sh TIN_1.14.0.tar.gz /Library/Frameworks/R.framework/Versions/Current/Resources/bin/R TIN.buildbin-libdir |
| StartedAt: 2019-04-16 04:50:57 -0400 (Tue, 16 Apr 2019) |
| EndedAt: 2019-04-16 04:51:45 -0400 (Tue, 16 Apr 2019) |
| EllapsedTime: 47.5 seconds |
| RetCode: 0 |
| Status: OK |
| PackageFile: TIN_1.14.0.tgz |
| PackageFileSize: 4.568 MiB |
##############################################################################
##############################################################################
###
### Running command:
###
### rm -rf TIN.buildbin-libdir && mkdir TIN.buildbin-libdir && /Users/biocbuild/BBS/utils/build-universal.sh TIN_1.14.0.tar.gz /Library/Frameworks/R.framework/Versions/Current/Resources/bin/R TIN.buildbin-libdir
###
##############################################################################
##############################################################################
>>>>>>>
>>>>>>> INSTALLATION WITH 'R CMD INSTALL --preclean --no-multiarch --library=TIN.buildbin-libdir TIN_1.14.0.tar.gz'
>>>>>>>
* installing *source* package ‘TIN’ ...
** R
** data
** inst
** byte-compile and prepare package for lazy loading
The following object is masked _by_ package:aroma.affymetrix:
writeCdf
The following object is masked from package:R.utils:
findFiles
** help
*** installing help indices
** building package indices
** installing vignettes
** testing if installed package can be loaded
The following object is masked _by_ package:aroma.affymetrix:
writeCdf
The following object is masked from package:R.utils:
findFiles
* DONE (TIN)