| Back to Multiple platform build/check report for BioC 3.8 |
|
This page was generated on 2019-04-13 11:28:41 -0400 (Sat, 13 Apr 2019).
| Package 1556/1649 | Hostname | OS / Arch | INSTALL | BUILD | CHECK | BUILD BIN | ||||||
| TFEA.ChIP 1.2.3 Laura Puente SantamarĂa
| malbec1 | Linux (Ubuntu 16.04.6 LTS) / x86_64 | OK | OK | NA | |||||||
| tokay1 | Windows Server 2012 R2 Standard / x64 | OK | OK | OK | [ OK ] | |||||||
| merida1 | OS X 10.11.6 El Capitan / x86_64 | OK | OK | OK | OK |
| Package: TFEA.ChIP |
| Version: 1.2.3 |
| Command: rm -rf TFEA.ChIP.buildbin-libdir && mkdir TFEA.ChIP.buildbin-libdir && C:\Users\biocbuild\bbs-3.8-bioc\R\bin\R.exe CMD INSTALL --merge-multiarch --build --library=TFEA.ChIP.buildbin-libdir TFEA.ChIP_1.2.3.tar.gz |
| StartedAt: 2019-04-13 08:01:17 -0400 (Sat, 13 Apr 2019) |
| EndedAt: 2019-04-13 08:01:53 -0400 (Sat, 13 Apr 2019) |
| EllapsedTime: 35.4 seconds |
| RetCode: 0 |
| Status: OK |
| PackageFile: TFEA.ChIP_1.2.3.zip |
| PackageFileSize: 4.802 MiB |
##############################################################################
##############################################################################
###
### Running command:
###
### rm -rf TFEA.ChIP.buildbin-libdir && mkdir TFEA.ChIP.buildbin-libdir && C:\Users\biocbuild\bbs-3.8-bioc\R\bin\R.exe CMD INSTALL --merge-multiarch --build --library=TFEA.ChIP.buildbin-libdir TFEA.ChIP_1.2.3.tar.gz
###
##############################################################################
##############################################################################
install for i386
* installing *source* package 'TFEA.ChIP' ...
** R
** data
** inst
** byte-compile and prepare package for lazy loading
** help
*** installing help indices
converting help for package 'TFEA.ChIP'
finding HTML links ... done
ARNT.metadata html
ARNT.peaks.bed html
CM_list html
DnaseHS_db html
Entrez.gene.IDs html
GR2tfbs_db html
GSEA.result html
GSEA_EnrichmentScore html
GSEA_Shuffling html
GSEA_run html
GeneID2entrez html
Genes.Upreg html
Mat01 html
MetaData html
Select_genes html
contingency_matrix html
getCMstats html
get_LFC_bar html
get_chip_index html
gr.list html
highlight_TF html
hypoxia html
hypoxia_DESeq html
log2.FC html
makeTFBSmatrix html
plot_CM html
plot_ES html
plot_RES html
preprocessInputData html
set_user_data html
stat_mat html
tfbs.database html
txt2GR html
** building package indices
** installing vignettes
** testing if installed package can be loaded
In R CMD INSTALL
install for x64
* installing *source* package 'TFEA.ChIP' ...
** testing if installed package can be loaded
* MD5 sums
packaged installation of 'TFEA.ChIP' as TFEA.ChIP_1.2.3.zip
* DONE (TFEA.ChIP)
In R CMD INSTALL
In R CMD INSTALL