| Back to Multiple platform build/check report for BioC 3.8 |
|
This page was generated on 2019-04-13 11:21:28 -0400 (Sat, 13 Apr 2019).
| Package 1552/1649 | Hostname | OS / Arch | INSTALL | BUILD | CHECK | BUILD BIN | ||||||
| TEQC 4.4.0 Manuela Hummel
| malbec1 | Linux (Ubuntu 16.04.6 LTS) / x86_64 | OK | OK | NA | |||||||
| tokay1 | Windows Server 2012 R2 Standard / x64 | OK | OK | OK | [ OK ] | |||||||
| merida1 | OS X 10.11.6 El Capitan / x86_64 | OK | OK | OK | OK |
| Package: TEQC |
| Version: 4.4.0 |
| Command: rm -rf TEQC.buildbin-libdir && mkdir TEQC.buildbin-libdir && C:\Users\biocbuild\bbs-3.8-bioc\R\bin\R.exe CMD INSTALL --merge-multiarch --build --library=TEQC.buildbin-libdir TEQC_4.4.0.tar.gz |
| StartedAt: 2019-04-13 08:01:09 -0400 (Sat, 13 Apr 2019) |
| EndedAt: 2019-04-13 08:01:25 -0400 (Sat, 13 Apr 2019) |
| EllapsedTime: 15.9 seconds |
| RetCode: 0 |
| Status: OK |
| PackageFile: TEQC_4.4.0.zip |
| PackageFileSize: 741.5 KiB |
##############################################################################
##############################################################################
###
### Running command:
###
### rm -rf TEQC.buildbin-libdir && mkdir TEQC.buildbin-libdir && C:\Users\biocbuild\bbs-3.8-bioc\R\bin\R.exe CMD INSTALL --merge-multiarch --build --library=TEQC.buildbin-libdir TEQC_4.4.0.tar.gz
###
##############################################################################
##############################################################################
install for i386
* installing *source* package 'TEQC' ...
** R
** inst
** byte-compile and prepare package for lazy loading
** help
*** installing help indices
converting help for package 'TEQC'
finding HTML links ... done
TEQCreport html
chrom.barplot html
coverage.GC html
coverage.correlation html
coverage.density html
coverage.hist html
coverage.plot html
coverage.target html
coverage.targetlength.plot html
coverage.uniformity html
covered.k html
duplicates.barplot html
fraction.reads.target html
fraction.target html
get.baits html
get.reads html
get.targets html
insert.size.hist html
make.wigfiles html
multiTEQCreport html
reads2pairs html
readsPerTarget html
** building package indices
** installing vignettes
** testing if installed package can be loaded
In R CMD INSTALL
install for x64
* installing *source* package 'TEQC' ...
** testing if installed package can be loaded
* MD5 sums
packaged installation of 'TEQC' as TEQC_4.4.0.zip
* DONE (TEQC)
In R CMD INSTALL
In R CMD INSTALL