| Back to Multiple platform build/check report for BioC 3.8 | 
 | 
This page was generated on 2019-04-16 11:55:04 -0400 (Tue, 16 Apr 2019).
| Package 1515/1649 | Hostname | OS / Arch | INSTALL | BUILD | CHECK | BUILD BIN | ||||||
| Starr 1.38.0 Benedikt Zacher 
 | malbec1 | Linux (Ubuntu 16.04.6 LTS) / x86_64 | OK | OK | OK |  | ||||||
| merida1 | OS X 10.11.6 El Capitan / x86_64 | [ OK ] | OK | OK | OK |  | 
| Package: Starr | 
| Version: 1.38.0 | 
| Command: /Library/Frameworks/R.framework/Versions/Current/Resources/bin/R CMD INSTALL Starr | 
| StartedAt: 2019-04-15 18:21:07 -0400 (Mon, 15 Apr 2019) | 
| EndedAt: 2019-04-15 18:21:34 -0400 (Mon, 15 Apr 2019) | 
| EllapsedTime: 26.1 seconds | 
| RetCode: 0 | 
| Status: OK | 
##############################################################################
##############################################################################
###
### Running command:
###
###   /Library/Frameworks/R.framework/Versions/Current/Resources/bin/R CMD INSTALL Starr
###
##############################################################################
##############################################################################
* installing to library ‘/Library/Frameworks/R.framework/Versions/3.5/Resources/library’
* installing *source* package ‘Starr’ ...
creating cache ./config.cache
checking how to run the C preprocessor... cc -E
checking for main in -lz... yes
checking for zlib.h... yes
checking if zlib version >= 1.1.3... yes
updating cache ./config.cache
creating ./config.status
creating src/Makevars
** libs
clang -I"/Library/Frameworks/R.framework/Resources/include" -DNDEBUG -DHAVE_ZLIB=1   -I/usr/local/include   -fPIC  -Wall -g -O2  -c ahocorasick.c -o ahocorasick.o
ahocorasick.c:8:1: warning: unused function 'kseq_rewind' [-Wunused-function]
KSEQ_INIT(gzFile, gzread)
^
./kseq.h:220:2: note: expanded from macro 'KSEQ_INIT'
        __KSEQ_BASIC(type_t)                                            \
        ^
./kseq.h:152:21: note: expanded from macro '__KSEQ_BASIC'
        static inline void kseq_rewind(kseq_t *ks)                                                      \
                           ^
1 warning generated.
clang -I"/Library/Frameworks/R.framework/Resources/include" -DNDEBUG -DHAVE_ZLIB=1   -I/usr/local/include   -fPIC  -Wall -g -O2  -c collect.c -o collect.o
clang -I"/Library/Frameworks/R.framework/Resources/include" -DNDEBUG -DHAVE_ZLIB=1   -I/usr/local/include   -fPIC  -Wall -g -O2  -c rm_small_peak.c -o rm_small_peak.o
clang -I"/Library/Frameworks/R.framework/Resources/include" -DNDEBUG -DHAVE_ZLIB=1   -I/usr/local/include   -fPIC  -Wall -g -O2  -c sort_by_genomic.c -o sort_by_genomic.o
clang -dynamiclib -Wl,-headerpad_max_install_names -undefined dynamic_lookup -single_module -multiply_defined suppress -L/Library/Frameworks/R.framework/Resources/lib -L/usr/local/lib -o Starr.so ahocorasick.o collect.o rm_small_peak.o sort_by_genomic.o -lz -F/Library/Frameworks/R.framework/.. -framework R -Wl,-framework -Wl,CoreFoundation
installing to /Library/Frameworks/R.framework/Versions/3.5/Resources/library/Starr/libs
** R
** inst
** byte-compile and prepare package for lazy loading
** help
*** installing help indices
** building package indices
** installing vignettes
** testing if installed package can be loaded
* DONE (Starr)