| Back to Multiple platform build/check report for BioC 3.8 |
|
This page was generated on 2019-04-13 11:21:06 -0400 (Sat, 13 Apr 2019).
| Package 1485/1649 | Hostname | OS / Arch | INSTALL | BUILD | CHECK | BUILD BIN | ||||||
| SpeCond 1.36.0 Florence Cavalli
| malbec1 | Linux (Ubuntu 16.04.6 LTS) / x86_64 | OK | OK | NA | |||||||
| tokay1 | Windows Server 2012 R2 Standard / x64 | OK | OK | OK | [ OK ] | |||||||
| merida1 | OS X 10.11.6 El Capitan / x86_64 | OK | OK | OK | OK |
| Package: SpeCond |
| Version: 1.36.0 |
| Command: rm -rf SpeCond.buildbin-libdir && mkdir SpeCond.buildbin-libdir && C:\Users\biocbuild\bbs-3.8-bioc\R\bin\R.exe CMD INSTALL --merge-multiarch --build --library=SpeCond.buildbin-libdir SpeCond_1.36.0.tar.gz |
| StartedAt: 2019-04-13 07:59:06 -0400 (Sat, 13 Apr 2019) |
| EndedAt: 2019-04-13 07:59:16 -0400 (Sat, 13 Apr 2019) |
| EllapsedTime: 9.5 seconds |
| RetCode: 0 |
| Status: OK |
| PackageFile: SpeCond_1.36.0.zip |
| PackageFileSize: 1.249 MiB |
##############################################################################
##############################################################################
###
### Running command:
###
### rm -rf SpeCond.buildbin-libdir && mkdir SpeCond.buildbin-libdir && C:\Users\biocbuild\bbs-3.8-bioc\R\bin\R.exe CMD INSTALL --merge-multiarch --build --library=SpeCond.buildbin-libdir SpeCond_1.36.0.tar.gz
###
##############################################################################
##############################################################################
install for i386
* installing *source* package 'SpeCond' ...
** R
** data
** inst
** byte-compile and prepare package for lazy loading
** help
*** installing help indices
converting help for package 'SpeCond'
finding HTML links ... done
SpeCond html
createParameterMatrix html
expSetSpeCondExample html
expressionSpeCondExample html
fitNoPriorWithExclusion html
fitPrior html
getDefaultParameter html
getFullHtmlSpeCondResult html
getGeneHtmlPage html
getMatrixFromExpressionSet html
getProfile html
getSpecificOutliersStep1 html
getSpecificResult html
simulatedSpeCondData html
writeGeneResult html
writeSpeCondResult html
writeUniqueProfileSpecificResult html
** building package indices
** installing vignettes
** testing if installed package can be loaded
In R CMD INSTALL
install for x64
* installing *source* package 'SpeCond' ...
** testing if installed package can be loaded
* MD5 sums
packaged installation of 'SpeCond' as SpeCond_1.36.0.zip
* DONE (SpeCond)
In R CMD INSTALL
In R CMD INSTALL