| Back to Multiple platform build/check report for BioC 3.8 |
|
This page was generated on 2019-04-13 11:28:01 -0400 (Sat, 13 Apr 2019).
| Package 1457/1649 | Hostname | OS / Arch | INSTALL | BUILD | CHECK | BUILD BIN | ||||||
| SingleCellExperiment 1.4.1 Davide Risso
| malbec1 | Linux (Ubuntu 16.04.6 LTS) / x86_64 | OK | OK | NA | |||||||
| tokay1 | Windows Server 2012 R2 Standard / x64 | [ OK ] | OK | WARNINGS | OK | |||||||
| merida1 | OS X 10.11.6 El Capitan / x86_64 | OK | OK | OK | OK |
| Package: SingleCellExperiment |
| Version: 1.4.1 |
| Command: C:\cygwin\bin\curl.exe -O https://malbec1.bioconductor.org/BBS/3.8/bioc/src/contrib/SingleCellExperiment_1.4.1.tar.gz && rm -rf SingleCellExperiment.buildbin-libdir && mkdir SingleCellExperiment.buildbin-libdir && C:\Users\biocbuild\bbs-3.8-bioc\R\bin\R.exe CMD INSTALL --merge-multiarch --build --library=SingleCellExperiment.buildbin-libdir SingleCellExperiment_1.4.1.tar.gz && C:\Users\biocbuild\bbs-3.8-bioc\R\bin\R.exe CMD INSTALL SingleCellExperiment_1.4.1.zip && rm SingleCellExperiment_1.4.1.tar.gz SingleCellExperiment_1.4.1.zip |
| StartedAt: 2019-04-12 19:43:50 -0400 (Fri, 12 Apr 2019) |
| EndedAt: 2019-04-12 19:44:34 -0400 (Fri, 12 Apr 2019) |
| EllapsedTime: 43.5 seconds |
| RetCode: 0 |
| Status: OK |
##############################################################################
##############################################################################
###
### Running command:
###
### C:\cygwin\bin\curl.exe -O https://malbec1.bioconductor.org/BBS/3.8/bioc/src/contrib/SingleCellExperiment_1.4.1.tar.gz && rm -rf SingleCellExperiment.buildbin-libdir && mkdir SingleCellExperiment.buildbin-libdir && C:\Users\biocbuild\bbs-3.8-bioc\R\bin\R.exe CMD INSTALL --merge-multiarch --build --library=SingleCellExperiment.buildbin-libdir SingleCellExperiment_1.4.1.tar.gz && C:\Users\biocbuild\bbs-3.8-bioc\R\bin\R.exe CMD INSTALL SingleCellExperiment_1.4.1.zip && rm SingleCellExperiment_1.4.1.tar.gz SingleCellExperiment_1.4.1.zip
###
##############################################################################
##############################################################################
% Total % Received % Xferd Average Speed Time Time Time Current
Dload Upload Total Spent Left Speed
0 0 0 0 0 0 0 0 --:--:-- --:--:-- --:--:-- 0
100 30481 100 30481 0 0 696k 0 --:--:-- --:--:-- --:--:-- 763k
install for i386
* installing *source* package 'SingleCellExperiment' ...
** R
** inst
** byte-compile and prepare package for lazy loading
** help
*** installing help indices
converting help for package 'SingleCellExperiment'
finding HTML links ... done
LEM-combine html
LEM-getset html
LEM-misc html
LEM-subset html
LinearEmbeddingMatrix html
SCE-assays html
Rd warning: C:/Users/biocbuild/bbs-3.8-bioc/tmpdir/RtmpED7qpj/R.INSTALL1e603041555d/SingleCellExperiment/man/SCE-assays.Rd:59: file link 'assays' in package 'SummarizedExperiment' does not exist and so has been treated as a topic
SCE-colData html
finding level-2 HTML links ... done
SCE-combine html
SCE-internal html
SCE-isSpike html
SCE-misc html
SCE-reducedDims html
SCE-sizeFactors html
SCE-subset html
SingleCellExperiment html
** building package indices
** installing vignettes
** testing if installed package can be loaded
In R CMD INSTALL
install for x64
* installing *source* package 'SingleCellExperiment' ...
** testing if installed package can be loaded
* MD5 sums
packaged installation of 'SingleCellExperiment' as SingleCellExperiment_1.4.1.zip
* DONE (SingleCellExperiment)
In R CMD INSTALL
In R CMD INSTALL
* installing to library 'C:/Users/biocbuild/bbs-3.8-bioc/R/library'
package 'SingleCellExperiment' successfully unpacked and MD5 sums checked
In R CMD INSTALL