| Back to Multiple platform build/check report for BioC 3.8 |
|
This page was generated on 2019-04-16 11:58:05 -0400 (Tue, 16 Apr 2019).
| Package 1439/1649 | Hostname | OS / Arch | INSTALL | BUILD | CHECK | BUILD BIN | ||||||
| SigCheck 2.14.0 Rory Stark
| malbec1 | Linux (Ubuntu 16.04.6 LTS) / x86_64 | OK | OK | OK | |||||||
| merida1 | OS X 10.11.6 El Capitan / x86_64 | OK | OK | [ OK ] | OK |
| Package: SigCheck |
| Version: 2.14.0 |
| Command: /Library/Frameworks/R.framework/Versions/Current/Resources/bin/R CMD check --install=check:SigCheck.install-out.txt --library=/Library/Frameworks/R.framework/Versions/Current/Resources/library --no-vignettes --timings SigCheck_2.14.0.tar.gz |
| StartedAt: 2019-04-16 02:47:34 -0400 (Tue, 16 Apr 2019) |
| EndedAt: 2019-04-16 02:54:49 -0400 (Tue, 16 Apr 2019) |
| EllapsedTime: 434.9 seconds |
| RetCode: 0 |
| Status: OK |
| CheckDir: SigCheck.Rcheck |
| Warnings: 0 |
##############################################################################
##############################################################################
###
### Running command:
###
### /Library/Frameworks/R.framework/Versions/Current/Resources/bin/R CMD check --install=check:SigCheck.install-out.txt --library=/Library/Frameworks/R.framework/Versions/Current/Resources/library --no-vignettes --timings SigCheck_2.14.0.tar.gz
###
##############################################################################
##############################################################################
* using log directory ‘/Users/biocbuild/bbs-3.8-bioc/meat/SigCheck.Rcheck’
* using R version 3.5.3 (2019-03-11)
* using platform: x86_64-apple-darwin15.6.0 (64-bit)
* using session charset: UTF-8
* using option ‘--no-vignettes’
* checking for file ‘SigCheck/DESCRIPTION’ ... OK
* checking extension type ... Package
* this is package ‘SigCheck’ version ‘2.14.0’
* checking package namespace information ... OK
* checking package dependencies ... OK
* checking if this is a source package ... OK
* checking if there is a namespace ... OK
* checking for hidden files and directories ... OK
* checking for portable file names ... OK
* checking for sufficient/correct file permissions ... OK
* checking whether package ‘SigCheck’ can be installed ... OK
* checking installed package size ... OK
* checking package directory ... OK
* checking ‘build’ directory ... OK
* checking DESCRIPTION meta-information ... OK
* checking top-level files ... OK
* checking for left-over files ... OK
* checking index information ... OK
* checking package subdirectories ... OK
* checking R files for non-ASCII characters ... OK
* checking R files for syntax errors ... OK
* checking whether the package can be loaded ... OK
* checking whether the package can be loaded with stated dependencies ... OK
* checking whether the package can be unloaded cleanly ... OK
* checking whether the namespace can be loaded with stated dependencies ... OK
* checking whether the namespace can be unloaded cleanly ... OK
* checking dependencies in R code ... OK
* checking S3 generic/method consistency ... OK
* checking replacement functions ... OK
* checking foreign function calls ... OK
* checking R code for possible problems ... NOTE
sigCheckKnown: no visible binding for global variable ‘knownSignatures’
Undefined global functions or variables:
knownSignatures
* checking Rd files ... OK
* checking Rd metadata ... OK
* checking Rd cross-references ... OK
* checking for missing documentation entries ... OK
* checking for code/documentation mismatches ... OK
* checking Rd \usage sections ... OK
* checking Rd contents ... OK
* checking for unstated dependencies in examples ... OK
* checking contents of ‘data’ directory ... OK
* checking data for non-ASCII characters ... OK
* checking data for ASCII and uncompressed saves ... OK
* checking sizes of PDF files under ‘inst/doc’ ... OK
* checking files in ‘vignettes’ ... OK
* checking examples ... OK
Examples with CPU or elapsed time > 5s
user system elapsed
sigCheckAll 116.982 14.619 133.140
sigCheckKnown 57.932 7.439 65.939
sigCheck 16.395 1.474 18.303
sigCheckPermuted 15.688 1.744 17.626
sigCheckPlot 14.142 1.726 16.013
sigCheckRandom 10.291 1.137 11.578
* checking for unstated dependencies in vignettes ... OK
* checking package vignettes in ‘inst/doc’ ... OK
* checking running R code from vignettes ... SKIPPED
* checking re-building of vignette outputs ... SKIPPED
* checking PDF version of manual ... OK
* DONE
Status: 1 NOTE
See
‘/Users/biocbuild/bbs-3.8-bioc/meat/SigCheck.Rcheck/00check.log’
for details.
SigCheck.Rcheck/00install.out
############################################################################## ############################################################################## ### ### Running command: ### ### /Library/Frameworks/R.framework/Versions/Current/Resources/bin/R CMD INSTALL SigCheck ### ############################################################################## ############################################################################## * installing to library ‘/Library/Frameworks/R.framework/Versions/3.5/Resources/library’ * installing *source* package ‘SigCheck’ ... ** R ** data ** inst ** byte-compile and prepare package for lazy loading Creating a new generic function for ‘signature’ in package ‘SigCheck’ ** help *** installing help indices ** building package indices ** installing vignettes ** testing if installed package can be loaded * DONE (SigCheck)
SigCheck.Rcheck/SigCheck-Ex.timings
| name | user | system | elapsed | |
| SigCheckObject-class | 0.005 | 0.000 | 0.006 | |
| classifyResults | 0.050 | 0.003 | 0.053 | |
| knownSignatures | 0.026 | 0.003 | 0.029 | |
| nkiResults | 0.028 | 0.004 | 0.032 | |
| sigCheck | 16.395 | 1.474 | 18.303 | |
| sigCheckAll | 116.982 | 14.619 | 133.140 | |
| sigCheckKnown | 57.932 | 7.439 | 65.939 | |
| sigCheckPermuted | 15.688 | 1.744 | 17.626 | |
| sigCheckPlot | 14.142 | 1.726 | 16.013 | |
| sigCheckRandom | 10.291 | 1.137 | 11.578 | |