| Back to Multiple platform build/check report for BioC 3.8 |
|
This page was generated on 2019-04-13 11:29:03 -0400 (Sat, 13 Apr 2019).
| Package 1402/1649 | Hostname | OS / Arch | INSTALL | BUILD | CHECK | BUILD BIN | ||||||
| Sconify 1.2.1 Tyler J Burns
| malbec1 | Linux (Ubuntu 16.04.6 LTS) / x86_64 | OK | OK | WARNINGS | |||||||
| tokay1 | Windows Server 2012 R2 Standard / x64 | [ OK ] | OK | WARNINGS | OK | |||||||
| merida1 | OS X 10.11.6 El Capitan / x86_64 | OK | OK | WARNINGS | OK |
| Package: Sconify |
| Version: 1.2.1 |
| Command: C:\cygwin\bin\curl.exe -O https://malbec1.bioconductor.org/BBS/3.8/bioc/src/contrib/Sconify_1.2.1.tar.gz && rm -rf Sconify.buildbin-libdir && mkdir Sconify.buildbin-libdir && C:\Users\biocbuild\bbs-3.8-bioc\R\bin\R.exe CMD INSTALL --merge-multiarch --build --library=Sconify.buildbin-libdir Sconify_1.2.1.tar.gz && C:\Users\biocbuild\bbs-3.8-bioc\R\bin\R.exe CMD INSTALL Sconify_1.2.1.zip && rm Sconify_1.2.1.tar.gz Sconify_1.2.1.zip |
| StartedAt: 2019-04-12 19:06:41 -0400 (Fri, 12 Apr 2019) |
| EndedAt: 2019-04-12 19:07:38 -0400 (Fri, 12 Apr 2019) |
| EllapsedTime: 57.8 seconds |
| RetCode: 0 |
| Status: OK |
##############################################################################
##############################################################################
###
### Running command:
###
### C:\cygwin\bin\curl.exe -O https://malbec1.bioconductor.org/BBS/3.8/bioc/src/contrib/Sconify_1.2.1.tar.gz && rm -rf Sconify.buildbin-libdir && mkdir Sconify.buildbin-libdir && C:\Users\biocbuild\bbs-3.8-bioc\R\bin\R.exe CMD INSTALL --merge-multiarch --build --library=Sconify.buildbin-libdir Sconify_1.2.1.tar.gz && C:\Users\biocbuild\bbs-3.8-bioc\R\bin\R.exe CMD INSTALL Sconify_1.2.1.zip && rm Sconify_1.2.1.tar.gz Sconify_1.2.1.zip
###
##############################################################################
##############################################################################
% Total % Received % Xferd Average Speed Time Time Time Current
Dload Upload Total Spent Left Speed
0 0 0 0 0 0 0 0 --:--:-- --:--:-- --:--:-- 0
0 0 0 0 0 0 0 0 --:--:-- --:--:-- --:--:-- 0
100 3907k 100 3907k 0 0 49.5M 0 --:--:-- --:--:-- --:--:-- 51.5M
install for i386
* installing *source* package 'Sconify' ...
** R
** data
*** moving datasets to lazyload DB
** inst
** byte-compile and prepare package for lazy loading
Warning: replacing previous import 'flowCore::view' by 'tibble::view' when loading 'Sconify'
Note: wrong number of arguments to '/'
Note: wrong number of arguments to 'asinh'
** help
*** installing help indices
converting help for package 'Sconify'
finding HTML links ... done
AddTsne html
FcsToTibble html
Fnn html
GetKnnDe html
GetMarkerNames html
Impute html
ImputeTesting html
LogTransformQ html
MakeHist html
MakeKnnList html
MeaningOfLife html
MultipleDonorStatistics html
ParseMarkers html
PostProcessing html
ProcessMultipleFiles html
QCorrectionThresholding html
QuantNormalize html
QuantNormalizeElements html
RunStatistics html
SconeValues html
SplitFile html
StringToNumbers html
SubsampleAndTsne html
TsneVis html
bz.gmcsf.final html
bz.gmcsf.final.norm.scale html
exist html
funct.markers html
input.markers html
markers html
wand.combined html
wand.final html
wand.ideal.k html
wand.il7 html
wand.scone html
** building package indices
** installing vignettes
** testing if installed package can be loaded
Warning: replacing previous import 'flowCore::view' by 'tibble::view' when loading 'Sconify'
In R CMD INSTALL
install for x64
* installing *source* package 'Sconify' ...
** testing if installed package can be loaded
Warning: replacing previous import 'flowCore::view' by 'tibble::view' when loading 'Sconify'
* MD5 sums
packaged installation of 'Sconify' as Sconify_1.2.1.zip
* DONE (Sconify)
In R CMD INSTALL
In R CMD INSTALL
* installing to library 'C:/Users/biocbuild/bbs-3.8-bioc/R/library'
package 'Sconify' successfully unpacked and MD5 sums checked
In R CMD INSTALL