| Back to Multiple platform build/check report for BioC 3.8 |
|
This page was generated on 2019-04-13 11:25:10 -0400 (Sat, 13 Apr 2019).
| Package 1531/1649 | Hostname | OS / Arch | INSTALL | BUILD | CHECK | BUILD BIN | ||||||
| SVM2CRM 1.14.0 Guidantonio Malagoli Tagliazucchi
| malbec1 | Linux (Ubuntu 16.04.6 LTS) / x86_64 | OK | OK | NA | |||||||
| tokay1 | Windows Server 2012 R2 Standard / x64 | [ OK ] | OK | ERROR | OK | |||||||
| merida1 | OS X 10.11.6 El Capitan / x86_64 | OK | OK | WARNINGS | OK |
| Package: SVM2CRM |
| Version: 1.14.0 |
| Command: C:\cygwin\bin\curl.exe -O https://malbec1.bioconductor.org/BBS/3.8/bioc/src/contrib/SVM2CRM_1.14.0.tar.gz && rm -rf SVM2CRM.buildbin-libdir && mkdir SVM2CRM.buildbin-libdir && C:\Users\biocbuild\bbs-3.8-bioc\R\bin\R.exe CMD INSTALL --merge-multiarch --build --library=SVM2CRM.buildbin-libdir SVM2CRM_1.14.0.tar.gz && C:\Users\biocbuild\bbs-3.8-bioc\R\bin\R.exe CMD INSTALL SVM2CRM_1.14.0.zip && rm SVM2CRM_1.14.0.tar.gz SVM2CRM_1.14.0.zip |
| StartedAt: 2019-04-12 19:53:35 -0400 (Fri, 12 Apr 2019) |
| EndedAt: 2019-04-12 19:54:43 -0400 (Fri, 12 Apr 2019) |
| EllapsedTime: 68.8 seconds |
| RetCode: 0 |
| Status: OK |
##############################################################################
##############################################################################
###
### Running command:
###
### C:\cygwin\bin\curl.exe -O https://malbec1.bioconductor.org/BBS/3.8/bioc/src/contrib/SVM2CRM_1.14.0.tar.gz && rm -rf SVM2CRM.buildbin-libdir && mkdir SVM2CRM.buildbin-libdir && C:\Users\biocbuild\bbs-3.8-bioc\R\bin\R.exe CMD INSTALL --merge-multiarch --build --library=SVM2CRM.buildbin-libdir SVM2CRM_1.14.0.tar.gz && C:\Users\biocbuild\bbs-3.8-bioc\R\bin\R.exe CMD INSTALL SVM2CRM_1.14.0.zip && rm SVM2CRM_1.14.0.tar.gz SVM2CRM_1.14.0.zip
###
##############################################################################
##############################################################################
% Total % Received % Xferd Average Speed Time Time Time Current
Dload Upload Total Spent Left Speed
0 0 0 0 0 0 0 0 --:--:-- --:--:-- --:--:-- 0
100 31024 100 31024 0 0 881k 0 --:--:-- --:--:-- --:--:-- 977k
install for i386
* installing *source* package 'SVM2CRM' ...
** R
** byte-compile and prepare package for lazy loading
** help
*** installing help indices
converting help for package 'SVM2CRM'
finding HTML links ... done
cisREfindbed html
createBed html
createSVMinput html
featSelectionWithKmeans html
findFeatureOverlap html
frequencyHM html
getSignal html
performanceSVM html
plotFscore html
plotROC html
predictionGW html
smoothInputFS html
tuningParametersCombROC html
** building package indices
** installing vignettes
** testing if installed package can be loaded
In R CMD INSTALL
install for x64
* installing *source* package 'SVM2CRM' ...
** testing if installed package can be loaded
* MD5 sums
packaged installation of 'SVM2CRM' as SVM2CRM_1.14.0.zip
* DONE (SVM2CRM)
In R CMD INSTALL
In R CMD INSTALL
* installing to library 'C:/Users/biocbuild/bbs-3.8-bioc/R/library'
package 'SVM2CRM' successfully unpacked and MD5 sums checked
In R CMD INSTALL