| Back to Multiple platform build/check report for BioC 3.8 |
|
This page was generated on 2019-04-13 11:27:41 -0400 (Sat, 13 Apr 2019).
| Package 1522/1649 | Hostname | OS / Arch | INSTALL | BUILD | CHECK | BUILD BIN | ||||||
| STROMA4 1.6.1 Sadiq Saleh
| malbec1 | Linux (Ubuntu 16.04.6 LTS) / x86_64 | OK | OK | NA | |||||||
| tokay1 | Windows Server 2012 R2 Standard / x64 | OK | OK | OK | [ OK ] | |||||||
| merida1 | OS X 10.11.6 El Capitan / x86_64 | OK | OK | OK | OK |
| Package: STROMA4 |
| Version: 1.6.1 |
| Command: rm -rf STROMA4.buildbin-libdir && mkdir STROMA4.buildbin-libdir && C:\Users\biocbuild\bbs-3.8-bioc\R\bin\R.exe CMD INSTALL --merge-multiarch --build --library=STROMA4.buildbin-libdir STROMA4_1.6.1.tar.gz |
| StartedAt: 2019-04-13 08:00:15 -0400 (Sat, 13 Apr 2019) |
| EndedAt: 2019-04-13 08:00:27 -0400 (Sat, 13 Apr 2019) |
| EllapsedTime: 12.7 seconds |
| RetCode: 0 |
| Status: OK |
| PackageFile: STROMA4_1.6.1.zip |
| PackageFileSize: 204.5 KiB |
##############################################################################
##############################################################################
###
### Running command:
###
### rm -rf STROMA4.buildbin-libdir && mkdir STROMA4.buildbin-libdir && C:\Users\biocbuild\bbs-3.8-bioc\R\bin\R.exe CMD INSTALL --merge-multiarch --build --library=STROMA4.buildbin-libdir STROMA4_1.6.1.tar.gz
###
##############################################################################
##############################################################################
install for i386
* installing *source* package 'STROMA4' ...
** R
** data
*** moving datasets to lazyload DB
** inst
** byte-compile and prepare package for lazy loading
** help
*** installing help indices
converting help for package 'STROMA4'
finding HTML links ... done
B.stroma.property html
BL1.property html
BL2.property html
D.stroma.property html
E.stroma.property html
IM.property html
LAR.property html
M.property html
MSL.property html
T.stroma.property html
assign.properties html
** building package indices
** installing vignettes
** testing if installed package can be loaded
In R CMD INSTALL
install for x64
* installing *source* package 'STROMA4' ...
** testing if installed package can be loaded
* MD5 sums
packaged installation of 'STROMA4' as STROMA4_1.6.1.zip
* DONE (STROMA4)
In R CMD INSTALL
In R CMD INSTALL