| Back to Multiple platform build/check report for BioC 3.8 |
|
This page was generated on 2018-08-24 10:25:37 -0400 (Fri, 24 Aug 2018).
| Package 1422/1588 | Hostname | OS / Arch | INSTALL | BUILD | CHECK | BUILD BIN | ||||||
| SNPediaR 1.7.0 David Montaner
| malbec1 | Linux (Ubuntu 16.04.1 LTS) / x86_64 | OK | OK | OK | |||||||
| tokay1 | Windows Server 2012 R2 Standard / x64 | OK | OK | OK | [ OK ] | |||||||
| merida1 | OS X 10.11.6 El Capitan / x86_64 | OK | OK | OK | OK |
| Package: SNPediaR |
| Version: 1.7.0 |
| Command: rm -rf SNPediaR.buildbin-libdir && mkdir SNPediaR.buildbin-libdir && C:\Users\biocbuild\bbs-3.8-bioc\R\bin\R.exe CMD INSTALL --merge-multiarch --build --library=SNPediaR.buildbin-libdir SNPediaR_1.7.0.tar.gz |
| StartedAt: 2018-08-24 06:39:18 -0400 (Fri, 24 Aug 2018) |
| EndedAt: 2018-08-24 06:39:23 -0400 (Fri, 24 Aug 2018) |
| EllapsedTime: 5.3 seconds |
| RetCode: 0 |
| Status: OK |
| PackageFile: SNPediaR_1.7.0.zip |
| PackageFileSize: 253.1 KiB |
##############################################################################
##############################################################################
###
### Running command:
###
### rm -rf SNPediaR.buildbin-libdir && mkdir SNPediaR.buildbin-libdir && C:\Users\biocbuild\bbs-3.8-bioc\R\bin\R.exe CMD INSTALL --merge-multiarch --build --library=SNPediaR.buildbin-libdir SNPediaR_1.7.0.tar.gz
###
##############################################################################
##############################################################################
install for i386
* installing *source* package 'SNPediaR' ...
** R
** inst
** byte-compile and prepare package for lazy loading
** help
*** installing help indices
converting help for package 'SNPediaR'
finding HTML links ... done
extractTags html
getCategoryElements html
getPages html
** building package indices
** installing vignettes
** testing if installed package can be loaded
In R CMD INSTALL
install for x64
* installing *source* package 'SNPediaR' ...
** testing if installed package can be loaded
* MD5 sums
packaged installation of 'SNPediaR' as SNPediaR_1.7.0.zip
* DONE (SNPediaR)
In R CMD INSTALL
In R CMD INSTALL