| Back to Multiple platform build/check report for BioC 3.8 | 
 | 
This page was generated on 2019-04-13 11:19:53 -0400 (Sat, 13 Apr 2019).
| Package 1473/1649 | Hostname | OS / Arch | INSTALL | BUILD | CHECK | BUILD BIN | ||||||
| SNPchip 2.28.0 Robert Scharpf 
 | malbec1 | Linux (Ubuntu 16.04.6 LTS) / x86_64 | OK | OK | NA | |||||||
| tokay1 | Windows Server 2012 R2 Standard / x64 | [ OK ] | OK | OK | OK |  | ||||||
| merida1 | OS X 10.11.6 El Capitan / x86_64 | OK | OK | OK | OK |  | 
| Package: SNPchip | 
| Version: 2.28.0 | 
| Command: C:\cygwin\bin\curl.exe -O https://malbec1.bioconductor.org/BBS/3.8/bioc/src/contrib/SNPchip_2.28.0.tar.gz && rm -rf SNPchip.buildbin-libdir && mkdir SNPchip.buildbin-libdir && C:\Users\biocbuild\bbs-3.8-bioc\R\bin\R.exe CMD INSTALL --merge-multiarch --build --library=SNPchip.buildbin-libdir SNPchip_2.28.0.tar.gz && C:\Users\biocbuild\bbs-3.8-bioc\R\bin\R.exe CMD INSTALL SNPchip_2.28.0.zip && rm SNPchip_2.28.0.tar.gz SNPchip_2.28.0.zip | 
| StartedAt: 2019-04-12 19:41:42 -0400 (Fri, 12 Apr 2019) | 
| EndedAt: 2019-04-12 19:42:21 -0400 (Fri, 12 Apr 2019) | 
| EllapsedTime: 39.2 seconds | 
| RetCode: 0 | 
| Status: OK | 
##############################################################################
##############################################################################
###
### Running command:
###
###   C:\cygwin\bin\curl.exe -O https://malbec1.bioconductor.org/BBS/3.8/bioc/src/contrib/SNPchip_2.28.0.tar.gz && rm -rf SNPchip.buildbin-libdir && mkdir SNPchip.buildbin-libdir && C:\Users\biocbuild\bbs-3.8-bioc\R\bin\R.exe CMD INSTALL --merge-multiarch --build --library=SNPchip.buildbin-libdir SNPchip_2.28.0.tar.gz && C:\Users\biocbuild\bbs-3.8-bioc\R\bin\R.exe CMD INSTALL SNPchip_2.28.0.zip && rm SNPchip_2.28.0.tar.gz SNPchip_2.28.0.zip
###
##############################################################################
##############################################################################
  % Total    % Received % Xferd  Average Speed   Time    Time     Time  Current
                                 Dload  Upload   Total   Spent    Left  Speed
  0     0    0     0    0     0      0      0 --:--:-- --:--:-- --:--:--     0
100 37423  100 37423    0     0   904k      0 --:--:-- --:--:-- --:--:--  987k
install for i386
* installing *source* package 'SNPchip' ...
** R
** inst
** byte-compile and prepare package for lazy loading
** help
*** installing help indices
  converting help for package 'SNPchip'
    finding HTML links ... done
    arrangeFigs                             html  
    arrangeSideBySide                       html  
    centromere                              html  
    dataFrame-methods                       html  
    dataFrame                               html  
    defunct                                 html  
    getCytoband                             html  
    latticeFigs                             html  
    plotIdiogram                            html  
    xypanel                                 html  
    xypanelBaf                              html  
    xyplot                                  html  
    xyplotLrrBaf                            html  
** building package indices
** installing vignettes
** testing if installed package can be loaded
In R CMD INSTALL
install for x64
* installing *source* package 'SNPchip' ...
** testing if installed package can be loaded
* MD5 sums
packaged installation of 'SNPchip' as SNPchip_2.28.0.zip
* DONE (SNPchip)
In R CMD INSTALL
In R CMD INSTALL
* installing to library 'C:/Users/biocbuild/bbs-3.8-bioc/R/library'
package 'SNPchip' successfully unpacked and MD5 sums checked
In R CMD INSTALL