| Back to Multiple platform build/check report for BioC 3.8 |
|
This page was generated on 2019-04-13 11:26:17 -0400 (Sat, 13 Apr 2019).
| Package 1469/1649 | Hostname | OS / Arch | INSTALL | BUILD | CHECK | BUILD BIN | ||||||
| SMITE 1.10.1 Neil Ari Wijetunga
| malbec1 | Linux (Ubuntu 16.04.6 LTS) / x86_64 | OK | OK | NA | |||||||
| tokay1 | Windows Server 2012 R2 Standard / x64 | OK | OK | OK | [ OK ] | |||||||
| merida1 | OS X 10.11.6 El Capitan / x86_64 | OK | OK | OK | OK |
| Package: SMITE |
| Version: 1.10.1 |
| Command: rm -rf SMITE.buildbin-libdir && mkdir SMITE.buildbin-libdir && C:\Users\biocbuild\bbs-3.8-bioc\R\bin\R.exe CMD INSTALL --merge-multiarch --build --library=SMITE.buildbin-libdir SMITE_1.10.1.tar.gz |
| StartedAt: 2019-04-13 07:58:32 -0400 (Sat, 13 Apr 2019) |
| EndedAt: 2019-04-13 07:59:10 -0400 (Sat, 13 Apr 2019) |
| EllapsedTime: 38.8 seconds |
| RetCode: 0 |
| Status: OK |
| PackageFile: SMITE_1.10.1.zip |
| PackageFileSize: 3.644 MiB |
##############################################################################
##############################################################################
###
### Running command:
###
### rm -rf SMITE.buildbin-libdir && mkdir SMITE.buildbin-libdir && C:\Users\biocbuild\bbs-3.8-bioc\R\bin\R.exe CMD INSTALL --merge-multiarch --build --library=SMITE.buildbin-libdir SMITE_1.10.1.tar.gz
###
##############################################################################
##############################################################################
install for i386
* installing *source* package 'SMITE' ...
** R
** data
** inst
** byte-compile and prepare package for lazy loading
** help
*** installing help indices
converting help for package 'SMITE'
finding HTML links ... done
Reactome.Symbol.Igraph html
SMITE-package html
addShadowText html
annotateExpression html
annotateModification html
convertGeneIds html
curated_expression html
extractExpression html
extractGOseq html
extractModification html
extractModules html
extractScores html
genes_for_conversiontest html
hg19_gene_bed html
highScores html
histone_h3k4me1 html
makePvalueAnnotation html
makePvalueObject html
methylationdata html
normalizePval html
plotCompareScores html
plotDensityPval html
plotModule html
removeModification html
runBioNet html
runGOseq html
runSpinglass html
scorePval html
stoufferTest html
test_annotation_score_data html
** building package indices
** installing vignettes
** testing if installed package can be loaded
In R CMD INSTALL
install for x64
* installing *source* package 'SMITE' ...
** testing if installed package can be loaded
* MD5 sums
packaged installation of 'SMITE' as SMITE_1.10.1.zip
* DONE (SMITE)
In R CMD INSTALL
In R CMD INSTALL