| Back to Multiple platform build/check report for BioC 3.8 |
|
This page was generated on 2019-04-13 11:24:33 -0400 (Sat, 13 Apr 2019).
| Package 1432/1649 | Hostname | OS / Arch | INSTALL | BUILD | CHECK | BUILD BIN | ||||||
| SGSeq 1.16.2 Leonard Goldstein
| malbec1 | Linux (Ubuntu 16.04.6 LTS) / x86_64 | OK | OK | NA | |||||||
| tokay1 | Windows Server 2012 R2 Standard / x64 | [ OK ] | OK | OK | OK | |||||||
| merida1 | OS X 10.11.6 El Capitan / x86_64 | OK | OK | OK | OK |
| Package: SGSeq |
| Version: 1.16.2 |
| Command: C:\cygwin\bin\curl.exe -O https://malbec1.bioconductor.org/BBS/3.8/bioc/src/contrib/SGSeq_1.16.2.tar.gz && rm -rf SGSeq.buildbin-libdir && mkdir SGSeq.buildbin-libdir && C:\Users\biocbuild\bbs-3.8-bioc\R\bin\R.exe CMD INSTALL --merge-multiarch --build --library=SGSeq.buildbin-libdir SGSeq_1.16.2.tar.gz && C:\Users\biocbuild\bbs-3.8-bioc\R\bin\R.exe CMD INSTALL SGSeq_1.16.2.zip && rm SGSeq_1.16.2.tar.gz SGSeq_1.16.2.zip |
| StartedAt: 2019-04-12 20:00:27 -0400 (Fri, 12 Apr 2019) |
| EndedAt: 2019-04-12 20:01:52 -0400 (Fri, 12 Apr 2019) |
| EllapsedTime: 85.5 seconds |
| RetCode: 0 |
| Status: OK |
##############################################################################
##############################################################################
###
### Running command:
###
### C:\cygwin\bin\curl.exe -O https://malbec1.bioconductor.org/BBS/3.8/bioc/src/contrib/SGSeq_1.16.2.tar.gz && rm -rf SGSeq.buildbin-libdir && mkdir SGSeq.buildbin-libdir && C:\Users\biocbuild\bbs-3.8-bioc\R\bin\R.exe CMD INSTALL --merge-multiarch --build --library=SGSeq.buildbin-libdir SGSeq_1.16.2.tar.gz && C:\Users\biocbuild\bbs-3.8-bioc\R\bin\R.exe CMD INSTALL SGSeq_1.16.2.zip && rm SGSeq_1.16.2.tar.gz SGSeq_1.16.2.zip
###
##############################################################################
##############################################################################
% Total % Received % Xferd Average Speed Time Time Time Current
Dload Upload Total Spent Left Speed
0 0 0 0 0 0 0 0 --:--:-- --:--:-- --:--:-- 0
100 1373k 100 1373k 0 0 25.3M 0 --:--:-- --:--:-- --:--:-- 27.3M
install for i386
* installing *source* package 'SGSeq' ...
** R
** data
*** moving datasets to lazyload DB
** inst
** byte-compile and prepare package for lazy loading
** help
*** installing help indices
converting help for package 'SGSeq'
finding HTML links ... done
SGFeatureCounts html
SGFeatures html
SGSegments html
SGVariantCounts html
SGVariants html
TxFeatures html
analyzeFeatures html
analyzeVariants html
annotate html
annotateSGVariants html
assays html
convertToSGFeatures html
convertToTxFeatures html
exonCompatible html
exportFeatures html
filterFeatures html
findOverlapsRanges html
findSGVariants html
getBamInfo html
getSGFeatureCounts html
getSGFeatureCountsPerSample html
getSGVariantCounts html
gr html
importTranscripts html
junctionCompatible html
makeSGFeatureCounts html
makeVariantNames html
mergeTxFeatures html
plotCoverage html
plotFeatures html
plotSpliceGraph html
plotVariants html
predictCandidatesInternal html
predictCandidatesTerminal html
predictExonsInternal html
predictExonsTerminal html
predictJunctions html
predictSpliced html
predictTxFeatures html
predictTxFeaturesPerSample html
predictTxFeaturesPerStrand html
predictVariantEffects html
processTerminalExons html
removeExonsIsolated html
sgf_ann html
sgf_pred html
sgfc_ann html
sgfc_pred html
sgv_ann html
sgv_pred html
sgvc_ann html
sgvc_ann_from_bam html
sgvc_pred html
sgvc_pred_from_bam html
si html
slots html
splicesiteOverlap html
tx html
txf_ann html
txf_pred html
updateObject html
** building package indices
** installing vignettes
** testing if installed package can be loaded
In R CMD INSTALL
install for x64
* installing *source* package 'SGSeq' ...
** testing if installed package can be loaded
* MD5 sums
packaged installation of 'SGSeq' as SGSeq_1.16.2.zip
* DONE (SGSeq)
In R CMD INSTALL
In R CMD INSTALL
* installing to library 'C:/Users/biocbuild/bbs-3.8-bioc/R/library'
package 'SGSeq' successfully unpacked and MD5 sums checked
In R CMD INSTALL