| Back to Multiple platform build/check report for BioC 3.8 |
|
This page was generated on 2019-04-13 11:29:02 -0400 (Sat, 13 Apr 2019).
| Package 1414/1649 | Hostname | OS / Arch | INSTALL | BUILD | CHECK | BUILD BIN | ||||||
| SEPIRA 1.2.0 Yuting Chen
| malbec1 | Linux (Ubuntu 16.04.6 LTS) / x86_64 | OK | OK | NA | |||||||
| tokay1 | Windows Server 2012 R2 Standard / x64 | [ OK ] | OK | OK | OK | |||||||
| merida1 | OS X 10.11.6 El Capitan / x86_64 | OK | OK | OK | OK |
| Package: SEPIRA |
| Version: 1.2.0 |
| Command: C:\cygwin\bin\curl.exe -O https://malbec1.bioconductor.org/BBS/3.8/bioc/src/contrib/SEPIRA_1.2.0.tar.gz && rm -rf SEPIRA.buildbin-libdir && mkdir SEPIRA.buildbin-libdir && C:\Users\biocbuild\bbs-3.8-bioc\R\bin\R.exe CMD INSTALL --merge-multiarch --build --library=SEPIRA.buildbin-libdir SEPIRA_1.2.0.tar.gz && C:\Users\biocbuild\bbs-3.8-bioc\R\bin\R.exe CMD INSTALL SEPIRA_1.2.0.zip && rm SEPIRA_1.2.0.tar.gz SEPIRA_1.2.0.zip |
| StartedAt: 2019-04-12 18:31:34 -0400 (Fri, 12 Apr 2019) |
| EndedAt: 2019-04-12 18:32:13 -0400 (Fri, 12 Apr 2019) |
| EllapsedTime: 38.5 seconds |
| RetCode: 0 |
| Status: OK |
##############################################################################
##############################################################################
###
### Running command:
###
### C:\cygwin\bin\curl.exe -O https://malbec1.bioconductor.org/BBS/3.8/bioc/src/contrib/SEPIRA_1.2.0.tar.gz && rm -rf SEPIRA.buildbin-libdir && mkdir SEPIRA.buildbin-libdir && C:\Users\biocbuild\bbs-3.8-bioc\R\bin\R.exe CMD INSTALL --merge-multiarch --build --library=SEPIRA.buildbin-libdir SEPIRA_1.2.0.tar.gz && C:\Users\biocbuild\bbs-3.8-bioc\R\bin\R.exe CMD INSTALL SEPIRA_1.2.0.zip && rm SEPIRA_1.2.0.tar.gz SEPIRA_1.2.0.zip
###
##############################################################################
##############################################################################
% Total % Received % Xferd Average Speed Time Time Time Current
Dload Upload Total Spent Left Speed
0 0 0 0 0 0 0 0 --:--:-- --:--:-- --:--:-- 0
100 10.7M 100 10.7M 0 0 67.0M 0 --:--:-- --:--:-- --:--:-- 68.5M
install for i386
* installing *source* package 'SEPIRA' ...
** R
** data
** inst
** byte-compile and prepare package for lazy loading
** help
*** installing help indices
converting help for package 'SEPIRA'
finding HTML links ... done
ComputePCOR html
GeneExp html
InferTFact html
InferTFactPRL html
LUSCexp html
LUSCmeth html
LimmaFn html
TFeid html
VALexp html
sepiraInfNet html
sepiraRegAct html
** building package indices
** installing vignettes
** testing if installed package can be loaded
In R CMD INSTALL
install for x64
* installing *source* package 'SEPIRA' ...
** testing if installed package can be loaded
* MD5 sums
packaged installation of 'SEPIRA' as SEPIRA_1.2.0.zip
* DONE (SEPIRA)
In R CMD INSTALL
In R CMD INSTALL
* installing to library 'C:/Users/biocbuild/bbs-3.8-bioc/R/library'
package 'SEPIRA' successfully unpacked and MD5 sums checked
In R CMD INSTALL