| Back to Multiple platform build/check report for BioC 3.8 |
|
This page was generated on 2019-04-16 11:51:07 -0400 (Tue, 16 Apr 2019).
| Package 1410/1649 | Hostname | OS / Arch | INSTALL | BUILD | CHECK | BUILD BIN | ||||||
| SELEX 1.14.0 Harmen Bussemaker
| malbec1 | Linux (Ubuntu 16.04.6 LTS) / x86_64 | OK | OK | [ OK ] | |||||||
| merida1 | OS X 10.11.6 El Capitan / x86_64 | OK | OK | OK | OK |
| Package: SELEX |
| Version: 1.14.0 |
| Command: /home/biocbuild/bbs-3.8-bioc/R/bin/R CMD check --install=check:SELEX.install-out.txt --library=/home/biocbuild/bbs-3.8-bioc/R/library --no-vignettes --timings SELEX_1.14.0.tar.gz |
| StartedAt: 2019-04-16 02:57:03 -0400 (Tue, 16 Apr 2019) |
| EndedAt: 2019-04-16 02:58:51 -0400 (Tue, 16 Apr 2019) |
| EllapsedTime: 108.3 seconds |
| RetCode: 0 |
| Status: OK |
| CheckDir: SELEX.Rcheck |
| Warnings: 0 |
##############################################################################
##############################################################################
###
### Running command:
###
### /home/biocbuild/bbs-3.8-bioc/R/bin/R CMD check --install=check:SELEX.install-out.txt --library=/home/biocbuild/bbs-3.8-bioc/R/library --no-vignettes --timings SELEX_1.14.0.tar.gz
###
##############################################################################
##############################################################################
* using log directory ‘/home/biocbuild/bbs-3.8-bioc/meat/SELEX.Rcheck’
* using R version 3.5.3 (2019-03-11)
* using platform: x86_64-pc-linux-gnu (64-bit)
* using session charset: UTF-8
* using option ‘--no-vignettes’
* checking for file ‘SELEX/DESCRIPTION’ ... OK
* this is package ‘SELEX’ version ‘1.14.0’
* checking package namespace information ... OK
* checking package dependencies ... OK
* checking if this is a source package ... OK
* checking if there is a namespace ... OK
* checking for hidden files and directories ... OK
* checking for portable file names ... OK
* checking for sufficient/correct file permissions ... OK
* checking whether package ‘SELEX’ can be installed ... OK
* checking installed package size ... OK
* checking package directory ... OK
* checking ‘build’ directory ... OK
* checking DESCRIPTION meta-information ... NOTE
Malformed Description field: should contain one or more complete sentences.
* checking top-level files ... OK
* checking for left-over files ... OK
* checking index information ... OK
* checking package subdirectories ... OK
* checking R files for non-ASCII characters ... OK
* checking R files for syntax errors ... OK
* checking whether the package can be loaded ... OK
* checking whether the package can be loaded with stated dependencies ... OK
* checking whether the package can be unloaded cleanly ... OK
* checking whether the namespace can be loaded with stated dependencies ... OK
* checking whether the namespace can be unloaded cleanly ... OK
* checking dependencies in R code ... OK
* checking S3 generic/method consistency ... OK
* checking replacement functions ... OK
* checking foreign function calls ... OK
* checking R code for possible problems ... NOTE
selex.config: no visible global function definition for ‘read.table’
selex.config: no visible global function definition for ‘write.table’
selex.counts: no visible global function definition for ‘flush.console’
selex.infogain: no visible global function definition for
‘flush.console’
selex.kmax: no visible global function definition for ‘flush.console’
selex.loadCountTable: no visible global function definition for
‘flush.console’
selex.mm: no visible global function definition for ‘flush.console’
selex.revcomp: no visible global function definition for
‘complete.cases’
Undefined global functions or variables:
complete.cases flush.console read.table write.table
Consider adding
importFrom("stats", "complete.cases")
importFrom("utils", "flush.console", "read.table", "write.table")
to your NAMESPACE file.
* checking Rd files ... OK
* checking Rd metadata ... OK
* checking Rd cross-references ... OK
* checking for missing documentation entries ... OK
* checking for code/documentation mismatches ... OK
* checking Rd \usage sections ... OK
* checking Rd contents ... OK
* checking for unstated dependencies in examples ... OK
* checking line endings in Makefiles ... OK
* checking for GNU extensions in Makefiles ... OK
* checking include directives in Makefiles ... OK
* checking files in ‘vignettes’ ... OK
* checking examples ... OK
Examples with CPU or elapsed time > 5s
user system elapsed
SELEX 31.716 2.680 13.015
selex.seqfilter 10.468 0.604 3.926
* checking for unstated dependencies in vignettes ... OK
* checking package vignettes in ‘inst/doc’ ... OK
* checking running R code from vignettes ... SKIPPED
* checking re-building of vignette outputs ... SKIPPED
* checking PDF version of manual ... OK
* DONE
Status: 2 NOTEs
See
‘/home/biocbuild/bbs-3.8-bioc/meat/SELEX.Rcheck/00check.log’
for details.
SELEX.Rcheck/00install.out
############################################################################## ############################################################################## ### ### Running command: ### ### /home/biocbuild/bbs-3.8-bioc/R/bin/R CMD INSTALL SELEX ### ############################################################################## ############################################################################## * installing to library ‘/home/biocbuild/bbs-3.8-bioc/R/library’ * installing *source* package ‘SELEX’ ... ** R ** inst ** byte-compile and prepare package for lazy loading ** help *** installing help indices ** building package indices ** installing vignettes ** testing if installed package can be loaded * DONE (SELEX)
SELEX.Rcheck/SELEX-Ex.timings
| name | user | system | elapsed | |
| SELEX | 31.716 | 2.680 | 13.015 | |
| selex.affinities | 0.776 | 0.180 | 0.719 | |
| selex.config | 0.156 | 0.040 | 0.111 | |
| selex.countSummary | 1.116 | 0.176 | 0.626 | |
| selex.counts | 1.844 | 0.248 | 1.165 | |
| selex.defineSample | 0.268 | 0.048 | 0.149 | |
| selex.exampledata | 0.264 | 0.048 | 0.139 | |
| selex.fastqPSFM | 0.748 | 0.088 | 0.441 | |
| selex.getAttributes | 0.268 | 0.064 | 0.157 | |
| selex.getRound0 | 0.208 | 0.052 | 0.179 | |
| selex.getSeqfilter | 0.264 | 0.048 | 0.120 | |
| selex.infogain | 2.384 | 0.380 | 1.180 | |
| selex.infogainSummary | 0.480 | 0.132 | 0.490 | |
| selex.jvmStatus | 0.072 | 0.028 | 0.100 | |
| selex.kmax | 1.168 | 0.476 | 1.385 | |
| selex.kmerPSFM | 0.512 | 0.112 | 0.438 | |
| selex.loadAnnotation | 0.412 | 0.104 | 0.224 | |
| selex.mm | 0.744 | 0.176 | 0.565 | |
| selex.mmProb | 0.428 | 0.136 | 0.470 | |
| selex.mmSummary | 0.396 | 0.140 | 0.461 | |
| selex.revcomp | 0.668 | 0.140 | 0.709 | |
| selex.run | 2.684 | 0.440 | 1.495 | |
| selex.sample | 0.248 | 0.076 | 0.209 | |
| selex.samplePSFM | 0.420 | 0.052 | 0.330 | |
| selex.sampleSummary | 0.356 | 0.080 | 0.228 | |
| selex.saveAnnotation | 0.092 | 0.084 | 0.173 | |
| selex.seqfilter | 10.468 | 0.604 | 3.926 | |
| selex.setwd | 0.140 | 0.052 | 0.088 | |
| selex.split | 0.708 | 0.128 | 0.389 | |
| selex.summary | 1.000 | 0.336 | 1.069 | |