| Back to Multiple platform build/check report for BioC 3.8 |
|
This page was generated on 2019-04-13 11:22:42 -0400 (Sat, 13 Apr 2019).
| Package 1384/1649 | Hostname | OS / Arch | INSTALL | BUILD | CHECK | BUILD BIN | ||||||
| SANTA 2.20.0 Alex J. Cornish
| malbec1 | Linux (Ubuntu 16.04.6 LTS) / x86_64 | OK | OK | WARNINGS | |||||||
| tokay1 | Windows Server 2012 R2 Standard / x64 | OK | OK | WARNINGS | [ OK ] | |||||||
| merida1 | OS X 10.11.6 El Capitan / x86_64 | OK | OK | WARNINGS | OK |
| Package: SANTA |
| Version: 2.20.0 |
| Command: rm -rf SANTA.buildbin-libdir && mkdir SANTA.buildbin-libdir && C:\Users\biocbuild\bbs-3.8-bioc\R\bin\R.exe CMD INSTALL --merge-multiarch --build --library=SANTA.buildbin-libdir SANTA_2.20.0.tar.gz |
| StartedAt: 2019-04-13 07:55:01 -0400 (Sat, 13 Apr 2019) |
| EndedAt: 2019-04-13 07:55:12 -0400 (Sat, 13 Apr 2019) |
| EllapsedTime: 11.5 seconds |
| RetCode: 0 |
| Status: OK |
| PackageFile: SANTA_2.20.0.zip |
| PackageFileSize: 3.711 MiB |
##############################################################################
##############################################################################
###
### Running command:
###
### rm -rf SANTA.buildbin-libdir && mkdir SANTA.buildbin-libdir && C:\Users\biocbuild\bbs-3.8-bioc\R\bin\R.exe CMD INSTALL --merge-multiarch --build --library=SANTA.buildbin-libdir SANTA_2.20.0.tar.gz
###
##############################################################################
##############################################################################
install for i386
* installing *source* package 'SANTA' ...
** libs
C:/Rtools/mingw_32/bin/gcc -I"C:/Users/BIOCBU˜1/BBS-3˜1.8-B/R/include" -DNDEBUG -I"C:/extsoft/include" -O3 -Wall -std=gnu99 -mtune=generic -c computenetK_fewzeros.c -o computenetK_fewzeros.o
C:/Rtools/mingw_32/bin/gcc -I"C:/Users/BIOCBU˜1/BBS-3˜1.8-B/R/include" -DNDEBUG -I"C:/extsoft/include" -O3 -Wall -std=gnu99 -mtune=generic -c computenetK_manyzeros.c -o computenetK_manyzeros.o
computenetK_manyzeros.c: In function 'computenetK_manyzeros':
computenetK_manyzeros.c:29:24: warning: assignment from incompatible pointer type
p_which_vw_nonzero = R_alloc(n_nonzero_vertices, sizeof(int));
^
C:/Rtools/mingw_32/bin/gcc -I"C:/Users/BIOCBU˜1/BBS-3˜1.8-B/R/include" -DNDEBUG -I"C:/extsoft/include" -O3 -Wall -std=gnu99 -mtune=generic -c computenodeAUK.c -o computenodeAUK.o
C:/Rtools/mingw_32/bin/gcc -I"C:/Users/BIOCBU˜1/BBS-3˜1.8-B/R/include" -DNDEBUG -I"C:/extsoft/include" -O3 -Wall -std=gnu99 -mtune=generic -c computeweights.c -o computeweights.o
C:/Rtools/mingw_32/bin/gcc -shared -s -static-libgcc -o SANTA.dll tmp.def computenetK_fewzeros.o computenetK_manyzeros.o computenodeAUK.o computeweights.o -LC:/extsoft/lib/i386 -LC:/extsoft/lib -LC:/Users/BIOCBU˜1/BBS-3˜1.8-B/R/bin/i386 -lR
installing to C:/Users/biocbuild/bbs-3.8-bioc/meat/SANTA.buildbin-libdir/SANTA/libs/i386
** R
** data
** inst
** byte-compile and prepare package for lazy loading
** help
*** installing help indices
converting help for package 'SANTA'
finding HTML links ... done
BinGraph html
Compactness html
CreateGrid html
DistGraph html
Rd warning: C:/Users/biocbuild/bbs-3.8-bioc/tmpdir/RtmpIpR2Rs/R.INSTALL1b708d063e9/SANTA/man/DistGraph.Rd:53: file link 'shortest.paths' in package 'igraph' does not exist and so has been treated as a topic
GraphDiffusion html
Rd warning: C:/Users/biocbuild/bbs-3.8-bioc/tmpdir/RtmpIpR2Rs/R.INSTALL1b708d063e9/SANTA/man/GraphDiffusion.Rd:45: file link 'shortest.paths' in package 'igraph' does not exist and so has been treated as a topic
GraphMFPT html
Rd warning: C:/Users/biocbuild/bbs-3.8-bioc/tmpdir/RtmpIpR2Rs/R.INSTALL1b708d063e9/SANTA/man/GraphMFPT.Rd:46: file link 'shortest.paths' in package 'igraph' does not exist and so has been treated as a topic
Knet html
Knode html
SANTA.data html
SpreadHits html
plot.Knet html
** building package indices
** installing vignettes
** testing if installed package can be loaded
In R CMD INSTALL
install for x64
* installing *source* package 'SANTA' ...
** libs
C:/Rtools/mingw_64/bin/gcc -I"C:/Users/BIOCBU˜1/BBS-3˜1.8-B/R/include" -DNDEBUG -I"C:/extsoft/include" -O2 -Wall -std=gnu99 -mtune=generic -c computenetK_fewzeros.c -o computenetK_fewzeros.o
C:/Rtools/mingw_64/bin/gcc -I"C:/Users/BIOCBU˜1/BBS-3˜1.8-B/R/include" -DNDEBUG -I"C:/extsoft/include" -O2 -Wall -std=gnu99 -mtune=generic -c computenetK_manyzeros.c -o computenetK_manyzeros.o
computenetK_manyzeros.c: In function 'computenetK_manyzeros':
computenetK_manyzeros.c:29:24: warning: assignment from incompatible pointer type
p_which_vw_nonzero = R_alloc(n_nonzero_vertices, sizeof(int));
^
C:/Rtools/mingw_64/bin/gcc -I"C:/Users/BIOCBU˜1/BBS-3˜1.8-B/R/include" -DNDEBUG -I"C:/extsoft/include" -O2 -Wall -std=gnu99 -mtune=generic -c computenodeAUK.c -o computenodeAUK.o
C:/Rtools/mingw_64/bin/gcc -I"C:/Users/BIOCBU˜1/BBS-3˜1.8-B/R/include" -DNDEBUG -I"C:/extsoft/include" -O2 -Wall -std=gnu99 -mtune=generic -c computeweights.c -o computeweights.o
C:/Rtools/mingw_64/bin/gcc -shared -s -static-libgcc -o SANTA.dll tmp.def computenetK_fewzeros.o computenetK_manyzeros.o computenodeAUK.o computeweights.o -LC:/extsoft/lib/x64 -LC:/extsoft/lib -LC:/Users/BIOCBU˜1/BBS-3˜1.8-B/R/bin/x64 -lR
installing to C:/Users/biocbuild/bbs-3.8-bioc/meat/SANTA.buildbin-libdir/SANTA/libs/x64
** testing if installed package can be loaded
* MD5 sums
packaged installation of 'SANTA' as SANTA_2.20.0.zip
* DONE (SANTA)
In R CMD INSTALL
In R CMD INSTALL