| Back to Multiple platform build/check report for BioC 3.8 |
|
This page was generated on 2019-04-16 11:50:57 -0400 (Tue, 16 Apr 2019).
| Package 1347/1649 | Hostname | OS / Arch | INSTALL | BUILD | CHECK | BUILD BIN | ||||||
| Rqc 1.16.2 Welliton Souza
| malbec1 | Linux (Ubuntu 16.04.6 LTS) / x86_64 | OK | OK | [ OK ] | |||||||
| merida1 | OS X 10.11.6 El Capitan / x86_64 | OK | OK | OK | OK |
| Package: Rqc |
| Version: 1.16.2 |
| Command: /home/biocbuild/bbs-3.8-bioc/R/bin/R CMD check --install=check:Rqc.install-out.txt --library=/home/biocbuild/bbs-3.8-bioc/R/library --no-vignettes --timings Rqc_1.16.2.tar.gz |
| StartedAt: 2019-04-16 02:45:12 -0400 (Tue, 16 Apr 2019) |
| EndedAt: 2019-04-16 02:50:18 -0400 (Tue, 16 Apr 2019) |
| EllapsedTime: 306.1 seconds |
| RetCode: 0 |
| Status: OK |
| CheckDir: Rqc.Rcheck |
| Warnings: 0 |
##############################################################################
##############################################################################
###
### Running command:
###
### /home/biocbuild/bbs-3.8-bioc/R/bin/R CMD check --install=check:Rqc.install-out.txt --library=/home/biocbuild/bbs-3.8-bioc/R/library --no-vignettes --timings Rqc_1.16.2.tar.gz
###
##############################################################################
##############################################################################
* using log directory ‘/home/biocbuild/bbs-3.8-bioc/meat/Rqc.Rcheck’
* using R version 3.5.3 (2019-03-11)
* using platform: x86_64-pc-linux-gnu (64-bit)
* using session charset: UTF-8
* using option ‘--no-vignettes’
* checking for file ‘Rqc/DESCRIPTION’ ... OK
* checking extension type ... Package
* this is package ‘Rqc’ version ‘1.16.2’
* checking package namespace information ... OK
* checking package dependencies ... OK
* checking if this is a source package ... OK
* checking if there is a namespace ... OK
* checking for hidden files and directories ... NOTE
Found the following hidden files and directories:
.travis.yml
These were most likely included in error. See section ‘Package
structure’ in the ‘Writing R Extensions’ manual.
* checking for portable file names ... OK
* checking for sufficient/correct file permissions ... OK
* checking whether package ‘Rqc’ can be installed ... OK
* checking installed package size ... OK
* checking package directory ... OK
* checking ‘build’ directory ... OK
* checking DESCRIPTION meta-information ... OK
* checking top-level files ... OK
* checking for left-over files ... OK
* checking index information ... OK
* checking package subdirectories ... OK
* checking R files for non-ASCII characters ... OK
* checking R files for syntax errors ... OK
* checking whether the package can be loaded ... OK
* checking whether the package can be loaded with stated dependencies ... OK
* checking whether the package can be unloaded cleanly ... OK
* checking whether the namespace can be loaded with stated dependencies ... OK
* checking whether the namespace can be unloaded cleanly ... OK
* checking dependencies in R code ... OK
* checking S3 generic/method consistency ... OK
* checking replacement functions ... OK
* checking foreign function calls ... OK
* checking R code for possible problems ... OK
* checking Rd files ... OK
* checking Rd metadata ... OK
* checking Rd cross-references ... OK
* checking for missing documentation entries ... OK
* checking for code/documentation mismatches ... OK
* checking Rd \usage sections ... OK
* checking Rd contents ... OK
* checking for unstated dependencies in examples ... OK
* checking line endings in C/C++/Fortran sources/headers ... OK
* checking compiled code ... NOTE
Note: information on .o files is not available
* checking files in ‘vignettes’ ... OK
* checking examples ... OK
Examples with CPU or elapsed time > 5s
user system elapsed
Rqc-package 11.432 0.12 11.641
rqcReport 10.416 0.10 10.526
rqc 9.672 0.16 9.840
* checking for unstated dependencies in ‘tests’ ... OK
* checking tests ...
Running ‘testthat.R’
OK
* checking for unstated dependencies in vignettes ... OK
* checking package vignettes in ‘inst/doc’ ... OK
* checking running R code from vignettes ... SKIPPED
* checking re-building of vignette outputs ... SKIPPED
* checking PDF version of manual ... OK
* DONE
Status: 2 NOTEs
See
‘/home/biocbuild/bbs-3.8-bioc/meat/Rqc.Rcheck/00check.log’
for details.
Rqc.Rcheck/00install.out
##############################################################################
##############################################################################
###
### Running command:
###
### /home/biocbuild/bbs-3.8-bioc/R/bin/R CMD INSTALL Rqc
###
##############################################################################
##############################################################################
* installing to library ‘/home/biocbuild/bbs-3.8-bioc/R/library’
* installing *source* package ‘Rqc’ ...
** libs
g++ -I"/home/biocbuild/bbs-3.8-bioc/R/include" -DNDEBUG -I"/home/biocbuild/bbs-3.8-bioc/R/library/Rcpp/include" -I/usr/local/include -fpic -g -O2 -Wall -c RRDNA.cpp -o RRDNA.o
RRDNA.cpp: In function ‘Rcpp::StringVector toRRDNA(Rcpp::StringVector)’:
RRDNA.cpp:51:27: warning: comparison between signed and unsigned integer expressions [-Wsign-compare]
for (j = 0; j < dna.size(); j+=3)
^
RRDNA.cpp: In function ‘Rcpp::StringVector fromRRDNA(Rcpp::StringVector)’:
RRDNA.cpp:102:22: warning: comparison between signed and unsigned integer expressions [-Wsign-compare]
for(j = 1; j < rrdna.size(); ++j) {
^
g++ -I"/home/biocbuild/bbs-3.8-bioc/R/include" -DNDEBUG -I"/home/biocbuild/bbs-3.8-bioc/R/library/Rcpp/include" -I/usr/local/include -fpic -g -O2 -Wall -c RcppExports.cpp -o RcppExports.o
g++ -shared -L/home/biocbuild/bbs-3.8-bioc/R/lib -L/usr/local/lib -o Rqc.so RRDNA.o RcppExports.o -L/home/biocbuild/bbs-3.8-bioc/R/lib -lR
installing to /home/biocbuild/bbs-3.8-bioc/R/library/Rqc/libs
** R
** inst
** byte-compile and prepare package for lazy loading
** help
*** installing help indices
** building package indices
** installing vignettes
** testing if installed package can be loaded
* DONE (Rqc)
Rqc.Rcheck/tests/testthat.Rout
R version 3.5.3 (2019-03-11) -- "Great Truth"
Copyright (C) 2019 The R Foundation for Statistical Computing
Platform: x86_64-pc-linux-gnu (64-bit)
R is free software and comes with ABSOLUTELY NO WARRANTY.
You are welcome to redistribute it under certain conditions.
Type 'license()' or 'licence()' for distribution details.
R is a collaborative project with many contributors.
Type 'contributors()' for more information and
'citation()' on how to cite R or R packages in publications.
Type 'demo()' for some demos, 'help()' for on-line help, or
'help.start()' for an HTML browser interface to help.
Type 'q()' to quit R.
> library(testthat)
> library(Rqc)
Loading required package: BiocParallel
Loading required package: ShortRead
Loading required package: BiocGenerics
Loading required package: parallel
Attaching package: 'BiocGenerics'
The following objects are masked from 'package:parallel':
clusterApply, clusterApplyLB, clusterCall, clusterEvalQ,
clusterExport, clusterMap, parApply, parCapply, parLapply,
parLapplyLB, parRapply, parSapply, parSapplyLB
The following objects are masked from 'package:stats':
IQR, mad, sd, var, xtabs
The following objects are masked from 'package:base':
Filter, Find, Map, Position, Reduce, anyDuplicated, append,
as.data.frame, basename, cbind, colMeans, colSums, colnames,
dirname, do.call, duplicated, eval, evalq, get, grep, grepl,
intersect, is.unsorted, lapply, lengths, mapply, match, mget,
order, paste, pmax, pmax.int, pmin, pmin.int, rank, rbind,
rowMeans, rowSums, rownames, sapply, setdiff, sort, table, tapply,
union, unique, unsplit, which, which.max, which.min
Loading required package: Biostrings
Loading required package: S4Vectors
Loading required package: stats4
Attaching package: 'S4Vectors'
The following object is masked from 'package:base':
expand.grid
Loading required package: IRanges
Loading required package: XVector
Attaching package: 'Biostrings'
The following object is masked from 'package:base':
strsplit
Loading required package: Rsamtools
Loading required package: GenomeInfoDb
Loading required package: GenomicRanges
Loading required package: GenomicAlignments
Loading required package: SummarizedExperiment
Loading required package: Biobase
Welcome to Bioconductor
Vignettes contain introductory material; view with
'browseVignettes()'. To cite Bioconductor, see
'citation("Biobase")', and for packages 'citation("pkgname")'.
Loading required package: DelayedArray
Loading required package: matrixStats
Attaching package: 'matrixStats'
The following objects are masked from 'package:Biobase':
anyMissing, rowMedians
Attaching package: 'DelayedArray'
The following objects are masked from 'package:matrixStats':
colMaxs, colMins, colRanges, rowMaxs, rowMins, rowRanges
The following object is masked from 'package:Biostrings':
type
The following objects are masked from 'package:base':
aperm, apply
Loading required package: ggplot2
>
> test_check("Rqc")
══ testthat results ═══════════════════════════════════════════════════════════
OK: 27 SKIPPED: 0 FAILED: 0
Warning messages:
1: In length(names) :
closing unused connection 5 (/home/biocbuild/bbs-3.8-bioc/R/library/ShortRead/extdata/E-MTAB-1147/ERR127302_2_subset.fastq.gz)
2: In length(names) :
closing unused connection 4 (/home/biocbuild/bbs-3.8-bioc/R/library/ShortRead/extdata/E-MTAB-1147/ERR127302_1_subset.fastq.gz)
>
> proc.time()
user system elapsed
18.112 0.380 18.526
Rqc.Rcheck/Rqc-Ex.timings
| name | user | system | elapsed | |
| Rqc-package | 11.432 | 0.120 | 11.641 | |
| RqcResultSet-class | 0.032 | 0.000 | 0.043 | |
| checkpoint | 0.004 | 0.000 | 0.005 | |
| detectFileFormat | 0.004 | 0.000 | 0.005 | |
| fromRRDNA | 0.004 | 0.000 | 0.002 | |
| matdist | 0.000 | 0.000 | 0.001 | |
| rqc | 9.672 | 0.160 | 9.840 | |
| rqcCycleAverageQualityPcaPlot | 0.260 | 0.000 | 0.258 | |
| rqcCycleAverageQualityPlot | 0.324 | 0.000 | 0.324 | |
| rqcCycleBaseCallsPlot | 0.556 | 0.000 | 0.556 | |
| rqcCycleGCPlot | 0.376 | 0.000 | 0.378 | |
| rqcCycleQualityBoxPlot | 2.524 | 0.000 | 2.528 | |
| rqcCycleQualityPlot | 0.816 | 0.004 | 0.824 | |
| rqcFileHeatmap | 0.180 | 0.000 | 0.181 | |
| rqcGroupCycleAverageQualityPlot | 0.308 | 0.000 | 0.307 | |
| rqcQA | 0.220 | 0.004 | 0.225 | |
| rqcReadFrequencyPlot | 0.200 | 0.000 | 0.197 | |
| rqcReadQualityBoxPlot | 0.256 | 0.000 | 0.255 | |
| rqcReadQualityPlot | 0.220 | 0.000 | 0.219 | |
| rqcReadWidthPlot | 0.212 | 0.000 | 0.212 | |
| rqcReport | 10.416 | 0.100 | 10.526 | |
| rqcShinyReport | 0.004 | 0.000 | 0.004 | |
| stats4trim | 0.08 | 0.00 | 0.08 | |
| subsetByGroup | 0.612 | 0.016 | 0.628 | |
| subsetByPair | 0.008 | 0.000 | 0.009 | |
| toRRDNA | 0.004 | 0.000 | 0.002 | |