| Back to Multiple platform build/check report for BioC 3.8 |
|
This page was generated on 2019-04-13 11:23:09 -0400 (Sat, 13 Apr 2019).
| Package 1338/1649 | Hostname | OS / Arch | INSTALL | BUILD | CHECK | BUILD BIN | ||||||
| Roleswitch 1.20.0 Yue Li
| malbec1 | Linux (Ubuntu 16.04.6 LTS) / x86_64 | OK | OK | OK | |||||||
| tokay1 | Windows Server 2012 R2 Standard / x64 | [ OK ] | OK | WARNINGS | OK | |||||||
| merida1 | OS X 10.11.6 El Capitan / x86_64 | OK | OK | OK | OK |
| Package: Roleswitch |
| Version: 1.20.0 |
| Command: C:\cygwin\bin\curl.exe -O https://malbec1.bioconductor.org/BBS/3.8/bioc/src/contrib/Roleswitch_1.20.0.tar.gz && rm -rf Roleswitch.buildbin-libdir && mkdir Roleswitch.buildbin-libdir && C:\Users\biocbuild\bbs-3.8-bioc\R\bin\R.exe CMD INSTALL --merge-multiarch --build --library=Roleswitch.buildbin-libdir Roleswitch_1.20.0.tar.gz && C:\Users\biocbuild\bbs-3.8-bioc\R\bin\R.exe CMD INSTALL Roleswitch_1.20.0.zip && rm Roleswitch_1.20.0.tar.gz Roleswitch_1.20.0.zip |
| StartedAt: 2019-04-12 19:27:36 -0400 (Fri, 12 Apr 2019) |
| EndedAt: 2019-04-12 19:28:09 -0400 (Fri, 12 Apr 2019) |
| EllapsedTime: 32.7 seconds |
| RetCode: 0 |
| Status: OK |
##############################################################################
##############################################################################
###
### Running command:
###
### C:\cygwin\bin\curl.exe -O https://malbec1.bioconductor.org/BBS/3.8/bioc/src/contrib/Roleswitch_1.20.0.tar.gz && rm -rf Roleswitch.buildbin-libdir && mkdir Roleswitch.buildbin-libdir && C:\Users\biocbuild\bbs-3.8-bioc\R\bin\R.exe CMD INSTALL --merge-multiarch --build --library=Roleswitch.buildbin-libdir Roleswitch_1.20.0.tar.gz && C:\Users\biocbuild\bbs-3.8-bioc\R\bin\R.exe CMD INSTALL Roleswitch_1.20.0.zip && rm Roleswitch_1.20.0.tar.gz Roleswitch_1.20.0.zip
###
##############################################################################
##############################################################################
% Total % Received % Xferd Average Speed Time Time Time Current
Dload Upload Total Spent Left Speed
0 0 0 0 0 0 0 0 --:--:-- --:--:-- --:--:-- 0
100 369k 100 369k 0 0 7761k 0 --:--:-- --:--:-- --:--:-- 8389k
install for i386
* installing *source* package 'Roleswitch' ...
** R
** data
** inst
** byte-compile and prepare package for lazy loading
** help
*** installing help indices
converting help for package 'Roleswitch'
finding HTML links ... done
Roleswitch-package html
diagnosticPlot html
getSeedMatrix html
roleswitch html
Rd warning: C:/Users/biocbuild/bbs-3.8-bioc/tmpdir/Rtmp8kEXrC/R.INSTALL18681f9a5069/Roleswitch/man/roleswitch.Rd:42: file link 'eSet' in package 'Biobase' does not exist and so has been treated as a topic
Rd warning: C:/Users/biocbuild/bbs-3.8-bioc/tmpdir/Rtmp8kEXrC/R.INSTALL18681f9a5069/Roleswitch/man/roleswitch.Rd:42: file link 'ExpressionSet' in package 'Biobase' does not exist and so has been treated as a topic
Rd warning: C:/Users/biocbuild/bbs-3.8-bioc/tmpdir/Rtmp8kEXrC/R.INSTALL18681f9a5069/Roleswitch/man/roleswitch.Rd:45: file link 'eSet' in package 'Biobase' does not exist and so has been treated as a topic
tcga_gbm_testdata html
** building package indices
** installing vignettes
** testing if installed package can be loaded
In R CMD INSTALL
install for x64
* installing *source* package 'Roleswitch' ...
** testing if installed package can be loaded
* MD5 sums
packaged installation of 'Roleswitch' as Roleswitch_1.20.0.zip
* DONE (Roleswitch)
In R CMD INSTALL
In R CMD INSTALL
* installing to library 'C:/Users/biocbuild/bbs-3.8-bioc/R/library'
package 'Roleswitch' successfully unpacked and MD5 sums checked
In R CMD INSTALL