| Back to Multiple platform build/check report for BioC 3.8 |
|
This page was generated on 2019-04-13 11:24:47 -0400 (Sat, 13 Apr 2019).
| Package 1333/1649 | Hostname | OS / Arch | INSTALL | BUILD | CHECK | BUILD BIN | ||||||
| RnaSeqSampleSize 1.14.1 Shilin Zhao
| malbec1 | Linux (Ubuntu 16.04.6 LTS) / x86_64 | OK | OK | OK | |||||||
| tokay1 | Windows Server 2012 R2 Standard / x64 | [ OK ] | OK | OK | OK | |||||||
| merida1 | OS X 10.11.6 El Capitan / x86_64 | OK | OK | OK | OK |
| Package: RnaSeqSampleSize |
| Version: 1.14.1 |
| Command: C:\cygwin\bin\curl.exe -O https://malbec1.bioconductor.org/BBS/3.8/bioc/src/contrib/RnaSeqSampleSize_1.14.1.tar.gz && rm -rf RnaSeqSampleSize.buildbin-libdir && mkdir RnaSeqSampleSize.buildbin-libdir && C:\Users\biocbuild\bbs-3.8-bioc\R\bin\R.exe CMD INSTALL --merge-multiarch --build --library=RnaSeqSampleSize.buildbin-libdir RnaSeqSampleSize_1.14.1.tar.gz && C:\Users\biocbuild\bbs-3.8-bioc\R\bin\R.exe CMD INSTALL RnaSeqSampleSize_1.14.1.zip && rm RnaSeqSampleSize_1.14.1.tar.gz RnaSeqSampleSize_1.14.1.zip |
| StartedAt: 2019-04-12 19:27:08 -0400 (Fri, 12 Apr 2019) |
| EndedAt: 2019-04-12 19:28:18 -0400 (Fri, 12 Apr 2019) |
| EllapsedTime: 70.3 seconds |
| RetCode: 0 |
| Status: OK |
##############################################################################
##############################################################################
###
### Running command:
###
### C:\cygwin\bin\curl.exe -O https://malbec1.bioconductor.org/BBS/3.8/bioc/src/contrib/RnaSeqSampleSize_1.14.1.tar.gz && rm -rf RnaSeqSampleSize.buildbin-libdir && mkdir RnaSeqSampleSize.buildbin-libdir && C:\Users\biocbuild\bbs-3.8-bioc\R\bin\R.exe CMD INSTALL --merge-multiarch --build --library=RnaSeqSampleSize.buildbin-libdir RnaSeqSampleSize_1.14.1.tar.gz && C:\Users\biocbuild\bbs-3.8-bioc\R\bin\R.exe CMD INSTALL RnaSeqSampleSize_1.14.1.zip && rm RnaSeqSampleSize_1.14.1.tar.gz RnaSeqSampleSize_1.14.1.zip
###
##############################################################################
##############################################################################
% Total % Received % Xferd Average Speed Time Time Time Current
Dload Upload Total Spent Left Speed
0 0 0 0 0 0 0 0 --:--:-- --:--:-- --:--:-- 0
100 335k 100 335k 0 0 8005k 0 --:--:-- --:--:-- --:--:-- 8604k
install for i386
* installing *source* package 'RnaSeqSampleSize' ...
** libs
C:/Rtools/mingw_32/bin/g++ -I"C:/Users/BIOCBU˜1/BBS-3˜1.8-B/R/include" -DNDEBUG -I"C:/Users/biocbuild/bbs-3.8-bioc/R/library/Rcpp/include" -I"C:/extsoft/include" -O2 -Wall -mtune=generic -c RcppExports.cpp -o RcppExports.o
C:/Rtools/mingw_32/bin/gcc -I"C:/Users/BIOCBU˜1/BBS-3˜1.8-B/R/include" -DNDEBUG -I"C:/Users/biocbuild/bbs-3.8-bioc/R/library/Rcpp/include" -I"C:/extsoft/include" -O3 -Wall -std=gnu99 -mtune=generic -c RnaSeqSampleSize.c -o RnaSeqSampleSize.o
C:/Rtools/mingw_32/bin/gcc -I"C:/Users/BIOCBU˜1/BBS-3˜1.8-B/R/include" -DNDEBUG -I"C:/Users/biocbuild/bbs-3.8-bioc/R/library/Rcpp/include" -I"C:/extsoft/include" -O3 -Wall -std=gnu99 -mtune=generic -c bd0.c -o bd0.o
C:/Rtools/mingw_32/bin/g++ -I"C:/Users/BIOCBU˜1/BBS-3˜1.8-B/R/include" -DNDEBUG -I"C:/Users/biocbuild/bbs-3.8-bioc/R/library/Rcpp/include" -I"C:/extsoft/include" -O2 -Wall -mtune=generic -c cumsumBorder.cpp -o cumsumBorder.o
C:/Rtools/mingw_32/bin/gcc -I"C:/Users/BIOCBU˜1/BBS-3˜1.8-B/R/include" -DNDEBUG -I"C:/Users/biocbuild/bbs-3.8-bioc/R/library/Rcpp/include" -I"C:/extsoft/include" -O3 -Wall -std=gnu99 -mtune=generic -c stirlerr.c -o stirlerr.o
C:/Rtools/mingw_32/bin/g++ -shared -s -static-libgcc -o RnaSeqSampleSize.dll tmp.def RcppExports.o RnaSeqSampleSize.o bd0.o cumsumBorder.o stirlerr.o -LC:/extsoft/lib/i386 -LC:/extsoft/lib -LC:/Users/BIOCBU˜1/BBS-3˜1.8-B/R/bin/i386 -lR
installing to C:/Users/biocbuild/bbs-3.8-bioc/meat/RnaSeqSampleSize.buildbin-libdir/RnaSeqSampleSize/libs/i386
** R
** inst
** byte-compile and prepare package for lazy loading
** help
*** installing help indices
converting help for package 'RnaSeqSampleSize'
finding HTML links ... done
convertIdOneToOne html
est_count_dispersion html
est_power html
est_power_curve html
est_power_distribution html
optimize_parameter html
plot_power_curve html
sample_size html
sample_size_distribution html
** building package indices
** installing vignettes
'RnaSeqSampleSize.Rnw'
** testing if installed package can be loaded
In R CMD INSTALL
install for x64
* installing *source* package 'RnaSeqSampleSize' ...
** libs
C:/Rtools/mingw_64/bin/g++ -I"C:/Users/BIOCBU˜1/BBS-3˜1.8-B/R/include" -DNDEBUG -I"C:/Users/biocbuild/bbs-3.8-bioc/R/library/Rcpp/include" -I"C:/extsoft/include" -O2 -Wall -mtune=generic -c RcppExports.cpp -o RcppExports.o
C:/Rtools/mingw_64/bin/gcc -I"C:/Users/BIOCBU˜1/BBS-3˜1.8-B/R/include" -DNDEBUG -I"C:/Users/biocbuild/bbs-3.8-bioc/R/library/Rcpp/include" -I"C:/extsoft/include" -O2 -Wall -std=gnu99 -mtune=generic -c RnaSeqSampleSize.c -o RnaSeqSampleSize.o
C:/Rtools/mingw_64/bin/gcc -I"C:/Users/BIOCBU˜1/BBS-3˜1.8-B/R/include" -DNDEBUG -I"C:/Users/biocbuild/bbs-3.8-bioc/R/library/Rcpp/include" -I"C:/extsoft/include" -O2 -Wall -std=gnu99 -mtune=generic -c bd0.c -o bd0.o
C:/Rtools/mingw_64/bin/g++ -I"C:/Users/BIOCBU˜1/BBS-3˜1.8-B/R/include" -DNDEBUG -I"C:/Users/biocbuild/bbs-3.8-bioc/R/library/Rcpp/include" -I"C:/extsoft/include" -O2 -Wall -mtune=generic -c cumsumBorder.cpp -o cumsumBorder.o
C:/Rtools/mingw_64/bin/gcc -I"C:/Users/BIOCBU˜1/BBS-3˜1.8-B/R/include" -DNDEBUG -I"C:/Users/biocbuild/bbs-3.8-bioc/R/library/Rcpp/include" -I"C:/extsoft/include" -O2 -Wall -std=gnu99 -mtune=generic -c stirlerr.c -o stirlerr.o
C:/Rtools/mingw_64/bin/g++ -shared -s -static-libgcc -o RnaSeqSampleSize.dll tmp.def RcppExports.o RnaSeqSampleSize.o bd0.o cumsumBorder.o stirlerr.o -LC:/extsoft/lib/x64 -LC:/extsoft/lib -LC:/Users/BIOCBU˜1/BBS-3˜1.8-B/R/bin/x64 -lR
installing to C:/Users/biocbuild/bbs-3.8-bioc/meat/RnaSeqSampleSize.buildbin-libdir/RnaSeqSampleSize/libs/x64
** testing if installed package can be loaded
* MD5 sums
packaged installation of 'RnaSeqSampleSize' as RnaSeqSampleSize_1.14.1.zip
* DONE (RnaSeqSampleSize)
In R CMD INSTALL
In R CMD INSTALL
* installing to library 'C:/Users/biocbuild/bbs-3.8-bioc/R/library'
package 'RnaSeqSampleSize' successfully unpacked and MD5 sums checked
In R CMD INSTALL