| Back to Multiple platform build/check report for BioC 3.8 | 
 | 
This page was generated on 2019-04-13 11:20:58 -0400 (Sat, 13 Apr 2019).
| Package 1323/1649 | Hostname | OS / Arch | INSTALL | BUILD | CHECK | BUILD BIN | ||||||
| RmiR 1.38.0 Francesco Favero 
 | malbec1 | Linux (Ubuntu 16.04.6 LTS) / x86_64 | OK | OK | OK |  | ||||||
| tokay1 | Windows Server 2012 R2 Standard / x64 | [ OK ] | OK | ERROR | OK | |||||||
| merida1 | OS X 10.11.6 El Capitan / x86_64 | OK | OK | OK | OK |  | 
| Package: RmiR | 
| Version: 1.38.0 | 
| Command: C:\cygwin\bin\curl.exe -O https://malbec1.bioconductor.org/BBS/3.8/bioc/src/contrib/RmiR_1.38.0.tar.gz && rm -rf RmiR.buildbin-libdir && mkdir RmiR.buildbin-libdir && C:\Users\biocbuild\bbs-3.8-bioc\R\bin\R.exe CMD INSTALL --merge-multiarch --build --library=RmiR.buildbin-libdir RmiR_1.38.0.tar.gz && C:\Users\biocbuild\bbs-3.8-bioc\R\bin\R.exe CMD INSTALL RmiR_1.38.0.zip && rm RmiR_1.38.0.tar.gz RmiR_1.38.0.zip | 
| StartedAt: 2019-04-12 19:15:34 -0400 (Fri, 12 Apr 2019) | 
| EndedAt: 2019-04-12 19:16:04 -0400 (Fri, 12 Apr 2019) | 
| EllapsedTime: 30.2 seconds | 
| RetCode: 0 | 
| Status: OK | 
##############################################################################
##############################################################################
###
### Running command:
###
###   C:\cygwin\bin\curl.exe -O https://malbec1.bioconductor.org/BBS/3.8/bioc/src/contrib/RmiR_1.38.0.tar.gz && rm -rf RmiR.buildbin-libdir && mkdir RmiR.buildbin-libdir && C:\Users\biocbuild\bbs-3.8-bioc\R\bin\R.exe CMD INSTALL --merge-multiarch --build --library=RmiR.buildbin-libdir RmiR_1.38.0.tar.gz && C:\Users\biocbuild\bbs-3.8-bioc\R\bin\R.exe CMD INSTALL RmiR_1.38.0.zip && rm RmiR_1.38.0.tar.gz RmiR_1.38.0.zip
###
##############################################################################
##############################################################################
  % Total    % Received % Xferd  Average Speed   Time    Time     Time  Current
                                 Dload  Upload   Total   Spent    Left  Speed
  0     0    0     0    0     0      0      0 --:--:-- --:--:-- --:--:--     0
100  154k  100  154k    0     0  3712k      0 --:--:-- --:--:-- --:--:-- 4078k
install for i386
* installing *source* package 'RmiR' ...
** R
** data
** byte-compile and prepare package for lazy loading
** help
*** installing help indices
  converting help for package 'RmiR'
    finding HTML links ... done
    RmiR                                    html  
    RmiRtc                                  html  
    data                                    html  
    plotRmiRtc                              html  
** building package indices
** installing vignettes
** testing if installed package can be loaded
In R CMD INSTALL
install for x64
* installing *source* package 'RmiR' ...
** testing if installed package can be loaded
* MD5 sums
packaged installation of 'RmiR' as RmiR_1.38.0.zip
* DONE (RmiR)
In R CMD INSTALL
In R CMD INSTALL
* installing to library 'C:/Users/biocbuild/bbs-3.8-bioc/R/library'
package 'RmiR' successfully unpacked and MD5 sums checked
In R CMD INSTALL