| Back to Multiple platform build/check report for BioC 3.8 |
|
This page was generated on 2019-04-16 11:49:44 -0400 (Tue, 16 Apr 2019).
| Package 1315/1649 | Hostname | OS / Arch | INSTALL | BUILD | CHECK | BUILD BIN | ||||||
| Risa 1.24.0 Alejandra Gonzalez-Beltran
| malbec1 | Linux (Ubuntu 16.04.6 LTS) / x86_64 | OK | OK | [ OK ] | |||||||
| merida1 | OS X 10.11.6 El Capitan / x86_64 | OK | OK | OK | OK |
| Package: Risa |
| Version: 1.24.0 |
| Command: /home/biocbuild/bbs-3.8-bioc/R/bin/R CMD check --install=check:Risa.install-out.txt --library=/home/biocbuild/bbs-3.8-bioc/R/library --no-vignettes --timings Risa_1.24.0.tar.gz |
| StartedAt: 2019-04-16 02:38:56 -0400 (Tue, 16 Apr 2019) |
| EndedAt: 2019-04-16 02:41:54 -0400 (Tue, 16 Apr 2019) |
| EllapsedTime: 178.3 seconds |
| RetCode: 0 |
| Status: OK |
| CheckDir: Risa.Rcheck |
| Warnings: 0 |
##############################################################################
##############################################################################
###
### Running command:
###
### /home/biocbuild/bbs-3.8-bioc/R/bin/R CMD check --install=check:Risa.install-out.txt --library=/home/biocbuild/bbs-3.8-bioc/R/library --no-vignettes --timings Risa_1.24.0.tar.gz
###
##############################################################################
##############################################################################
* using log directory ‘/home/biocbuild/bbs-3.8-bioc/meat/Risa.Rcheck’
* using R version 3.5.3 (2019-03-11)
* using platform: x86_64-pc-linux-gnu (64-bit)
* using session charset: UTF-8
* using option ‘--no-vignettes’
* checking for file ‘Risa/DESCRIPTION’ ... OK
* this is package ‘Risa’ version ‘1.24.0’
* checking package namespace information ... OK
* checking package dependencies ... OK
* checking if this is a source package ... OK
* checking if there is a namespace ... OK
* checking for hidden files and directories ... OK
* checking for portable file names ... OK
* checking for sufficient/correct file permissions ... OK
* checking whether package ‘Risa’ can be installed ... OK
* checking installed package size ... OK
* checking package directory ... OK
* checking ‘build’ directory ... OK
* checking DESCRIPTION meta-information ... OK
* checking top-level files ... OK
* checking for left-over files ... OK
* checking index information ... OK
* checking package subdirectories ... OK
* checking R files for non-ASCII characters ... OK
* checking R files for syntax errors ... OK
* checking whether the package can be loaded ... OK
* checking whether the package can be loaded with stated dependencies ... OK
* checking whether the package can be unloaded cleanly ... OK
* checking whether the namespace can be loaded with stated dependencies ... OK
* checking whether the namespace can be unloaded cleanly ... OK
* checking dependencies in R code ... OK
* checking S3 generic/method consistency ... OK
* checking replacement functions ... OK
* checking foreign function calls ... OK
* checking R code for possible problems ... NOTE
getPackagesInBiocView: no visible global function definition for ‘data’
readISAtabZip: no visible global function definition for ‘unzip’
suggestBiocPackage: no visible global function definition for
‘read.csv’
write.assay.file: no visible global function definition for
‘write.table’
write.investigation.file: no visible global function definition for
‘write.table’
write.study.file: no visible global function definition for
‘write.table’
initialize,ISATab: no visible global function definition for
‘count.fields’
initialize,ISATab: no visible global function definition for
‘read.table’
initialize,ISATab : <anonymous>: no visible global function definition
for ‘read.table’
initialize,ISATab : <anonymous> : <anonymous>: no visible global
function definition for ‘read.table’
initialize,ISATab: no visible global function definition for ‘na.omit’
Undefined global functions or variables:
count.fields data na.omit read.csv read.table unzip write.table
Consider adding
importFrom("stats", "na.omit")
importFrom("utils", "count.fields", "data", "read.csv", "read.table",
"unzip", "write.table")
to your NAMESPACE file.
* checking Rd files ... OK
* checking Rd metadata ... OK
* checking Rd cross-references ... OK
* checking for missing documentation entries ... OK
* checking for code/documentation mismatches ... OK
* checking Rd \usage sections ... OK
* checking Rd contents ... OK
* checking for unstated dependencies in examples ... OK
* checking files in ‘vignettes’ ... OK
* checking examples ... OK
Examples with CPU or elapsed time > 5s
user system elapsed
processAssayXcmsSet 99.740 4.488 15.521
readISAtab 14.244 0.644 0.127
processAssayXcmsSet.1factor 0.172 0.144 15.840
* checking for unstated dependencies in vignettes ... OK
* checking package vignettes in ‘inst/doc’ ... OK
* checking running R code from vignettes ... SKIPPED
* checking re-building of vignette outputs ... SKIPPED
* checking PDF version of manual ... OK
* DONE
Status: 1 NOTE
See
‘/home/biocbuild/bbs-3.8-bioc/meat/Risa.Rcheck/00check.log’
for details.
Risa.Rcheck/00install.out
############################################################################## ############################################################################## ### ### Running command: ### ### /home/biocbuild/bbs-3.8-bioc/R/bin/R CMD INSTALL Risa ### ############################################################################## ############################################################################## * installing to library ‘/home/biocbuild/bbs-3.8-bioc/R/library’ * installing *source* package ‘Risa’ ... ** R ** inst ** byte-compile and prepare package for lazy loading ** help *** installing help indices ** building package indices ** installing vignettes ** testing if installed package can be loaded * DONE (Risa)
Risa.Rcheck/Risa-Ex.timings
| name | user | system | elapsed | |
| AssayTab-class | 0.000 | 0.000 | 0.003 | |
| ISAtab-class | 0.000 | 0.000 | 0.001 | |
| Risa-package | 0.524 | 0.064 | 1.124 | |
| getAnnotatedDataFrameAssay | 0.196 | 0.008 | 0.465 | |
| getExpressionSet | 0.096 | 0.000 | 0.099 | |
| getMIAMEMetadata | 0.120 | 0.008 | 0.130 | |
| getMSAssayFilenames | 0.028 | 0.008 | 0.035 | |
| getMicroarrayAssayFilenames | 0.084 | 0.016 | 0.099 | |
| getStudyFilename | 0.032 | 0.004 | 0.035 | |
| isMSAssay | 0.032 | 0.004 | 0.035 | |
| isMicroarrayAssay | 0.080 | 0.008 | 0.088 | |
| processAssayXcmsSet.1factor | 0.172 | 0.144 | 15.840 | |
| processAssayXcmsSet | 99.740 | 4.488 | 15.521 | |
| readISAtab | 14.244 | 0.644 | 0.127 | |
| updateAssayMetadata | 0.092 | 0.020 | 0.111 | |
| write.assay.file | 0.048 | 0.000 | 0.046 | |
| write.investigation.file | 0.040 | 0.004 | 0.043 | |
| write.isatab | 0.044 | 0.004 | 0.048 | |
| write.study.file | 0.036 | 0.004 | 0.040 | |