| Back to Multiple platform build/check report for BioC 3.8 |
|
This page was generated on 2019-04-16 11:58:46 -0400 (Tue, 16 Apr 2019).
| Package 1250/1649 | Hostname | OS / Arch | INSTALL | BUILD | CHECK | BUILD BIN | ||||||
| RareVariantVis 2.10.0 Tomasz Stokowy
| malbec1 | Linux (Ubuntu 16.04.6 LTS) / x86_64 | OK | OK | OK | |||||||
| merida1 | OS X 10.11.6 El Capitan / x86_64 | ERROR | [ ERROR ] | skipped | skipped |
| Package: RareVariantVis |
| Version: 2.10.0 |
| Command: /Library/Frameworks/R.framework/Versions/Current/Resources/bin/R CMD build --keep-empty-dirs --no-resave-data RareVariantVis |
| StartedAt: 2019-04-15 20:26:16 -0400 (Mon, 15 Apr 2019) |
| EndedAt: 2019-04-15 20:26:31 -0400 (Mon, 15 Apr 2019) |
| EllapsedTime: 15.2 seconds |
| RetCode: 1 |
| Status: ERROR |
| PackageFile: None |
| PackageFileSize: NA |
##############################################################################
##############################################################################
###
### Running command:
###
### /Library/Frameworks/R.framework/Versions/Current/Resources/bin/R CMD build --keep-empty-dirs --no-resave-data RareVariantVis
###
##############################################################################
##############################################################################
* checking for file ‘RareVariantVis/DESCRIPTION’ ... OK
* preparing ‘RareVariantVis’:
* checking DESCRIPTION meta-information ... OK
* installing the package to build vignettes
-----------------------------------
* installing *source* package ‘RareVariantVis’ ...
** R
** inst
** byte-compile and prepare package for lazy loading
Creating a generic function for ‘toJSON’ from package ‘jsonlite’ in package ‘googleVis’
Error : .onLoad failed in loadNamespace() for 'phastCons100way.UCSC.hg19', details:
call: readRDS(file.path(extdata_dirpath, basename(rownames(finfo)[which.min(finfo$size)])))
error: error reading from connection
ERROR: lazy loading failed for package ‘RareVariantVis’
* removing ‘/private/tmp/RtmpPtd0Gn/Rinst451462f66dbd/RareVariantVis’
-----------------------------------
ERROR: package installation failed