| Back to Multiple platform build/check report for BioC 3.8 |
|
This page was generated on 2019-04-13 11:27:57 -0400 (Sat, 13 Apr 2019).
| Package 1364/1649 | Hostname | OS / Arch | INSTALL | BUILD | CHECK | BUILD BIN | ||||||
| RTNsurvival 1.6.2 Clarice Groeneveld
| malbec1 | Linux (Ubuntu 16.04.6 LTS) / x86_64 | OK | OK | OK | |||||||
| tokay1 | Windows Server 2012 R2 Standard / x64 | OK | OK | OK | [ OK ] | |||||||
| merida1 | OS X 10.11.6 El Capitan / x86_64 | OK | OK | OK | OK |
| Package: RTNsurvival |
| Version: 1.6.2 |
| Command: rm -rf RTNsurvival.buildbin-libdir && mkdir RTNsurvival.buildbin-libdir && C:\Users\biocbuild\bbs-3.8-bioc\R\bin\R.exe CMD INSTALL --merge-multiarch --build --library=RTNsurvival.buildbin-libdir RTNsurvival_1.6.2.tar.gz |
| StartedAt: 2019-04-13 07:54:13 -0400 (Sat, 13 Apr 2019) |
| EndedAt: 2019-04-13 07:54:39 -0400 (Sat, 13 Apr 2019) |
| EllapsedTime: 25.8 seconds |
| RetCode: 0 |
| Status: OK |
| PackageFile: RTNsurvival_1.6.2.zip |
| PackageFileSize: 842.7 KiB |
##############################################################################
##############################################################################
###
### Running command:
###
### rm -rf RTNsurvival.buildbin-libdir && mkdir RTNsurvival.buildbin-libdir && C:\Users\biocbuild\bbs-3.8-bioc\R\bin\R.exe CMD INSTALL --merge-multiarch --build --library=RTNsurvival.buildbin-libdir RTNsurvival_1.6.2.tar.gz
###
##############################################################################
##############################################################################
install for i386
* installing *source* package 'RTNsurvival' ...
** R
** data
*** moving datasets to lazyload DB
** inst
** byte-compile and prepare package for lazy loading
** help
*** installing help indices
converting help for package 'RTNsurvival'
finding HTML links ... done
RTNsurvival-package html
TNS-class html
finding level-2 HTML links ... done
TNS.data html
tni2tnsPreprocess-methods html
tnsAREA3-methods html
tnsCox-methods html
tnsCoxInteraction-methods html
tnsGSEA2-methods html
tnsGet-methods html
tnsInteraction-methods html
tnsKM-methods html
tnsKmInteraction-methods html
tnsPlotCox-methods html
tnsPlotCoxInteraction-methods html
tnsPlotGSEA2-methods html
tnsPlotKM-methods html
tnsPlotKmInteraction-methods html
tnsStratification html
** building package indices
** installing vignettes
** testing if installed package can be loaded
In R CMD INSTALL
install for x64
* installing *source* package 'RTNsurvival' ...
** testing if installed package can be loaded
* MD5 sums
packaged installation of 'RTNsurvival' as RTNsurvival_1.6.2.zip
* DONE (RTNsurvival)
In R CMD INSTALL
In R CMD INSTALL