| Back to Multiple platform build/check report for BioC 3.8 |
|
This page was generated on 2019-04-13 11:19:11 -0400 (Sat, 13 Apr 2019).
| Package 1337/1649 | Hostname | OS / Arch | INSTALL | BUILD | CHECK | BUILD BIN | ||||||
| ROC 1.58.0 Vince Carey
| malbec1 | Linux (Ubuntu 16.04.6 LTS) / x86_64 | OK | OK | OK | |||||||
| tokay1 | Windows Server 2012 R2 Standard / x64 | OK | OK | OK | [ OK ] | |||||||
| merida1 | OS X 10.11.6 El Capitan / x86_64 | OK | OK | OK | OK |
| Package: ROC |
| Version: 1.58.0 |
| Command: rm -rf ROC.buildbin-libdir && mkdir ROC.buildbin-libdir && C:\Users\biocbuild\bbs-3.8-bioc\R\bin\R.exe CMD INSTALL --merge-multiarch --build --library=ROC.buildbin-libdir ROC_1.58.0.tar.gz |
| StartedAt: 2019-04-13 07:53:11 -0400 (Sat, 13 Apr 2019) |
| EndedAt: 2019-04-13 07:53:21 -0400 (Sat, 13 Apr 2019) |
| EllapsedTime: 9.5 seconds |
| RetCode: 0 |
| Status: OK |
| PackageFile: ROC_1.58.0.zip |
| PackageFileSize: 200.8 KiB |
##############################################################################
##############################################################################
###
### Running command:
###
### rm -rf ROC.buildbin-libdir && mkdir ROC.buildbin-libdir && C:\Users\biocbuild\bbs-3.8-bioc\R\bin\R.exe CMD INSTALL --merge-multiarch --build --library=ROC.buildbin-libdir ROC_1.58.0.tar.gz
###
##############################################################################
##############################################################################
install for i386
* installing *source* package 'ROC' ...
** libs
C:/Rtools/mingw_32/bin/g++ -I"C:/Users/BIOCBU˜1/BBS-3˜1.8-B/R/include" -DNDEBUG -I"C:/extsoft/include" -O2 -Wall -mtune=generic -c ROC.cc -o ROC.o
C:/Rtools/mingw_32/bin/g++ -shared -s -static-libgcc -o ROC.dll tmp.def ROC.o -LC:/extsoft/lib/i386 -LC:/extsoft/lib -LC:/Users/BIOCBU˜1/BBS-3˜1.8-B/R/bin/i386 -lR
installing to C:/Users/biocbuild/bbs-3.8-bioc/meat/ROC.buildbin-libdir/ROC/libs/i386
** R
** inst
** byte-compile and prepare package for lazy loading
** help
*** installing help indices
converting help for package 'ROC'
finding HTML links ... done
AUC html
plot-methods html
rocc-class html
rocdemo.sca html
trapezint html
** building package indices
** installing vignettes
** testing if installed package can be loaded
In R CMD INSTALL
install for x64
* installing *source* package 'ROC' ...
** libs
C:/Rtools/mingw_64/bin/g++ -I"C:/Users/BIOCBU˜1/BBS-3˜1.8-B/R/include" -DNDEBUG -I"C:/extsoft/include" -O2 -Wall -mtune=generic -c ROC.cc -o ROC.o
C:/Rtools/mingw_64/bin/g++ -shared -s -static-libgcc -o ROC.dll tmp.def ROC.o -LC:/extsoft/lib/x64 -LC:/extsoft/lib -LC:/Users/BIOCBU˜1/BBS-3˜1.8-B/R/bin/x64 -lR
installing to C:/Users/biocbuild/bbs-3.8-bioc/meat/ROC.buildbin-libdir/ROC/libs/x64
** testing if installed package can be loaded
* MD5 sums
packaged installation of 'ROC' as ROC_1.58.0.zip
* DONE (ROC)
In R CMD INSTALL
In R CMD INSTALL