| Back to Multiple platform build/check report for BioC 3.8 |
|
This page was generated on 2019-04-16 11:48:38 -0400 (Tue, 16 Apr 2019).
| Package 1327/1649 | Hostname | OS / Arch | INSTALL | BUILD | CHECK | BUILD BIN | ||||||
| RNAither 2.30.1 Lars Kaderali
| malbec1 | Linux (Ubuntu 16.04.6 LTS) / x86_64 | OK | OK | [ OK ] | |||||||
| merida1 | OS X 10.11.6 El Capitan / x86_64 | OK | OK | OK | OK |
| Package: RNAither |
| Version: 2.30.1 |
| Command: /home/biocbuild/bbs-3.8-bioc/R/bin/R CMD check --install=check:RNAither.install-out.txt --library=/home/biocbuild/bbs-3.8-bioc/R/library --no-vignettes --timings RNAither_2.30.1.tar.gz |
| StartedAt: 2019-04-16 02:41:07 -0400 (Tue, 16 Apr 2019) |
| EndedAt: 2019-04-16 02:44:20 -0400 (Tue, 16 Apr 2019) |
| EllapsedTime: 192.9 seconds |
| RetCode: 0 |
| Status: OK |
| CheckDir: RNAither.Rcheck |
| Warnings: 0 |
##############################################################################
##############################################################################
###
### Running command:
###
### /home/biocbuild/bbs-3.8-bioc/R/bin/R CMD check --install=check:RNAither.install-out.txt --library=/home/biocbuild/bbs-3.8-bioc/R/library --no-vignettes --timings RNAither_2.30.1.tar.gz
###
##############################################################################
##############################################################################
* using log directory ‘/home/biocbuild/bbs-3.8-bioc/meat/RNAither.Rcheck’
* using R version 3.5.3 (2019-03-11)
* using platform: x86_64-pc-linux-gnu (64-bit)
* using session charset: UTF-8
* using option ‘--no-vignettes’
* checking for file ‘RNAither/DESCRIPTION’ ... OK
* this is package ‘RNAither’ version ‘2.30.1’
* checking package namespace information ... OK
* checking package dependencies ... OK
* checking if this is a source package ... OK
* checking if there is a namespace ... OK
* checking for hidden files and directories ... OK
* checking for portable file names ... OK
* checking for sufficient/correct file permissions ... OK
* checking whether package ‘RNAither’ can be installed ... OK
* checking installed package size ... OK
* checking package directory ... OK
* checking ‘build’ directory ... OK
* checking DESCRIPTION meta-information ... OK
* checking top-level files ... OK
* checking for left-over files ... OK
* checking index information ... OK
* checking package subdirectories ... NOTE
Found the following CITATION file in a non-standard place:
inst/extdata/CITATION
Most likely ‘inst/CITATION’ should be used instead.
* checking R files for non-ASCII characters ... OK
* checking R files for syntax errors ... OK
* checking whether the package can be loaded ... OK
* checking whether the package can be loaded with stated dependencies ... OK
* checking whether the package can be unloaded cleanly ... OK
* checking whether the namespace can be loaded with stated dependencies ... OK
* checking whether the namespace can be unloaded cleanly ... OK
* checking dependencies in R code ... NOTE
Package in Depends field not imported from: ‘RankProd’
These packages need to be imported from (in the NAMESPACE file)
for when this namespace is loaded but not attached.
* checking S3 generic/method consistency ... OK
* checking replacement functions ... OK
* checking foreign function calls ... OK
* checking R code for possible problems ... NOTE
PlotSpatialDistrib: no visible global function definition for
‘brewer.pal’
RankProduct: no visible global function definition for ‘RP’
compareReplicateSD: no visible global function definition for
‘brewer.pal’
compareReplicateSDPerScreen: no visible global function definition for
‘brewer.pal’
spatialDistrib: no visible global function definition for ‘brewer.pal’
Undefined global functions or variables:
RP brewer.pal
* checking Rd files ... OK
* checking Rd metadata ... OK
* checking Rd cross-references ... OK
* checking for missing documentation entries ... OK
* checking for code/documentation mismatches ... OK
* checking Rd \usage sections ... OK
* checking Rd contents ... OK
* checking for unstated dependencies in examples ... OK
* checking contents of ‘data’ directory ... OK
* checking data for non-ASCII characters ... OK
* checking data for ASCII and uncompressed saves ... OK
* checking files in ‘vignettes’ ... OK
* checking examples ... OK
Examples with CPU or elapsed time > 5s
user system elapsed
mainAnalysis 15.756 0.232 16.019
rnaither 9.148 0.052 9.228
gseaAnalysis 5.108 0.032 10.905
* checking for unstated dependencies in vignettes ... OK
* checking package vignettes in ‘inst/doc’ ... OK
* checking running R code from vignettes ... SKIPPED
* checking re-building of vignette outputs ... SKIPPED
* checking PDF version of manual ... OK
* DONE
Status: 3 NOTEs
See
‘/home/biocbuild/bbs-3.8-bioc/meat/RNAither.Rcheck/00check.log’
for details.
RNAither.Rcheck/00install.out
############################################################################## ############################################################################## ### ### Running command: ### ### /home/biocbuild/bbs-3.8-bioc/R/bin/R CMD INSTALL RNAither ### ############################################################################## ############################################################################## * installing to library ‘/home/biocbuild/bbs-3.8-bioc/R/library’ * installing *source* package ‘RNAither’ ... ** R ** data ** inst ** byte-compile and prepare package for lazy loading groupGOTerms: GOBPTerm, GOMFTerm, GOCCTerm environments built. ** help *** installing help indices ** building package indices ** installing vignettes ** testing if installed package can be loaded groupGOTerms: GOBPTerm, GOMFTerm, GOCCTerm environments built. * DONE (RNAither)
RNAither.Rcheck/RNAither-Ex.timings
| name | user | system | elapsed | |
| BScore | 0.040 | 0.000 | 0.043 | |
| DRQualControl | 0.024 | 0.000 | 0.023 | |
| LiWongRank | 0.088 | 0.000 | 0.091 | |
| MannWhitney | 0.036 | 0.000 | 0.037 | |
| RankProduct | 0.104 | 0.004 | 0.107 | |
| SNRQualControl | 0.02 | 0.00 | 0.02 | |
| Ttest | 0.020 | 0.000 | 0.022 | |
| ZPRIMEQualControl | 0.048 | 0.004 | 0.055 | |
| ZScore | 0.008 | 0.000 | 0.007 | |
| ZScorePerScreen | 0.004 | 0.000 | 0.006 | |
| ZScorePlot | 0.028 | 0.008 | 0.036 | |
| ZScorePlotTwo | 0.016 | 0.000 | 0.016 | |
| channelPlot | 0.02 | 0.00 | 0.02 | |
| closestToZero | 0.000 | 0.000 | 0.002 | |
| compareHits | 0.028 | 0.000 | 0.027 | |
| compareReplicaPlates | 0.008 | 0.004 | 0.011 | |
| compareReplicateSD | 0.112 | 0.000 | 0.110 | |
| compareReplicateSDPerScreen | 0.180 | 0.000 | 0.183 | |
| compareReplicates | 0.076 | 0.000 | 0.078 | |
| controlDensity | 0.040 | 0.000 | 0.039 | |
| controlDensityPerPlate | 0.100 | 0.004 | 0.102 | |
| controlDensityPerScreen | 0.044 | 0.000 | 0.047 | |
| controlNorm | 0.004 | 0.000 | 0.007 | |
| createSubset | 0.004 | 0.000 | 0.001 | |
| discardLabtek | 0.000 | 0.000 | 0.002 | |
| discardWells | 0.000 | 0.000 | 0.002 | |
| divNorm | 0.008 | 0.000 | 0.007 | |
| divideChannels | 0.000 | 0.000 | 0.002 | |
| eraseDataSetColumn | 0.004 | 0.000 | 0.006 | |
| findReplicates | 0.004 | 0.000 | 0.002 | |
| furthestFromZero | 0.000 | 0.000 | 0.001 | |
| generateDatasetFile | 0.008 | 0.000 | 0.008 | |
| generateRepMatNoFilter | 0.004 | 0.000 | 0.003 | |
| generateReplicateMat | 0.008 | 0.000 | 0.005 | |
| gseaAnalysis | 5.108 | 0.032 | 10.905 | |
| hitselectionPval | 0.008 | 0.004 | 0.014 | |
| hitselectionZscore | 0.020 | 0.000 | 0.017 | |
| hitselectionZscorePval | 0.012 | 0.004 | 0.016 | |
| incorporatepValVec | 0.008 | 0.000 | 0.009 | |
| indexSubset | 0.004 | 0.000 | 0.002 | |
| joinDatasetFiles | 0.176 | 0.004 | 0.179 | |
| joinDatasets | 0.004 | 0.000 | 0.002 | |
| lowessNorm | 0.004 | 0.000 | 0.007 | |
| mainAnalysis | 15.756 | 0.232 | 16.019 | |
| makeBoxplot4PlateType | 0.044 | 0.000 | 0.046 | |
| makeBoxplotControls | 0.024 | 0.000 | 0.026 | |
| makeBoxplotControlsPerPlate | 0.100 | 0.000 | 0.097 | |
| makeBoxplotControlsPerScreen | 0.048 | 0.004 | 0.053 | |
| makeBoxplotPerPlate | 0.048 | 0.000 | 0.048 | |
| makeBoxplotPerScreen | 0.024 | 0.000 | 0.026 | |
| multTestAdjust | 0.000 | 0.004 | 0.002 | |
| numCellQualControl | 0.044 | 0.000 | 0.044 | |
| orderGeneIDs | 0.072 | 0.000 | 0.072 | |
| percCellQualControl | 0.028 | 0.000 | 0.028 | |
| plotBar | 0.108 | 0.004 | 0.112 | |
| plotControlHisto | 0.068 | 0.004 | 0.073 | |
| plotControlHistoPerplate | 0.312 | 0.008 | 0.320 | |
| plotControlHistoPerscreen | 0.168 | 0.000 | 0.169 | |
| plotHisto | 0.020 | 0.000 | 0.019 | |
| plotHistoPerplate | 0.076 | 0.000 | 0.074 | |
| plotHistoPerscreen | 0.036 | 0.000 | 0.037 | |
| plotQQ | 0.020 | 0.000 | 0.021 | |
| plotQQperplate | 0.068 | 0.000 | 0.066 | |
| plotQQperscreen | 0.028 | 0.000 | 0.027 | |
| quantileNormalization | 0.012 | 0.000 | 0.011 | |
| replicatesCV | 0.028 | 0.000 | 0.028 | |
| replicatesSpearmancor | 0.012 | 0.000 | 0.012 | |
| rms | 0.004 | 0.000 | 0.001 | |
| rnaither | 9.148 | 0.052 | 9.228 | |
| saveDataset | 0.012 | 0.000 | 0.009 | |
| saveOldIntensityColumns | 0.000 | 0.000 | 0.002 | |
| savepValVec | 0.000 | 0.000 | 0.002 | |
| spatialDistrib | 0.280 | 0.008 | 0.287 | |
| spatialDistribHits | 0.404 | 0.000 | 0.403 | |
| subtractBackground | 0.004 | 0.000 | 0.004 | |
| sumChannels | 0.008 | 0.000 | 0.009 | |
| summarizeReps | 0.040 | 0.000 | 0.041 | |
| summarizeRepsNoFiltering | 0.040 | 0.000 | 0.039 | |
| trim | 0.004 | 0.000 | 0.003 | |
| varAdjust | 0.004 | 0.004 | 0.007 | |
| vennDiag | 0.072 | 0.004 | 0.075 | |
| volcanoPlot | 0.064 | 0.004 | 0.070 | |