| Back to Multiple platform build/check report for BioC 3.8 |
|
This page was generated on 2019-04-13 11:26:15 -0400 (Sat, 13 Apr 2019).
| Package 1300/1649 | Hostname | OS / Arch | INSTALL | BUILD | CHECK | BUILD BIN | ||||||
| RGraph2js 1.10.0 Stephane Cano
| malbec1 | Linux (Ubuntu 16.04.6 LTS) / x86_64 | OK | OK | OK | |||||||
| tokay1 | Windows Server 2012 R2 Standard / x64 | OK | OK | OK | [ OK ] | |||||||
| merida1 | OS X 10.11.6 El Capitan / x86_64 | OK | OK | OK | OK |
| Package: RGraph2js |
| Version: 1.10.0 |
| Command: rm -rf RGraph2js.buildbin-libdir && mkdir RGraph2js.buildbin-libdir && C:\Users\biocbuild\bbs-3.8-bioc\R\bin\R.exe CMD INSTALL --merge-multiarch --build --library=RGraph2js.buildbin-libdir RGraph2js_1.10.0.tar.gz |
| StartedAt: 2019-04-13 07:51:45 -0400 (Sat, 13 Apr 2019) |
| EndedAt: 2019-04-13 07:51:56 -0400 (Sat, 13 Apr 2019) |
| EllapsedTime: 11.6 seconds |
| RetCode: 0 |
| Status: OK |
| PackageFile: RGraph2js_1.10.0.zip |
| PackageFileSize: 1.526 MiB |
##############################################################################
##############################################################################
###
### Running command:
###
### rm -rf RGraph2js.buildbin-libdir && mkdir RGraph2js.buildbin-libdir && C:\Users\biocbuild\bbs-3.8-bioc\R\bin\R.exe CMD INSTALL --merge-multiarch --build --library=RGraph2js.buildbin-libdir RGraph2js_1.10.0.tar.gz
###
##############################################################################
##############################################################################
install for i386
* installing *source* package 'RGraph2js' ...
** R
** inst
** byte-compile and prepare package for lazy loading
** help
*** installing help indices
converting help for package 'RGraph2js'
finding HTML links ... done
generateOptionsJSCode html
getAdjMat html
getDefaultOptions html
getDefaultToolParameters html
getEdgesDataFrame html
getHTMLContainerCode html
getHTMLStyleCode html
getJSCode html
getNodesDataFrame html
getUUID html
graph2js html
graph2json html
** building package indices
** installing vignettes
** testing if installed package can be loaded
In R CMD INSTALL
install for x64
* installing *source* package 'RGraph2js' ...
** testing if installed package can be loaded
* MD5 sums
packaged installation of 'RGraph2js' as RGraph2js_1.10.0.zip
* DONE (RGraph2js)
In R CMD INSTALL
In R CMD INSTALL